BEGIN:VCALENDAR
VERSION:2.0
PRODID:-//The New Bedford Light - ECPv6.15.20//NONSGML v1.0//EN
CALSCALE:GREGORIAN
METHOD:PUBLISH
X-ORIGINAL-URL:https://newbedfordlight.org
X-WR-CALDESC:Events for The New Bedford Light
REFRESH-INTERVAL;VALUE=DURATION:PT1H
X-Robots-Tag:noindex
X-PUBLISHED-TTL:PT1H
BEGIN:VTIMEZONE
TZID:America/New_York
BEGIN:DAYLIGHT
TZOFFSETFROM:-0500
TZOFFSETTO:-0400
TZNAME:EDT
DTSTART:20250309T070000
END:DAYLIGHT
BEGIN:STANDARD
TZOFFSETFROM:-0400
TZOFFSETTO:-0500
TZNAME:EST
DTSTART:20251102T060000
END:STANDARD
BEGIN:DAYLIGHT
TZOFFSETFROM:-0500
TZOFFSETTO:-0400
TZNAME:EDT
DTSTART:20260308T070000
END:DAYLIGHT
BEGIN:STANDARD
TZOFFSETFROM:-0400
TZOFFSETTO:-0500
TZNAME:EST
DTSTART:20261101T060000
END:STANDARD
BEGIN:DAYLIGHT
TZOFFSETFROM:-0500
TZOFFSETTO:-0400
TZNAME:EDT
DTSTART:20270314T070000
END:DAYLIGHT
BEGIN:STANDARD
TZOFFSETFROM:-0400
TZOFFSETTO:-0500
TZNAME:EST
DTSTART:20271107T060000
END:STANDARD
END:VTIMEZONE
BEGIN:VEVENT
DTSTART;TZID=America/New_York:20260422T130000
DTEND;TZID=America/New_York:20260422T130000
DTSTAMP:20260422T103257
CREATED:20260421T143210Z
LAST-MODIFIED:20260421T143210Z
UID:10163850-1776862800-1776862800@newbedfordlight.org
SUMMARY:The Chat: An Hour with New Bedford Mayor Jon Mitchell
DESCRIPTION:Jon Mitchell has been mayor of New Bedford longer than anyone in the modern era. \nThe only rival to his 14 straight years in office is Charles Ashley\, and Ashley served 23 of his 33 years in office in sporadic one-year terms when city government was nothing like today’s $561 million-a-year operation. \nHalfway through his sixth term in office\, and well into his 15th year leading the city\, Mayor Mitchell will be Jack Spillane’s guest on The Chat for the full hour. \nJoin Jack on April 22 at 1 p.m. as he talks with this most consequential chief executive in the city’s modern era\, and learns what Mitchell’s goals are for the future.
URL:https://newbedfordlight.org/event/the-chat-an-hour-with-new-bedford-mayor-jon-mitchell/
LOCATION:Zoom Meeting
CATEGORIES:Civic Life
ATTACH;FMTTYPE=image/jpeg:https://newbedfordlight.org/wp-content/uploads/2026/04/chat-mayor-mitchell.jpg
END:VEVENT
BEGIN:VEVENT
DTSTART;TZID=America/New_York:20260422T140000
DTEND;TZID=America/New_York:20260422T150000
DTSTAMP:20260422T103257
CREATED:20251118T170131Z
LAST-MODIFIED:20251118T170131Z
UID:10145841-1776866400-1776870000@newbedfordlight.org
SUMMARY:Weekly Emergency Food Resource Meetings
DESCRIPTION:Weekly virtual meetings address gaps in emergency food resources in Southeastern Massachusetts. Sessions are on Wednesdays from 2 to 3 p.m. The same Zoom link is used each week. \nSouthcoast Food Policy Council will lead the discussion. The focus is on preparing for disruptions to food relief programs and strengthening the regional food system. \nThe meetings aim to bring people together and find common challenges while building practical solutions. Anyone involved in food recovery or institutional food service or food justice work is welcome to participate.
URL:https://newbedfordlight.org/event/weekly-emergency-food-resource-meetings/2026-04-22/
LOCATION:Zoom Meeting
CATEGORIES:Civic Life
ATTACH;FMTTYPE=image/jpeg:https://newbedfordlight.org/wp-content/uploads/2025/11/weekly-food-source-meeting.jpg
ORGANIZER;CN="Southcoast Food Policy Council":MAILTO:chris@marioninstitute.org
END:VEVENT
BEGIN:VEVENT
DTSTART;TZID=America/New_York:20260428T153000
DTEND;TZID=America/New_York:20260428T170000
DTSTAMP:20260422T103257
CREATED:20260324T222430Z
LAST-MODIFIED:20260324T222430Z
UID:10162548-1777390200-1777395600@newbedfordlight.org
SUMMARY:SYAC Virtual Watch Party
DESCRIPTION:Join a vibrant virtual Watch Party hosted by the Statewide Young Adult Council\, where young adults connect around mental health and advocacy. \nOpen to individuals ages 16 to 30\, the gathering features guest speakers\, peer-led discussion and networking. \nSessions take place on the fourth Tuesday of each month from 3:30 to 5 p.m. Attendance is free and virtual. \nFor more information\, contact cmills@ppal.net.
URL:https://newbedfordlight.org/event/syac-virtual-watch-party/2026-04-28/
LOCATION:Zoom Meeting
CATEGORIES:Civic Life
ATTACH;FMTTYPE=image/jpeg:https://newbedfordlight.org/wp-content/uploads/2026/03/Youth-council.jpg
END:VEVENT
END:VCALENDAR