BEGIN:VCALENDAR
VERSION:2.0
PRODID:-//The New Bedford Light - ECPv6.15.20//NONSGML v1.0//EN
CALSCALE:GREGORIAN
METHOD:PUBLISH
X-ORIGINAL-URL:https://newbedfordlight.org
X-WR-CALDESC:Events for The New Bedford Light
REFRESH-INTERVAL;VALUE=DURATION:PT1H
X-Robots-Tag:noindex
X-PUBLISHED-TTL:PT1H
BEGIN:VTIMEZONE
TZID:America/New_York
BEGIN:DAYLIGHT
TZOFFSETFROM:-0500
TZOFFSETTO:-0400
TZNAME:EDT
DTSTART:20250309T070000
END:DAYLIGHT
BEGIN:STANDARD
TZOFFSETFROM:-0400
TZOFFSETTO:-0500
TZNAME:EST
DTSTART:20251102T060000
END:STANDARD
BEGIN:DAYLIGHT
TZOFFSETFROM:-0500
TZOFFSETTO:-0400
TZNAME:EDT
DTSTART:20260308T070000
END:DAYLIGHT
BEGIN:STANDARD
TZOFFSETFROM:-0400
TZOFFSETTO:-0500
TZNAME:EST
DTSTART:20261101T060000
END:STANDARD
BEGIN:DAYLIGHT
TZOFFSETFROM:-0500
TZOFFSETTO:-0400
TZNAME:EDT
DTSTART:20270314T070000
END:DAYLIGHT
BEGIN:STANDARD
TZOFFSETFROM:-0400
TZOFFSETTO:-0500
TZNAME:EST
DTSTART:20271107T060000
END:STANDARD
END:VTIMEZONE
BEGIN:VEVENT
DTSTART;TZID=America/New_York:20260421T173000
DTEND;TZID=America/New_York:20260421T173000
DTSTAMP:20260422T102821
CREATED:20260415T010441Z
LAST-MODIFIED:20260415T010441Z
UID:10163794-1776792600-1776792600@newbedfordlight.org
SUMMARY:A Conversation with BalletRI
DESCRIPTION:Join BalletRI dancers in a panel discussion with Artistic Director\, Kathleen Breen Combs\, facilitated by Shura Baryshnikov. This demonstration and conversation offers insight to the creation and production of a world-class ballet program\, including excerpts from BalletRI PURE DANCE. This ballet celebrates the power\, precision\, and poetry of the moving body. \nFrom the effervescent brilliance of George Balanchine’s Allegro Brillante to the meditative intimacy of Christopher Wheeldon’s Liturgy\, to the raw\, contemporary pulse of Yury Yanowsky’s Fading Creatures\, this program reveals the body as both instrument and storyteller. \nThree choreographers. Three unique voices. One unforgettable journey through movement.
URL:https://newbedfordlight.org/event/a-conversation-with-balletri/
LOCATION:SoCo Movement Arts\, 201 Popes Island\, New Bedford\, MA\, 02740\, United States
CATEGORIES:Ballet,Culture Calendar,Dance
ATTACH;FMTTYPE=image/jpeg:https://newbedfordlight.org/wp-content/uploads/2026/04/BRI-for-SoCo.jpg
END:VEVENT
BEGIN:VEVENT
DTSTART;TZID=America/New_York:20260401T180000
DTEND;TZID=America/New_York:20260401T180000
DTSTAMP:20260422T102821
CREATED:20260330T160011Z
LAST-MODIFIED:20260330T160011Z
UID:10163228-1775066400-1775066400@newbedfordlight.org
SUMMARY:Parsons Dance at SoCo Movement Arts
DESCRIPTION:Parsons Dance\, one of the world’s most celebrated contemporary dance companies\, comes to SoCo Movement Arts in its new Black Box Theater on Popes Island. Tickets are $50. \nDoors open at 5 p.m. The performance begins at 6 p.m. Stay after for a live Q&A and a meet-and-greet with the dancers. This is a rare chance to engage with the artists and experience the work up close. \nAttendees will receive a code for 50 percent off tickets to Parsons Dance on April 2 at the Hanover Theatre. \nThe company was founded in 1985 by David Parsons and Howell Binkley\, and is known for its athletic ensemble work and global touring schedule.
URL:https://newbedfordlight.org/event/parsons-dance-at-soco-movement-arts/
LOCATION:SoCo Movement Arts\, 201 Popes Island\, New Bedford\, MA\, 02740\, United States
CATEGORIES:Ballet,Culture Calendar,Dance
ATTACH;FMTTYPE=image/jpeg:https://newbedfordlight.org/wp-content/uploads/2026/03/Parsons-Dance.jpg
END:VEVENT
BEGIN:VEVENT
DTSTART;TZID=America/New_York:20260401T180000
DTEND;TZID=America/New_York:20260401T180000
DTSTAMP:20260422T102821
CREATED:20260316T184922Z
LAST-MODIFIED:20260316T185008Z
UID:10162171-1775066400-1775066400@newbedfordlight.org
SUMMARY:Special Performance at the new Black Box Theater
DESCRIPTION:A special performance is scheduled for April 1 in the new black box theater at SoCo Movement Arts on Pope’s Island in New Bedford. Doors open at 5 p.m. The performance begins at 6 p.m. A question-and-answer session and a meet-and-greet with the dancers will follow. \nThe space opened in February with a nearly sold-out performance. Organizers plan additional dance programs and educational events. The venue may be the city’s first black box theater\, pending confirmation with historians. \nThe founder and director grew up in Mattapoisett and built a dance career in New York City before returning to the South Coast. The studio opened in 2020 and later rebranded as SoCo Movement Arts\, expanding its programs and adding the theater. \nA panel discussion on April 21 will feature Ballet RI Artistic Director Kathleen Breen Combs and moderator Shura Baryshnikov. Organizers say the goal is to expand arts programming on Pope’s Island.
URL:https://newbedfordlight.org/event/special-performance-at-the-new-black-box-theater/
LOCATION:SoCo Movement Arts\, 201 Popes Island\, New Bedford\, MA\, 02740\, United States
CATEGORIES:Culture Calendar,Dance,Theater
ATTACH;FMTTYPE=image/jpeg:https://newbedfordlight.org/wp-content/uploads/2026/03/black-box-theater.jpg
END:VEVENT
END:VCALENDAR