BEGIN:VCALENDAR
VERSION:2.0
PRODID:-//The New Bedford Light - ECPv6.15.20//NONSGML v1.0//EN
CALSCALE:GREGORIAN
METHOD:PUBLISH
X-WR-CALNAME:The New Bedford Light
X-ORIGINAL-URL:https://newbedfordlight.org
X-WR-CALDESC:Events for The New Bedford Light
REFRESH-INTERVAL;VALUE=DURATION:PT1H
X-Robots-Tag:noindex
X-PUBLISHED-TTL:PT1H
BEGIN:VTIMEZONE
TZID:America/New_York
BEGIN:DAYLIGHT
TZOFFSETFROM:-0500
TZOFFSETTO:-0400
TZNAME:EDT
DTSTART:20240310T070000
END:DAYLIGHT
BEGIN:STANDARD
TZOFFSETFROM:-0400
TZOFFSETTO:-0500
TZNAME:EST
DTSTART:20241103T060000
END:STANDARD
BEGIN:DAYLIGHT
TZOFFSETFROM:-0500
TZOFFSETTO:-0400
TZNAME:EDT
DTSTART:20250309T070000
END:DAYLIGHT
BEGIN:STANDARD
TZOFFSETFROM:-0400
TZOFFSETTO:-0500
TZNAME:EST
DTSTART:20251102T060000
END:STANDARD
BEGIN:DAYLIGHT
TZOFFSETFROM:-0500
TZOFFSETTO:-0400
TZNAME:EDT
DTSTART:20260308T070000
END:DAYLIGHT
BEGIN:STANDARD
TZOFFSETFROM:-0400
TZOFFSETTO:-0500
TZNAME:EST
DTSTART:20261101T060000
END:STANDARD
BEGIN:DAYLIGHT
TZOFFSETFROM:-0500
TZOFFSETTO:-0400
TZNAME:EDT
DTSTART:20270314T070000
END:DAYLIGHT
BEGIN:STANDARD
TZOFFSETFROM:-0400
TZOFFSETTO:-0500
TZNAME:EST
DTSTART:20271107T060000
END:STANDARD
END:VTIMEZONE
BEGIN:VEVENT
DTSTART;TZID=America/New_York:20260225T160000
DTEND;TZID=America/New_York:20260225T170000
DTSTAMP:20260424T140851
CREATED:20260219T195133Z
LAST-MODIFIED:20260219T195133Z
UID:10155761-1772035200-1772038800@newbedfordlight.org
SUMMARY:New Bedford Public Schools: School Building Committee meeting
DESCRIPTION:The New Bedford Public Schools School Building Committee will meet on Wednesday\, Feb. 25\, from 4 to 5 p.m. \nThe meeting will be held in Room 224 at the Paul Rodrigues Administration Building\, 455 County St.\, New Bedford. A Zoom option will also be available. \nAgenda items include approval of prior minutes\, updates on the Ashley School project\, building conditions\, and possible study options. Visioning sessions are planned for March 2 and March 11. \nThe next meeting is scheduled for March 26. ADA accommodations are available with advance notice.
URL:https://newbedfordlight.org/event/new-bedford-public-schools-school-building-committee-meeting/
LOCATION:Paul Rodrigues Administration Building\,\, 455 County St.\, New Bedford\, MA\, United States
CATEGORIES:Civic Life,Education
ATTACH;FMTTYPE=image/png:https://newbedfordlight.org/wp-content/uploads/2024/12/NBPSlog-e1757012272257.png
END:VEVENT
BEGIN:VEVENT
DTSTART;TZID=America/New_York:20260224T173000
DTEND;TZID=America/New_York:20260224T173000
DTSTAMP:20260424T140851
CREATED:20260219T193440Z
LAST-MODIFIED:20260219T193440Z
UID:10155759-1771954200-1771954200@newbedfordlight.org
SUMMARY:School Committee Governance and Policy Sub-Committee meeting
DESCRIPTION:The New Bedford School Committee Governance and Policy Sub-Committee will meet at 5:30 p.m. Tuesday\, Feb. 24\, in Room 224 of the Paul Rodrigues Administration Building.\n\nThe agenda includes roll call\, approval of the Oct. 23\, 2025\, minutes\, and a discussion of the policy manual review.\n\nThe next regular meeting is scheduled for May 19\, 2026.
URL:https://newbedfordlight.org/event/school-committee-governance-and-policy-sub-committee-meeting/
LOCATION:Paul Rodrigues Administration Building\,\, 455 County St.\, New Bedford\, MA\, United States
CATEGORIES:Civic Life,Education
ATTACH;FMTTYPE=image/png:https://newbedfordlight.org/wp-content/uploads/2024/12/NBPSlog-e1757012272257.png
END:VEVENT
BEGIN:VEVENT
DTSTART;TZID=America/New_York:20251201T170000
DTEND;TZID=America/New_York:20251201T170000
DTSTAMP:20260424T140851
CREATED:20251125T200911Z
LAST-MODIFIED:20251125T200911Z
UID:10146208-1764608400-1764608400@newbedfordlight.org
SUMMARY:New Bedford School Committee: Finance & Operations Sub-Committee Meeting (remote only)
DESCRIPTION:Finance & Operations: Monday\, Dec. 1\, 2025\, 5 p.m.\, remote only \nView the meeting at newbedfordschools.org under “Our Schools/Our Community\,” then “School Committee.” \n\nRoll call and call to order.\nApproval of minutes from November 2025\nReports include Finance Reports for FY26\, a surplus excess property report for September 2025\, donation requests for November 2025\, the 2025 facilities rental report\, and a building projects update.
URL:https://newbedfordlight.org/event/new-bedford-school-committee-finance-operations-sub-committee-meeting-remote-only/
LOCATION:Paul Rodrigues Administration Building\,\, 455 County St.\, New Bedford\, MA\, United States
CATEGORIES:Civic Life,Education
ATTACH;FMTTYPE=image/png:https://newbedfordlight.org/wp-content/uploads/2024/12/NBPSlog-e1757012272257.png
END:VEVENT
BEGIN:VEVENT
DTSTART;TZID=America/New_York:20251103T170000
DTEND;TZID=America/New_York:20251103T170000
DTSTAMP:20260424T140851
CREATED:20251030T160613Z
LAST-MODIFIED:20251030T160613Z
UID:10139495-1762189200-1762189200@newbedfordlight.org
SUMMARY:New Bedford School Committee: Sub-Committee Meeting
DESCRIPTION:Finance & Operations: Monday\, Nov. 3\, 2025\, 5 p.m.\, PRAB\, Room 224 \nAgenda TBA\nAlso available via Zoom\nMeeting ID: 889 6852 7379\nPasscode: 321889 \nSend public comments to PublicComments@newbedfordschools.org. Comments must be submitted no later than 3 p.m. on the meeting day.
URL:https://newbedfordlight.org/event/new-bedford-school-committee-sub-committee-meeting/
LOCATION:Paul Rodrigues Administration Building\,\, 455 County St.\, New Bedford\, MA\, United States
CATEGORIES:Civic Life,Government,Schools
ATTACH;FMTTYPE=image/png:https://newbedfordlight.org/wp-content/uploads/2021/12/nb-city-seal-600w-1-e1761084051305.png
END:VEVENT
END:VCALENDAR