BEGIN:VCALENDAR
VERSION:2.0
PRODID:-//The New Bedford Light - ECPv6.15.20//NONSGML v1.0//EN
CALSCALE:GREGORIAN
METHOD:PUBLISH
X-WR-CALNAME:The New Bedford Light
X-ORIGINAL-URL:https://newbedfordlight.org
X-WR-CALDESC:Events for The New Bedford Light
REFRESH-INTERVAL;VALUE=DURATION:PT1H
X-Robots-Tag:noindex
X-PUBLISHED-TTL:PT1H
BEGIN:VTIMEZONE
TZID:America/New_York
BEGIN:DAYLIGHT
TZOFFSETFROM:-0500
TZOFFSETTO:-0400
TZNAME:EDT
DTSTART:20240310T070000
END:DAYLIGHT
BEGIN:STANDARD
TZOFFSETFROM:-0400
TZOFFSETTO:-0500
TZNAME:EST
DTSTART:20241103T060000
END:STANDARD
BEGIN:DAYLIGHT
TZOFFSETFROM:-0500
TZOFFSETTO:-0400
TZNAME:EDT
DTSTART:20250309T070000
END:DAYLIGHT
BEGIN:STANDARD
TZOFFSETFROM:-0400
TZOFFSETTO:-0500
TZNAME:EST
DTSTART:20251102T060000
END:STANDARD
BEGIN:DAYLIGHT
TZOFFSETFROM:-0500
TZOFFSETTO:-0400
TZNAME:EDT
DTSTART:20260308T070000
END:DAYLIGHT
BEGIN:STANDARD
TZOFFSETFROM:-0400
TZOFFSETTO:-0500
TZNAME:EST
DTSTART:20261101T060000
END:STANDARD
BEGIN:DAYLIGHT
TZOFFSETFROM:-0500
TZOFFSETTO:-0400
TZNAME:EDT
DTSTART:20270314T070000
END:DAYLIGHT
BEGIN:STANDARD
TZOFFSETFROM:-0400
TZOFFSETTO:-0500
TZNAME:EST
DTSTART:20271107T060000
END:STANDARD
END:VTIMEZONE
BEGIN:VEVENT
DTSTART;TZID=America/New_York:20260415T100000
DTEND;TZID=America/New_York:20260415T120000
DTSTAMP:20260422T060506
CREATED:20250310T012659Z
LAST-MODIFIED:20250310T012659Z
UID:10125030-1776247200-1776254400@newbedfordlight.org
SUMMARY:Watercolor Painting Class
DESCRIPTION:Learn watercolor painting through practice and technique in this four-week workshop. Students will explore various techniques like wet-on-wet\, wet-on-damp\, and masking fluid\, as well as color mixing and brushwork. The class covers practical tools and methods\, including the use of salt\, plastic wrap\, and magic erasers to enhance work. \nThe $145 fee covers all four weeks.
URL:https://newbedfordlight.org/event/watercolor-painting-class/2026-04-15/
LOCATION:New Bedford Arts & Cultural Emporium\, 101 West Rodney French Blvd\, Suite 2-60\, New Bedford\, MA\, 02744\, United States
CATEGORIES:Art,Class,Culture Calendar
ATTACH;FMTTYPE=image/jpeg:https://newbedfordlight.org/wp-content/uploads/2025/03/watercolor.jpg
END:VEVENT
BEGIN:VEVENT
DTSTART;TZID=America/New_York:20260328T100000
DTEND;TZID=America/New_York:20260328T140000
DTSTAMP:20260422T060506
CREATED:20260224T231936Z
LAST-MODIFIED:20260224T231936Z
UID:10157374-1774692000-1774706400@newbedfordlight.org
SUMMARY:Cigar Box Guitar Workshop
DESCRIPTION:Build a unique\, electrified cigar box guitar in a hands-on workshop with Jason. Students will make a one-of-a-kind three-stringed slide guitar that can be played acoustically or through an amp. \nWith a simple cigar box as the body\, participants will sand\, cut\, and assemble wood\, strings\, tuners\, and pickups. \nThe workshop is on Saturday\, March 28\, from 10 a.m. to 2 p.m. Cost is $125\, which includes materials\, tools\, and instruction.
URL:https://newbedfordlight.org/event/cigar-box-guitar-workshop/
LOCATION:New Bedford Arts & Cultural Emporium\, 101 West Rodney French Blvd\, Suite 2-60\, New Bedford\, MA\, 02744\, United States
CATEGORIES:Art,Culture Calendar,Workshop
ATTACH;FMTTYPE=image/jpeg:https://newbedfordlight.org/wp-content/uploads/2025/10/cigar-Guitar-ja1.jpeg
END:VEVENT
BEGIN:VEVENT
DTSTART;TZID=America/New_York:20260221T100000
DTEND;TZID=America/New_York:20260221T130000
DTSTAMP:20260422T060506
CREATED:20260118T183252Z
LAST-MODIFIED:20260118T183252Z
UID:10152601-1771668000-1771678800@newbedfordlight.org
SUMMARY:2 Nantucket Bangle Bracelets
DESCRIPTION:Create two traditional Nantucket Lightship woven bracelets using high-quality reeds and staves. Choose custom colors and craft a matched set of timeless accessories. \nOnce made by sailors and now recognized for their craftsmanship and elegance\, these bracelets remain a classic symbol of coastal tradition. \nThe class fee is $85.
URL:https://newbedfordlight.org/event/2-nantucket-bangle-bracelets/2026-02-21/
LOCATION:New Bedford Arts & Cultural Emporium\, 101 West Rodney French Blvd\, Suite 2-60\, New Bedford\, MA\, 02744\, United States
CATEGORIES:Art,Class,Culture Calendar
ATTACH;FMTTYPE=image/jpeg:https://newbedfordlight.org/wp-content/uploads/2025/07/abigail-bangle-bracelets.jpg
END:VEVENT
BEGIN:VEVENT
DTSTART;TZID=America/New_York:20260121T130000
DTEND;TZID=America/New_York:20260121T150000
DTSTAMP:20260422T060506
CREATED:20260114T204507Z
LAST-MODIFIED:20260114T204507Z
UID:10152552-1769000400-1769007600@newbedfordlight.org
SUMMARY:Pretty Little Things Workshop:Decoupage Sea Shells
DESCRIPTION:This hands-on workshop guides students through the art of decoupage using recycled oyster shells from The Black Whale. The fee is $45. \nThe class will create decorative pieces that can serve as catchalls or hanging ornaments\, finishing them with 14K gold enamel paint. \nRooted in centuries-old tradition\, decoupage involves layering paper designs onto natural surfaces and sealing them with varnish.
URL:https://newbedfordlight.org/event/pretty-little-things-workshopdecoupage-sea-shells/
LOCATION:New Bedford Arts & Cultural Emporium\, 101 West Rodney French Blvd\, Suite 2-60\, New Bedford\, MA\, 02744\, United States
CATEGORIES:Art,Class,Culture Calendar,Kilburn Mill
ATTACH;FMTTYPE=image/jpeg:https://newbedfordlight.org/wp-content/uploads/2024/09/decoupage-oyster2.jpg
END:VEVENT
BEGIN:VEVENT
DTSTART;TZID=America/New_York:20260116T180000
DTEND;TZID=America/New_York:20260116T203000
DTSTAMP:20260422T060506
CREATED:20260114T204236Z
LAST-MODIFIED:20260114T204236Z
UID:10152551-1768586400-1768595400@newbedfordlight.org
SUMMARY:Crepe Paper Poppies Workshop
DESCRIPTION:In this workshop students will create detailed paper poppies using professional-quality crepe paper\, clay\, pastels\, thread\, and paint in this hands-on workshop. The fee is $55 \nThe class covers tracing\, cutting\, shaping petals and leaves\, and assembling the flowers with wire\, glue\, and floral tape. Each attendee can complete multiple flowers as time allows. \nThe fee is $55.
URL:https://newbedfordlight.org/event/crepe-paper-poppies-workshop/
LOCATION:New Bedford Arts & Cultural Emporium\, 101 West Rodney French Blvd\, Suite 2-60\, New Bedford\, MA\, 02744\, United States
CATEGORIES:Art,Culture Calendar,Workshop
ATTACH;FMTTYPE=image/jpeg:https://newbedfordlight.org/wp-content/uploads/2026/01/Crepe-paper-poppies-multi.jpg
END:VEVENT
BEGIN:VEVENT
DTSTART;TZID=America/New_York:20251218T100000
DTEND;TZID=America/New_York:20251218T120000
DTSTAMP:20260422T060506
CREATED:20251204T230102Z
LAST-MODIFIED:20251204T230102Z
UID:10147628-1766052000-1766059200@newbedfordlight.org
SUMMARY:Christmas Card Workshop — Multi Media
DESCRIPTION:The mixed media card workshops are on Thursday\, Dec. 11 or Dec. 18\, from 10 a.m. to noon. The fee is $35. \nParticipants create handmade cards for Christmas\, other holidays\, or everyday occasions. The class covers collage and decoupage\, stamping and stenciling\, painting\, and creative arrangement. Instruction focuses on building skills that can be used again and again. \nUsing guided composition and imagination\, students paint\, layer\, glue\, and experiment with paper manipulation and found materials. Each card is a personal expression designed to feel thoughtful and meaningful. A wide range of materials is available\, with many ways to explore style and emotion. \nSome finished pieces may even be frame-worthy. One recipient shared that the care and effort behind the card made it so meaningful that it was framed the same day.
URL:https://newbedfordlight.org/event/christmas-card-workshop-multi-media/2025-12-18/
LOCATION:New Bedford Arts & Cultural Emporium\, 101 West Rodney French Blvd\, Suite 2-60\, New Bedford\, MA\, 02744\, United States
CATEGORIES:Art,Culture Calendar
ATTACH;FMTTYPE=image/jpeg:https://newbedfordlight.org/wp-content/uploads/2025/12/crist18.jpeg
END:VEVENT
BEGIN:VEVENT
DTSTART;TZID=America/New_York:20251210T140000
DTEND;TZID=America/New_York:20251210T170000
DTSTAMP:20260422T060506
CREATED:20251204T224349Z
LAST-MODIFIED:20251204T224349Z
UID:10147626-1765375200-1765386000@newbedfordlight.org
SUMMARY:Needle Felted Fairies
DESCRIPTION:The needle felting workshop is on Wednesday\, Dec. 10\, from 2 to 5 p.m.\, with a $55 fee. \nLearn the basics of needle felting while creating a sweet\, magical creature. The finished piece works as a Christmas tree ornament or a year-round decoration. It also makes a thoughtful gift or keepsake. \nInstruction is step-by-step\, with individual guidance throughout the class. The process is approachable for beginners.
URL:https://newbedfordlight.org/event/needle-felted-fairies/
LOCATION:New Bedford Arts & Cultural Emporium\, 101 West Rodney French Blvd\, Suite 2-60\, New Bedford\, MA\, 02744\, United States
CATEGORIES:Christmas,Crafts,Culture Calendar
ATTACH;FMTTYPE=image/jpeg:https://newbedfordlight.org/wp-content/uploads/2025/12/felted-fairy-down.jpg
END:VEVENT
BEGIN:VEVENT
DTSTART;TZID=America/New_York:20251129T100000
DTEND;TZID=America/New_York:20251129T113000
DTSTAMP:20260422T060506
CREATED:20251121T175136Z
LAST-MODIFIED:20251121T175136Z
UID:10146171-1764410400-1764415800@newbedfordlight.org
SUMMARY:You've Got Swag! Holiday Greens Workshop
DESCRIPTION:You’ve Got Swag! is a Holiday Greens Workshop on Saturday\, Nov. 29\, from 10 to 11:30 a.m. The fee is 25 dollars and includes all materials. \nParticipants will work with fresh greens and decor to make a custom door swag. The workshop uses greens\, holly\, berries\, pine cones\, bows\, ribbons\, and other seasonal accents. Materials come from Yarmouth Port. \nThe session lasts 90 minutes. Craft a single holiday piece for a front or side door\, a garage\, a vehicle grill\, or as a gift. \nSeats fill quickly.
URL:https://newbedfordlight.org/event/youve-got-swag-holiday-greens-workshop/
LOCATION:New Bedford Arts & Cultural Emporium\, 101 West Rodney French Blvd\, Suite 2-60\, New Bedford\, MA\, 02744\, United States
CATEGORIES:Christmas,Crafts,Culture Calendar,Workshop
ATTACH;FMTTYPE=image/jpeg:https://newbedfordlight.org/wp-content/uploads/2025/11/holiday-door-swag.jpg
END:VEVENT
BEGIN:VEVENT
DTSTART;TZID=America/New_York:20251111T100000
DTEND;TZID=America/New_York:20251111T140000
DTSTAMP:20260422T060506
CREATED:20251020T225420Z
LAST-MODIFIED:20251020T225420Z
UID:10135819-1762855200-1762869600@newbedfordlight.org
SUMMARY:Tote Basket with Shaker Tape Handles
DESCRIPTION:Create a handwoven tote basket on Tuesday\, Nov. 11\, from 10 a.m. to 2 p.m. The cost is $55. \nParticipants will make a 10-by-6-by-10-inch basket using reeds of different sizes and colors. Each project includes Shaker tape handles and coordinated accent colors. \nAfter finishing\, makers can dip their baskets in a black walnut stain for extra strength and a rich finish. The finished tote is sturdy and works well for shopping\, gardening\, or home storage.
URL:https://newbedfordlight.org/event/tote-basket-with-shaker-tape-handles/
LOCATION:New Bedford Arts & Cultural Emporium\, 101 West Rodney French Blvd\, Suite 2-60\, New Bedford\, MA\, 02744\, United States
CATEGORIES:Class,Crafts,Culture Calendar
ATTACH;FMTTYPE=image/jpeg:https://newbedfordlight.org/wp-content/uploads/2025/10/tote-basket.jpg
END:VEVENT
BEGIN:VEVENT
DTSTART;TZID=America/New_York:20251108T100000
DTEND;TZID=America/New_York:20251108T100000
DTSTAMP:20260422T060506
CREATED:20251016T174030Z
LAST-MODIFIED:20251016T174030Z
UID:10135767-1762596000-1762596000@newbedfordlight.org
SUMMARY:Beeswax Kitchen Wraps Workshop
DESCRIPTION:Participants will make up to six reusable cotton and beeswax wraps in three sizes. The instructor shows how to infuse organic cotton with beeswax\, plant oil\, and tree resin to create flexible wraps that can replace plastic in the kitchen. \nThe workshop takes place Thursday\, Oct. 23\, and Saturday\, Nov. 8\, at 10 a.m. The cost is $45\, and all materials are included. It’s a hands-on way to make something practical and earth-friendly.
URL:https://newbedfordlight.org/event/beeswax-kitchen-wraps-workshop-2/2025-11-08/
LOCATION:New Bedford Arts & Cultural Emporium\, 101 West Rodney French Blvd\, Suite 2-60\, New Bedford\, MA\, 02744\, United States
CATEGORIES:Art,Class,Culture Calendar
ATTACH;FMTTYPE=image/jpeg:https://newbedfordlight.org/wp-content/uploads/2025/01/Beeswax-kitchen-wraps.jpg
END:VEVENT
BEGIN:VEVENT
DTSTART;TZID=America/New_York:20251104T130000
DTEND;TZID=America/New_York:20251104T160000
DTSTAMP:20260422T060506
CREATED:20251020T222555Z
LAST-MODIFIED:20251020T223629Z
UID:10135812-1762261200-1762272000@newbedfordlight.org
SUMMARY:1 Quart Square Berry Basket workshop
DESCRIPTION:Learn to weave a one-quart berry basket on Tuesday\, Nov. 4\, from 1 to 4 p.m. This hands-on class is perfect for beginners. The fee is $45. \nStudents will use a mix of reeds\, sea grass\, and accent colors to create a five-and-a-half-inch square basket. The finished piece can hold berries\, bread\, or small household items. \nIn the end\, each participant will leave with a completed basket.
URL:https://newbedfordlight.org/event/1-quart-square-berry-basket-workshop/
LOCATION:New Bedford Arts & Cultural Emporium\, 101 West Rodney French Blvd\, Suite 2-60\, New Bedford\, MA\, 02744\, United States
CATEGORIES:Art,Crafts,Culture Calendar,Workshop
ATTACH;FMTTYPE=image/jpeg:https://newbedfordlight.org/wp-content/uploads/2025/09/berry-basket.jpg
END:VEVENT
BEGIN:VEVENT
DTSTART;TZID=America/New_York:20251022T140000
DTEND;TZID=America/New_York:20251022T160000
DTSTAMP:20260422T060506
CREATED:20251016T173315Z
LAST-MODIFIED:20251016T173315Z
UID:10135765-1761141600-1761148800@newbedfordlight.org
SUMMARY:Watercolor Autumn Leave Workshop
DESCRIPTION:Artists will use real autumn leaves as inspiration while exploring watercolor techniques. The class covers color mixing\, brushwork\, and creative effects like scratching\, spraying\, and flicking to add texture and depth. \nThe workshop takes place Wednesday\, Oct. 22\, from 2 to 4 p.m. The cost is $45\, and all materials are included.
URL:https://newbedfordlight.org/event/watercolor-autumn-leave-workshop/
LOCATION:New Bedford Arts & Cultural Emporium\, 101 West Rodney French Blvd\, Suite 2-60\, New Bedford\, MA\, 02744\, United States
CATEGORIES:Art,Class,Culture Calendar
ATTACH;FMTTYPE=image/jpeg:https://newbedfordlight.org/wp-content/uploads/2025/10/watercolor-leaves2.jpeg
END:VEVENT
END:VCALENDAR