BEGIN:VCALENDAR
VERSION:2.0
PRODID:-//The New Bedford Light - ECPv6.15.20//NONSGML v1.0//EN
CALSCALE:GREGORIAN
METHOD:PUBLISH
X-ORIGINAL-URL:https://newbedfordlight.org
X-WR-CALDESC:Events for The New Bedford Light
REFRESH-INTERVAL;VALUE=DURATION:PT1H
X-Robots-Tag:noindex
X-PUBLISHED-TTL:PT1H
BEGIN:VTIMEZONE
TZID:America/New_York
BEGIN:DAYLIGHT
TZOFFSETFROM:-0500
TZOFFSETTO:-0400
TZNAME:EDT
DTSTART:20250309T070000
END:DAYLIGHT
BEGIN:STANDARD
TZOFFSETFROM:-0400
TZOFFSETTO:-0500
TZNAME:EST
DTSTART:20251102T060000
END:STANDARD
BEGIN:DAYLIGHT
TZOFFSETFROM:-0500
TZOFFSETTO:-0400
TZNAME:EDT
DTSTART:20260308T070000
END:DAYLIGHT
BEGIN:STANDARD
TZOFFSETFROM:-0400
TZOFFSETTO:-0500
TZNAME:EST
DTSTART:20261101T060000
END:STANDARD
BEGIN:DAYLIGHT
TZOFFSETFROM:-0500
TZOFFSETTO:-0400
TZNAME:EDT
DTSTART:20270314T070000
END:DAYLIGHT
BEGIN:STANDARD
TZOFFSETFROM:-0400
TZOFFSETTO:-0500
TZNAME:EST
DTSTART:20271107T060000
END:STANDARD
END:VTIMEZONE
BEGIN:VEVENT
DTSTART;TZID=America/New_York:20260424T093000
DTEND;TZID=America/New_York:20260424T103000
DTSTAMP:20260422T120056
CREATED:20260218T210431Z
LAST-MODIFIED:20260218T210431Z
UID:10155204-1777023000-1777026600@newbedfordlight.org
SUMMARY:Martha's Pantry at Grace
DESCRIPTION:Martha’s Pantry at Grace provides groceries each week to households in Greater New Bedford. The food available includes fresh produce and bread. The goal is to supply three meals a day for three days for each family member. Households may visit once a month.\n\nPantry is open Wednesdays and Fridays from 9:30 to 10:30 a.m. Service follows New Bedford school weather closures.\n\nFor information\, contact Grace Church at 508-993-0547 or office@gracechurchnb.org.\n\nCommunity members are invited to support this ministry.
URL:https://newbedfordlight.org/event/marthas-pantry-at-grace/2026-04-24/
LOCATION:Grace Episcopal Church\, 133 School Street\, New Bedford\, MA\, 02740\, United States
CATEGORIES:Civic Life,Food,Free
ATTACH;FMTTYPE=image/jpeg:https://newbedfordlight.org/wp-content/uploads/2026/02/food-pantry-shelves.jpg
END:VEVENT
BEGIN:VEVENT
DTSTART;TZID=America/New_York:20260503T153000
DTEND;TZID=America/New_York:20260503T153000
DTSTAMP:20260422T120056
CREATED:20260217T162807Z
LAST-MODIFIED:20260217T162807Z
UID:10155139-1777822200-1777822200@newbedfordlight.org
SUMMARY:250 Years: Music of America at Grace Episcopal Church
DESCRIPTION:Greater New Bedford Choral Society will mark America’s 250th anniversary with a spring concert on Sunday\, May 3\, at 3:30 p.m. at Grace Episcopal Church. Tickets are $20 general admission and $30 VIP. \nThe program features a mix of classical works and timeless favorites. Selections include Randall Thompson’s “Frostiana\,” Aaron Copland’s “Simple Gifts\,” spirituals\, Americana tunes\, and standards such as “Somewhere Over the Rainbow” and “What a Wonderful World.” Audience sing-alongs are also planned. \nFounded in 1964\, Greater New Bedford Choral Society is a non-audition SATB choir serving southeastern Massachusetts. Ensemble recently welcomed new artistic director Brian Dean Sousa\, a New Bedford native with degrees from Westminster Choir College and James Madison University. \nMore information is available at gnbcs.org.
URL:https://newbedfordlight.org/event/250-years-music-of-america-at-grace-episcopal-church/
LOCATION:Grace Episcopal Church\, 133 School Street\, New Bedford\, MA\, 02740\, United States
CATEGORIES:Culture Calendar,Music
ATTACH;FMTTYPE=image/jpeg:https://newbedfordlight.org/wp-content/uploads/2026/02/2026-Spring-concert-horizontal.jpg
END:VEVENT
END:VCALENDAR