BEGIN:VCALENDAR
VERSION:2.0
PRODID:-//The New Bedford Light - ECPv6.15.20//NONSGML v1.0//EN
CALSCALE:GREGORIAN
METHOD:PUBLISH
X-WR-CALNAME:The New Bedford Light
X-ORIGINAL-URL:https://newbedfordlight.org
X-WR-CALDESC:Events for The New Bedford Light
REFRESH-INTERVAL;VALUE=DURATION:PT1H
X-Robots-Tag:noindex
X-PUBLISHED-TTL:PT1H
BEGIN:VTIMEZONE
TZID:America/New_York
BEGIN:DAYLIGHT
TZOFFSETFROM:-0500
TZOFFSETTO:-0400
TZNAME:EDT
DTSTART:20250309T070000
END:DAYLIGHT
BEGIN:STANDARD
TZOFFSETFROM:-0400
TZOFFSETTO:-0500
TZNAME:EST
DTSTART:20251102T060000
END:STANDARD
BEGIN:DAYLIGHT
TZOFFSETFROM:-0500
TZOFFSETTO:-0400
TZNAME:EDT
DTSTART:20260308T070000
END:DAYLIGHT
BEGIN:STANDARD
TZOFFSETFROM:-0400
TZOFFSETTO:-0500
TZNAME:EST
DTSTART:20261101T060000
END:STANDARD
BEGIN:DAYLIGHT
TZOFFSETFROM:-0500
TZOFFSETTO:-0400
TZNAME:EDT
DTSTART:20270314T070000
END:DAYLIGHT
BEGIN:STANDARD
TZOFFSETFROM:-0400
TZOFFSETTO:-0500
TZNAME:EST
DTSTART:20271107T060000
END:STANDARD
END:VTIMEZONE
BEGIN:VEVENT
DTSTART;TZID=America/New_York:20260401T113000
DTEND;TZID=America/New_York:20260401T113000
DTSTAMP:20260424T140558
CREATED:20260225T202722Z
LAST-MODIFIED:20260225T202722Z
UID:10161162-1775043000-1775043000@newbedfordlight.org
SUMMARY:2026 State of Business Luncheon
DESCRIPTION:One SouthCoast Chamber will host Mayor Paul Coogan’s 2026 State of Business Luncheon on Wednesday\, April 1\, at Fall River Country Club.\n\nBusiness leaders\, community partners\, and public officials will attend. Mayor Coogan will outline the city’s economic progress\, priorities\, and plans to support local businesses.\n\nRegistration and a buffet luncheon begin at 11:30 a.m. The program starts at noon. Location is 4232 North Main St.\, Fall River. Sponsorships are available.\n\nRegistration is required. Details are at www.onesouthcoast.com or by contacting Katie Greene at kgreene@onesouthcoast.com
URL:https://newbedfordlight.org/event/2026-state-of-business-luncheon/
LOCATION:Fall River Country Club\, 4232 N. Main Street\, Fall River\, MA\, 02720\, United States
CATEGORIES:Civic Life,Government
ATTACH;FMTTYPE=image/jpeg:https://newbedfordlight.org/wp-content/uploads/2026/02/2026-State-of-Business-Luncheon.jpg
END:VEVENT
END:VCALENDAR