BEGIN:VCALENDAR
VERSION:2.0
PRODID:-//The New Bedford Light - ECPv6.15.20//NONSGML v1.0//EN
CALSCALE:GREGORIAN
METHOD:PUBLISH
X-WR-CALNAME:The New Bedford Light
X-ORIGINAL-URL:https://newbedfordlight.org
X-WR-CALDESC:Events for The New Bedford Light
REFRESH-INTERVAL;VALUE=DURATION:PT1H
X-Robots-Tag:noindex
X-PUBLISHED-TTL:PT1H
BEGIN:VTIMEZONE
TZID:America/New_York
BEGIN:DAYLIGHT
TZOFFSETFROM:-0500
TZOFFSETTO:-0400
TZNAME:EDT
DTSTART:20250309T070000
END:DAYLIGHT
BEGIN:STANDARD
TZOFFSETFROM:-0400
TZOFFSETTO:-0500
TZNAME:EST
DTSTART:20251102T060000
END:STANDARD
BEGIN:DAYLIGHT
TZOFFSETFROM:-0500
TZOFFSETTO:-0400
TZNAME:EDT
DTSTART:20260308T070000
END:DAYLIGHT
BEGIN:STANDARD
TZOFFSETFROM:-0400
TZOFFSETTO:-0500
TZNAME:EST
DTSTART:20261101T060000
END:STANDARD
BEGIN:DAYLIGHT
TZOFFSETFROM:-0500
TZOFFSETTO:-0400
TZNAME:EDT
DTSTART:20270314T070000
END:DAYLIGHT
BEGIN:STANDARD
TZOFFSETFROM:-0400
TZOFFSETTO:-0500
TZNAME:EST
DTSTART:20271107T060000
END:STANDARD
END:VTIMEZONE
BEGIN:VEVENT
DTSTART;TZID=America/New_York:20260430T100000
DTEND;TZID=America/New_York:20260430T190000
DTSTAMP:20260424T075948
CREATED:20260330T163359Z
LAST-MODIFIED:20260330T163359Z
UID:10163292-1777543200-1777575600@newbedfordlight.org
SUMMARY:Friends of the Dartmouth Libraries Book Sale
DESCRIPTION:The Friends of the Dartmouth Libraries will hold a spring book sale April 29 through May 2 at Southworth Library. \nA members’ preview is on Wednesday\, April 29\, from 4 to 7 p.m. by appointment only. The general sale runs Thursday\, April 30\, from 10 a.m. to 7 p.m.\, Friday\, May 1\, from 10 a.m. to 4 p.m.\, and Saturday\, May 2\, from 10 a.m. to 1 p.m. \nAdmission is free. Appointments for the preview are required and can be made by calling (508) 999-0726. Scanners are not permitted during the preview. \nMemberships may be purchased at the sale. \nContact Anne Heller at heller.a@comcast.net or 617-893-8491 for details.
URL:https://newbedfordlight.org/event/friends-of-the-dartmouth-libraries-book-sale/2026-04-30/
LOCATION:Southworth Library\, 732 Dartmouth Street\, Dartmouth\, MA\, United States
ATTACH;FMTTYPE=image/jpeg:https://newbedfordlight.org/wp-content/uploads/2022/04/Book-Sale.jpg
END:VEVENT
END:VCALENDAR