BEGIN:VCALENDAR
VERSION:2.0
PRODID:-//The New Bedford Light - ECPv6.15.20//NONSGML v1.0//EN
CALSCALE:GREGORIAN
METHOD:PUBLISH
X-WR-CALNAME:The New Bedford Light
X-ORIGINAL-URL:https://newbedfordlight.org
X-WR-CALDESC:Events for The New Bedford Light
REFRESH-INTERVAL;VALUE=DURATION:PT1H
X-Robots-Tag:noindex
X-PUBLISHED-TTL:PT1H
BEGIN:VTIMEZONE
TZID:America/New_York
BEGIN:DAYLIGHT
TZOFFSETFROM:-0500
TZOFFSETTO:-0400
TZNAME:EDT
DTSTART:20250309T070000
END:DAYLIGHT
BEGIN:STANDARD
TZOFFSETFROM:-0400
TZOFFSETTO:-0500
TZNAME:EST
DTSTART:20251102T060000
END:STANDARD
BEGIN:DAYLIGHT
TZOFFSETFROM:-0500
TZOFFSETTO:-0400
TZNAME:EDT
DTSTART:20260308T070000
END:DAYLIGHT
BEGIN:STANDARD
TZOFFSETFROM:-0400
TZOFFSETTO:-0500
TZNAME:EST
DTSTART:20261101T060000
END:STANDARD
BEGIN:DAYLIGHT
TZOFFSETFROM:-0500
TZOFFSETTO:-0400
TZNAME:EDT
DTSTART:20270314T070000
END:DAYLIGHT
BEGIN:STANDARD
TZOFFSETFROM:-0400
TZOFFSETTO:-0500
TZNAME:EST
DTSTART:20271107T060000
END:STANDARD
END:VTIMEZONE
BEGIN:VEVENT
DTSTART;TZID=America/New_York:20260509T100000
DTEND;TZID=America/New_York:20260509T120000
DTSTAMP:20260424T113753
CREATED:20260309T184850Z
LAST-MODIFIED:20260309T185745Z
UID:10162105-1778320800-1778328000@newbedfordlight.org
SUMMARY:A Bicycle Fixed by You workshop
DESCRIPTION:A free bicycle repair workshop will be held on Saturday\, May 9\, from 10 a.m. to noon at the Howland Green Branch Library. \nBill Trimble of Youth Opportunities Unlimited will lead the session and show participants how to diagnose and repair common bike problems. Community members are encouraged to bring their bicycles and learn simple repair skills. \nThe event is part of the Fix It Forward workshop series\, which helps residents learn practical ways to repair and reuse everyday items. Admission is free.
URL:https://newbedfordlight.org/event/a-bicycle-fixed-by-you-workshop/
LOCATION:New Bedford Free Public Library/Howland Green\, 3 Rodney French Blvd.\, New Bedford\, MA\, 02744\, United States
CATEGORIES:Culture Calendar,Workshop
ATTACH;FMTTYPE=image/jpeg:https://newbedfordlight.org/wp-content/uploads/2026/03/bike.jpg
END:VEVENT
END:VCALENDAR