BEGIN:VCALENDAR
VERSION:2.0
PRODID:-//The New Bedford Light - ECPv6.15.20//NONSGML v1.0//EN
CALSCALE:GREGORIAN
METHOD:PUBLISH
X-WR-CALNAME:The New Bedford Light
X-ORIGINAL-URL:https://newbedfordlight.org
X-WR-CALDESC:Events for The New Bedford Light
REFRESH-INTERVAL;VALUE=DURATION:PT1H
X-Robots-Tag:noindex
X-PUBLISHED-TTL:PT1H
BEGIN:VTIMEZONE
TZID:America/New_York
BEGIN:DAYLIGHT
TZOFFSETFROM:-0500
TZOFFSETTO:-0400
TZNAME:EDT
DTSTART:20250309T070000
END:DAYLIGHT
BEGIN:STANDARD
TZOFFSETFROM:-0400
TZOFFSETTO:-0500
TZNAME:EST
DTSTART:20251102T060000
END:STANDARD
BEGIN:DAYLIGHT
TZOFFSETFROM:-0500
TZOFFSETTO:-0400
TZNAME:EDT
DTSTART:20260308T070000
END:DAYLIGHT
BEGIN:STANDARD
TZOFFSETFROM:-0400
TZOFFSETTO:-0500
TZNAME:EST
DTSTART:20261101T060000
END:STANDARD
BEGIN:DAYLIGHT
TZOFFSETFROM:-0500
TZOFFSETTO:-0400
TZNAME:EDT
DTSTART:20270314T070000
END:DAYLIGHT
BEGIN:STANDARD
TZOFFSETFROM:-0400
TZOFFSETTO:-0500
TZNAME:EST
DTSTART:20271107T060000
END:STANDARD
END:VTIMEZONE
BEGIN:VEVENT
DTSTART;TZID=America/New_York:20260331T173000
DTEND;TZID=America/New_York:20260331T193000
DTSTAMP:20260424T114806
CREATED:20260309T182150Z
LAST-MODIFIED:20260309T182336Z
UID:10162104-1774978200-1774985400@newbedfordlight.org
SUMMARY:Mending\, Darning\, and Patching – Oh My! workshop
DESCRIPTION:A free workshop on clothing repair will be held on Tuesday\, March 31\, from 5:30 to 7:30 p.m. at the Howland Green Branch Library. \nLocal artists Claudia De Sousa-Baptista of Bushwood Tailors Opportunity Shop and Elaine and Beatrice Alder of Alder & Alder will teach slow stitching\, also called visible mending. Students can learn to replace buttons\, fix zippers\, and darn socks or sweaters. Attendees are encouraged to bring an item to repair. \nA sewing and fabric arts swap will also take place during the event. Donations of yarn\, thread\, buttons\, fabric\, and sewing tools can be dropped off starting March 23 at several New Bedford library branches or brought on the day of the workshop. \nThe event is part of the Fix It Forward workshop series\, which encourages residents to repair and reuse everyday items. Admission is free.
URL:https://newbedfordlight.org/event/mending-darning-and-patching-oh-my-workshop/
LOCATION:New Bedford Free Public Library/Howland Green\, 3 Rodney French Blvd.\, New Bedford\, MA\, 02744\, United States
CATEGORIES:Culture Calendar,Workshop
ATTACH;FMTTYPE=image/jpeg:https://newbedfordlight.org/wp-content/uploads/2026/03/Fix-It-Forward-Claudia-De-Sousa-Baptista-Mending-Clothing-credit-Marissa-Perez-Dormitzer.jpg
END:VEVENT
BEGIN:VEVENT
DTSTART;TZID=America/New_York:20260315T110000
DTEND;TZID=America/New_York:20260315T110000
DTSTAMP:20260424T114806
CREATED:20260305T172819Z
LAST-MODIFIED:20260305T172819Z
UID:10161536-1773572400-1773572400@newbedfordlight.org
SUMMARY:2026 Annual New Bedford Half Marathon
DESCRIPTION:The New Bedford Half Marathon welcomes thousands of runners from all around on Sunday\, March 15\, at 11 am. The 13.1-mile race is one of the oldest half-marathon events in the Northeast and draws thousands each year. \nRunners follow a single loop through New Bedford streets\, with views of the harbor and Clarks Cove. The paved route includes a few hills\, with notable climbs at miles 3 and 12. \nRegistration is open for adults\, youth\, and runners age 65 and older. Fees vary by age group and registration period\, with adult registration currently just over $100 and youth registration set at $54.50. \nThe race is organized by a volunteer committee and hosted by the Friendly Sons of St. Patrick\, with support from the City of New Bedford.
URL:https://newbedfordlight.org/event/2026-annual-new-bedford-half-marathon/
CATEGORIES:Civic Life,Culture Calendar,Running Event
ATTACH;FMTTYPE=image/jpeg:https://newbedfordlight.org/wp-content/uploads/2023/03/1011992083-ma_nb_New-Bedford-Half-Marathon-1-edited.jpg
END:VEVENT
BEGIN:VEVENT
DTSTART;VALUE=DATE:20260112
DTEND;VALUE=DATE:20260117
DTSTAMP:20260424T114806
CREATED:20251226T134453Z
LAST-MODIFIED:20251226T134453Z
UID:10148884-1768176000-1768607999@newbedfordlight.org
SUMMARY:Holiday Recycling in New Bedford
DESCRIPTION:Live Christmas trees will be collected in New Bedford from Jan. 12 through Jan. 16. During that week only\, residents may place trees at the curb by 7 a.m. on the weekday after regular trash and recycling pickup. Routes with Friday collection will have trees picked up on Monday\, Jan. 16. \nTrees may also be dropped off starting Dec. 26 at several locations. The E. Rodney French Boulevard beach parking lot between Hudson Street and Seymour Street accepts trees through Jan. 11. Brooklawn Community Center\, 1997 Acushnet Ave.\, accepts trees in the rear parking lot through Jan. 11. The Recycling Center at 1103 Shawmut Ave. is open from 11 a.m. to 4 p.m. on Monday\, Wednesday\, and Friday\, and from 7:30 a.m. to 3 p.m. on Saturday.
URL:https://newbedfordlight.org/event/holiday-recycling-in-new-bedford/
CATEGORIES:Christmas,Civic Life
ATTACH;FMTTYPE=image/jpeg:https://newbedfordlight.org/wp-content/uploads/2025/12/Christmas-tree-recylcing-2026.jpg
END:VEVENT
BEGIN:VEVENT
DTSTART;TZID=America/New_York:20260105T180000
DTEND;TZID=America/New_York:20260105T180000
DTSTAMP:20260424T114806
CREATED:20251231T162125Z
LAST-MODIFIED:20251231T162125Z
UID:10149157-1767636000-1767636000@newbedfordlight.org
SUMMARY:2026 City of New Bedford Inaugural Ceremony
DESCRIPTION:The New Bedford City Council School Committee and Board of Assessors will hold the 2026 City of New Bedford Inaugural Ceremony at 6 p.m. Monday\, Jan. 5\, 2026. \nIt will be held at the New Bedford Whaling Museum\, 18 Johnny Cake Hill. Newly elected and re-elected municipal officials will be formally recognized. \nAttendance is free and open to the public.
URL:https://newbedfordlight.org/event/2026-city-of-new-bedford-inaugural-ceremony/
LOCATION:New Bedford Whaling Museum\, 18 Johnny Cake Hill\, New Bedford\, MA\, United States
CATEGORIES:Civic Life,Government,Schools
ATTACH;FMTTYPE=image/jpeg:https://newbedfordlight.org/wp-content/uploads/2025/12/2026-inaugural-ceremony.jpg
END:VEVENT
END:VCALENDAR