BEGIN:VCALENDAR
VERSION:2.0
PRODID:-//The New Bedford Light - ECPv6.15.20//NONSGML v1.0//EN
CALSCALE:GREGORIAN
METHOD:PUBLISH
X-WR-CALNAME:The New Bedford Light
X-ORIGINAL-URL:https://newbedfordlight.org
X-WR-CALDESC:Events for The New Bedford Light
REFRESH-INTERVAL;VALUE=DURATION:PT1H
X-Robots-Tag:noindex
X-PUBLISHED-TTL:PT1H
BEGIN:VTIMEZONE
TZID:America/New_York
BEGIN:DAYLIGHT
TZOFFSETFROM:-0500
TZOFFSETTO:-0400
TZNAME:EDT
DTSTART:20250309T070000
END:DAYLIGHT
BEGIN:STANDARD
TZOFFSETFROM:-0400
TZOFFSETTO:-0500
TZNAME:EST
DTSTART:20251102T060000
END:STANDARD
BEGIN:DAYLIGHT
TZOFFSETFROM:-0500
TZOFFSETTO:-0400
TZNAME:EDT
DTSTART:20260308T070000
END:DAYLIGHT
BEGIN:STANDARD
TZOFFSETFROM:-0400
TZOFFSETTO:-0500
TZNAME:EST
DTSTART:20261101T060000
END:STANDARD
BEGIN:DAYLIGHT
TZOFFSETFROM:-0500
TZOFFSETTO:-0400
TZNAME:EDT
DTSTART:20270314T070000
END:DAYLIGHT
BEGIN:STANDARD
TZOFFSETFROM:-0400
TZOFFSETTO:-0500
TZNAME:EST
DTSTART:20271107T060000
END:STANDARD
END:VTIMEZONE
BEGIN:VEVENT
DTSTART;TZID=America/New_York:20260506T173000
DTEND;TZID=America/New_York:20260506T203000
DTSTAMP:20260422T115451
CREATED:20260414T164254Z
LAST-MODIFIED:20260414T164254Z
UID:10163780-1778088600-1778099400@newbedfordlight.org
SUMMARY:Ink & Identity: A Collaborative Printmaking Workshop
DESCRIPTION:Ink & Identity: A Collaborative Printmaking Workshop is scheduled for Wednesdays\, May 6 to 27\, from 5:30 to 8:30 p.m. The fee is $250. \nMaster printmaker Adrian Tió leads the four-week workshop. He’s a retired fine arts professor with more than 50 years of experience. Tió’s work is displayed in major collections\, including the Andy Warhol Foundation and the White House. \nClass work draws inspiration from the exhibition “RESISTANCE: Cultural and Political Narratives in Mexican Art.” It looks at how artists use printmaking to explore identity\, memory\, and social ideas. \nStudents will create designs by carving linoleum blocks and printing them. The work will come together in a final group composition. \nThe workshop is open to beginners and practicing artists. No experience is required.
URL:https://newbedfordlight.org/event/ink-identity-a-collaborative-printmaking-workshop/2026-05-06/
LOCATION:New Bedford Art Museum\, 608 Pleasant St.\, New Bedford\, MA\, United States
CATEGORIES:Art,Art Museum,Culture Calendar,Workshop
ATTACH;FMTTYPE=image/jpeg:https://newbedfordlight.org/wp-content/uploads/2026/04/Adrian-Tio_Printmaking.jpg
END:VEVENT
BEGIN:VEVENT
DTSTART;TZID=America/New_York:20260513T173000
DTEND;TZID=America/New_York:20260513T203000
DTSTAMP:20260422T115451
CREATED:20260414T164254Z
LAST-MODIFIED:20260414T164254Z
UID:10163781-1778693400-1778704200@newbedfordlight.org
SUMMARY:Ink & Identity: A Collaborative Printmaking Workshop
DESCRIPTION:Ink & Identity: A Collaborative Printmaking Workshop is scheduled for Wednesdays\, May 6 to 27\, from 5:30 to 8:30 p.m. The fee is $250. \nMaster printmaker Adrian Tió leads the four-week workshop. He’s a retired fine arts professor with more than 50 years of experience. Tió’s work is displayed in major collections\, including the Andy Warhol Foundation and the White House. \nClass work draws inspiration from the exhibition “RESISTANCE: Cultural and Political Narratives in Mexican Art.” It looks at how artists use printmaking to explore identity\, memory\, and social ideas. \nStudents will create designs by carving linoleum blocks and printing them. The work will come together in a final group composition. \nThe workshop is open to beginners and practicing artists. No experience is required.
URL:https://newbedfordlight.org/event/ink-identity-a-collaborative-printmaking-workshop/2026-05-13/
LOCATION:New Bedford Art Museum\, 608 Pleasant St.\, New Bedford\, MA\, United States
CATEGORIES:Art,Art Museum,Culture Calendar,Workshop
ATTACH;FMTTYPE=image/jpeg:https://newbedfordlight.org/wp-content/uploads/2026/04/Adrian-Tio_Printmaking.jpg
END:VEVENT
BEGIN:VEVENT
DTSTART;TZID=America/New_York:20260520T173000
DTEND;TZID=America/New_York:20260520T203000
DTSTAMP:20260422T115451
CREATED:20260414T164254Z
LAST-MODIFIED:20260414T164254Z
UID:10163782-1779298200-1779309000@newbedfordlight.org
SUMMARY:Ink & Identity: A Collaborative Printmaking Workshop
DESCRIPTION:Ink & Identity: A Collaborative Printmaking Workshop is scheduled for Wednesdays\, May 6 to 27\, from 5:30 to 8:30 p.m. The fee is $250. \nMaster printmaker Adrian Tió leads the four-week workshop. He’s a retired fine arts professor with more than 50 years of experience. Tió’s work is displayed in major collections\, including the Andy Warhol Foundation and the White House. \nClass work draws inspiration from the exhibition “RESISTANCE: Cultural and Political Narratives in Mexican Art.” It looks at how artists use printmaking to explore identity\, memory\, and social ideas. \nStudents will create designs by carving linoleum blocks and printing them. The work will come together in a final group composition. \nThe workshop is open to beginners and practicing artists. No experience is required.
URL:https://newbedfordlight.org/event/ink-identity-a-collaborative-printmaking-workshop/2026-05-20/
LOCATION:New Bedford Art Museum\, 608 Pleasant St.\, New Bedford\, MA\, United States
CATEGORIES:Art,Art Museum,Culture Calendar,Workshop
ATTACH;FMTTYPE=image/jpeg:https://newbedfordlight.org/wp-content/uploads/2026/04/Adrian-Tio_Printmaking.jpg
END:VEVENT
BEGIN:VEVENT
DTSTART;TZID=America/New_York:20260527T173000
DTEND;TZID=America/New_York:20260527T203000
DTSTAMP:20260422T115451
CREATED:20260414T164254Z
LAST-MODIFIED:20260414T164254Z
UID:10163783-1779903000-1779913800@newbedfordlight.org
SUMMARY:Ink & Identity: A Collaborative Printmaking Workshop
DESCRIPTION:Ink & Identity: A Collaborative Printmaking Workshop is scheduled for Wednesdays\, May 6 to 27\, from 5:30 to 8:30 p.m. The fee is $250. \nMaster printmaker Adrian Tió leads the four-week workshop. He’s a retired fine arts professor with more than 50 years of experience. Tió’s work is displayed in major collections\, including the Andy Warhol Foundation and the White House. \nClass work draws inspiration from the exhibition “RESISTANCE: Cultural and Political Narratives in Mexican Art.” It looks at how artists use printmaking to explore identity\, memory\, and social ideas. \nStudents will create designs by carving linoleum blocks and printing them. The work will come together in a final group composition. \nThe workshop is open to beginners and practicing artists. No experience is required.
URL:https://newbedfordlight.org/event/ink-identity-a-collaborative-printmaking-workshop/2026-05-27/
LOCATION:New Bedford Art Museum\, 608 Pleasant St.\, New Bedford\, MA\, United States
CATEGORIES:Art,Art Museum,Culture Calendar,Workshop
ATTACH;FMTTYPE=image/jpeg:https://newbedfordlight.org/wp-content/uploads/2026/04/Adrian-Tio_Printmaking.jpg
END:VEVENT
END:VCALENDAR