BEGIN:VCALENDAR
VERSION:2.0
PRODID:-//The New Bedford Light - ECPv6.15.20//NONSGML v1.0//EN
CALSCALE:GREGORIAN
METHOD:PUBLISH
X-WR-CALNAME:The New Bedford Light
X-ORIGINAL-URL:https://newbedfordlight.org
X-WR-CALDESC:Events for The New Bedford Light
REFRESH-INTERVAL;VALUE=DURATION:PT1H
X-Robots-Tag:noindex
X-PUBLISHED-TTL:PT1H
BEGIN:VTIMEZONE
TZID:America/New_York
BEGIN:DAYLIGHT
TZOFFSETFROM:-0500
TZOFFSETTO:-0400
TZNAME:EDT
DTSTART:20250309T070000
END:DAYLIGHT
BEGIN:STANDARD
TZOFFSETFROM:-0400
TZOFFSETTO:-0500
TZNAME:EST
DTSTART:20251102T060000
END:STANDARD
BEGIN:DAYLIGHT
TZOFFSETFROM:-0500
TZOFFSETTO:-0400
TZNAME:EDT
DTSTART:20260308T070000
END:DAYLIGHT
BEGIN:STANDARD
TZOFFSETFROM:-0400
TZOFFSETTO:-0500
TZNAME:EST
DTSTART:20261101T060000
END:STANDARD
BEGIN:DAYLIGHT
TZOFFSETFROM:-0500
TZOFFSETTO:-0400
TZNAME:EDT
DTSTART:20270314T070000
END:DAYLIGHT
BEGIN:STANDARD
TZOFFSETFROM:-0400
TZOFFSETTO:-0500
TZNAME:EST
DTSTART:20271107T060000
END:STANDARD
END:VTIMEZONE
BEGIN:VEVENT
DTSTART;TZID=America/New_York:20260422T180000
DTEND;TZID=America/New_York:20260422T200000
DTSTAMP:20260422T143123
CREATED:20260102T174205Z
LAST-MODIFIED:20260112T165453Z
UID:10151995-1776880800-1776888000@newbedfordlight.org
SUMMARY:Musical Bingo at Ryan's Sports Pub
DESCRIPTION:Ryan’s hosts Good Thomas musical bingo every Wednesday night from 6 to 8 p.m.
URL:https://newbedfordlight.org/event/musical-bingo-at-ryans-sports-pub/2026-04-22/
LOCATION:Ryan’s Sports Pub and Billiards\, 500 Hathaway Rd\, New Bedford\, MA\, United States
CATEGORIES:Bingo,Culture Calendar,Music
ATTACH;FMTTYPE=image/jpeg:https://newbedfordlight.org/wp-content/uploads/2026/01/ryans-music-bingo.jpg
END:VEVENT
BEGIN:VEVENT
DTSTART;TZID=America/New_York:20260429T180000
DTEND;TZID=America/New_York:20260429T200000
DTSTAMP:20260422T143123
CREATED:20260102T174205Z
LAST-MODIFIED:20260112T165453Z
UID:10151996-1777485600-1777492800@newbedfordlight.org
SUMMARY:Musical Bingo at Ryan's Sports Pub
DESCRIPTION:Ryan’s hosts Good Thomas musical bingo every Wednesday night from 6 to 8 p.m.
URL:https://newbedfordlight.org/event/musical-bingo-at-ryans-sports-pub/2026-04-29/
LOCATION:Ryan’s Sports Pub and Billiards\, 500 Hathaway Rd\, New Bedford\, MA\, United States
CATEGORIES:Bingo,Culture Calendar,Music
ATTACH;FMTTYPE=image/jpeg:https://newbedfordlight.org/wp-content/uploads/2026/01/ryans-music-bingo.jpg
END:VEVENT
BEGIN:VEVENT
DTSTART;TZID=America/New_York:20260506T180000
DTEND;TZID=America/New_York:20260506T200000
DTSTAMP:20260422T143123
CREATED:20260102T174205Z
LAST-MODIFIED:20260112T165453Z
UID:10151997-1778090400-1778097600@newbedfordlight.org
SUMMARY:Musical Bingo at Ryan's Sports Pub
DESCRIPTION:Ryan’s hosts Good Thomas musical bingo every Wednesday night from 6 to 8 p.m.
URL:https://newbedfordlight.org/event/musical-bingo-at-ryans-sports-pub/2026-05-06/
LOCATION:Ryan’s Sports Pub and Billiards\, 500 Hathaway Rd\, New Bedford\, MA\, United States
CATEGORIES:Bingo,Culture Calendar,Music
ATTACH;FMTTYPE=image/jpeg:https://newbedfordlight.org/wp-content/uploads/2026/01/ryans-music-bingo.jpg
END:VEVENT
BEGIN:VEVENT
DTSTART;TZID=America/New_York:20260513T180000
DTEND;TZID=America/New_York:20260513T200000
DTSTAMP:20260422T143123
CREATED:20260102T174205Z
LAST-MODIFIED:20260112T165453Z
UID:10151998-1778695200-1778702400@newbedfordlight.org
SUMMARY:Musical Bingo at Ryan's Sports Pub
DESCRIPTION:Ryan’s hosts Good Thomas musical bingo every Wednesday night from 6 to 8 p.m.
URL:https://newbedfordlight.org/event/musical-bingo-at-ryans-sports-pub/2026-05-13/
LOCATION:Ryan’s Sports Pub and Billiards\, 500 Hathaway Rd\, New Bedford\, MA\, United States
CATEGORIES:Bingo,Culture Calendar,Music
ATTACH;FMTTYPE=image/jpeg:https://newbedfordlight.org/wp-content/uploads/2026/01/ryans-music-bingo.jpg
END:VEVENT
BEGIN:VEVENT
DTSTART;TZID=America/New_York:20260520T180000
DTEND;TZID=America/New_York:20260520T200000
DTSTAMP:20260422T143123
CREATED:20260102T174205Z
LAST-MODIFIED:20260112T165453Z
UID:10151999-1779300000-1779307200@newbedfordlight.org
SUMMARY:Musical Bingo at Ryan's Sports Pub
DESCRIPTION:Ryan’s hosts Good Thomas musical bingo every Wednesday night from 6 to 8 p.m.
URL:https://newbedfordlight.org/event/musical-bingo-at-ryans-sports-pub/2026-05-20/
LOCATION:Ryan’s Sports Pub and Billiards\, 500 Hathaway Rd\, New Bedford\, MA\, United States
CATEGORIES:Bingo,Culture Calendar,Music
ATTACH;FMTTYPE=image/jpeg:https://newbedfordlight.org/wp-content/uploads/2026/01/ryans-music-bingo.jpg
END:VEVENT
BEGIN:VEVENT
DTSTART;TZID=America/New_York:20260527T180000
DTEND;TZID=America/New_York:20260527T200000
DTSTAMP:20260422T143123
CREATED:20260102T174205Z
LAST-MODIFIED:20260112T165453Z
UID:10152000-1779904800-1779912000@newbedfordlight.org
SUMMARY:Musical Bingo at Ryan's Sports Pub
DESCRIPTION:Ryan’s hosts Good Thomas musical bingo every Wednesday night from 6 to 8 p.m.
URL:https://newbedfordlight.org/event/musical-bingo-at-ryans-sports-pub/2026-05-27/
LOCATION:Ryan’s Sports Pub and Billiards\, 500 Hathaway Rd\, New Bedford\, MA\, United States
CATEGORIES:Bingo,Culture Calendar,Music
ATTACH;FMTTYPE=image/jpeg:https://newbedfordlight.org/wp-content/uploads/2026/01/ryans-music-bingo.jpg
END:VEVENT
BEGIN:VEVENT
DTSTART;TZID=America/New_York:20260603T180000
DTEND;TZID=America/New_York:20260603T200000
DTSTAMP:20260422T143123
CREATED:20260102T174205Z
LAST-MODIFIED:20260112T165453Z
UID:10152001-1780509600-1780516800@newbedfordlight.org
SUMMARY:Musical Bingo at Ryan's Sports Pub
DESCRIPTION:Ryan’s hosts Good Thomas musical bingo every Wednesday night from 6 to 8 p.m.
URL:https://newbedfordlight.org/event/musical-bingo-at-ryans-sports-pub/2026-06-03/
LOCATION:Ryan’s Sports Pub and Billiards\, 500 Hathaway Rd\, New Bedford\, MA\, United States
CATEGORIES:Bingo,Culture Calendar,Music
ATTACH;FMTTYPE=image/jpeg:https://newbedfordlight.org/wp-content/uploads/2026/01/ryans-music-bingo.jpg
END:VEVENT
BEGIN:VEVENT
DTSTART;TZID=America/New_York:20260610T180000
DTEND;TZID=America/New_York:20260610T200000
DTSTAMP:20260422T143123
CREATED:20260102T174205Z
LAST-MODIFIED:20260112T165453Z
UID:10152002-1781114400-1781121600@newbedfordlight.org
SUMMARY:Musical Bingo at Ryan's Sports Pub
DESCRIPTION:Ryan’s hosts Good Thomas musical bingo every Wednesday night from 6 to 8 p.m.
URL:https://newbedfordlight.org/event/musical-bingo-at-ryans-sports-pub/2026-06-10/
LOCATION:Ryan’s Sports Pub and Billiards\, 500 Hathaway Rd\, New Bedford\, MA\, United States
CATEGORIES:Bingo,Culture Calendar,Music
ATTACH;FMTTYPE=image/jpeg:https://newbedfordlight.org/wp-content/uploads/2026/01/ryans-music-bingo.jpg
END:VEVENT
BEGIN:VEVENT
DTSTART;TZID=America/New_York:20260617T180000
DTEND;TZID=America/New_York:20260617T200000
DTSTAMP:20260422T143123
CREATED:20260102T174205Z
LAST-MODIFIED:20260112T165453Z
UID:10152003-1781719200-1781726400@newbedfordlight.org
SUMMARY:Musical Bingo at Ryan's Sports Pub
DESCRIPTION:Ryan’s hosts Good Thomas musical bingo every Wednesday night from 6 to 8 p.m.
URL:https://newbedfordlight.org/event/musical-bingo-at-ryans-sports-pub/2026-06-17/
LOCATION:Ryan’s Sports Pub and Billiards\, 500 Hathaway Rd\, New Bedford\, MA\, United States
CATEGORIES:Bingo,Culture Calendar,Music
ATTACH;FMTTYPE=image/jpeg:https://newbedfordlight.org/wp-content/uploads/2026/01/ryans-music-bingo.jpg
END:VEVENT
BEGIN:VEVENT
DTSTART;TZID=America/New_York:20260624T180000
DTEND;TZID=America/New_York:20260624T200000
DTSTAMP:20260422T143123
CREATED:20260102T174205Z
LAST-MODIFIED:20260112T165453Z
UID:10152004-1782324000-1782331200@newbedfordlight.org
SUMMARY:Musical Bingo at Ryan's Sports Pub
DESCRIPTION:Ryan’s hosts Good Thomas musical bingo every Wednesday night from 6 to 8 p.m.
URL:https://newbedfordlight.org/event/musical-bingo-at-ryans-sports-pub/2026-06-24/
LOCATION:Ryan’s Sports Pub and Billiards\, 500 Hathaway Rd\, New Bedford\, MA\, United States
CATEGORIES:Bingo,Culture Calendar,Music
ATTACH;FMTTYPE=image/jpeg:https://newbedfordlight.org/wp-content/uploads/2026/01/ryans-music-bingo.jpg
END:VEVENT
BEGIN:VEVENT
DTSTART;TZID=America/New_York:20260701T180000
DTEND;TZID=America/New_York:20260701T200000
DTSTAMP:20260422T143123
CREATED:20260102T174205Z
LAST-MODIFIED:20260112T165453Z
UID:10152005-1782928800-1782936000@newbedfordlight.org
SUMMARY:Musical Bingo at Ryan's Sports Pub
DESCRIPTION:Ryan’s hosts Good Thomas musical bingo every Wednesday night from 6 to 8 p.m.
URL:https://newbedfordlight.org/event/musical-bingo-at-ryans-sports-pub/2026-07-01/
LOCATION:Ryan’s Sports Pub and Billiards\, 500 Hathaway Rd\, New Bedford\, MA\, United States
CATEGORIES:Bingo,Culture Calendar,Music
ATTACH;FMTTYPE=image/jpeg:https://newbedfordlight.org/wp-content/uploads/2026/01/ryans-music-bingo.jpg
END:VEVENT
BEGIN:VEVENT
DTSTART;TZID=America/New_York:20260708T180000
DTEND;TZID=America/New_York:20260708T200000
DTSTAMP:20260422T143123
CREATED:20260102T174205Z
LAST-MODIFIED:20260112T165453Z
UID:10152006-1783533600-1783540800@newbedfordlight.org
SUMMARY:Musical Bingo at Ryan's Sports Pub
DESCRIPTION:Ryan’s hosts Good Thomas musical bingo every Wednesday night from 6 to 8 p.m.
URL:https://newbedfordlight.org/event/musical-bingo-at-ryans-sports-pub/2026-07-08/
LOCATION:Ryan’s Sports Pub and Billiards\, 500 Hathaway Rd\, New Bedford\, MA\, United States
CATEGORIES:Bingo,Culture Calendar,Music
ATTACH;FMTTYPE=image/jpeg:https://newbedfordlight.org/wp-content/uploads/2026/01/ryans-music-bingo.jpg
END:VEVENT
BEGIN:VEVENT
DTSTART;TZID=America/New_York:20260715T180000
DTEND;TZID=America/New_York:20260715T200000
DTSTAMP:20260422T143123
CREATED:20260102T174205Z
LAST-MODIFIED:20260112T165453Z
UID:10152007-1784138400-1784145600@newbedfordlight.org
SUMMARY:Musical Bingo at Ryan's Sports Pub
DESCRIPTION:Ryan’s hosts Good Thomas musical bingo every Wednesday night from 6 to 8 p.m.
URL:https://newbedfordlight.org/event/musical-bingo-at-ryans-sports-pub/2026-07-15/
LOCATION:Ryan’s Sports Pub and Billiards\, 500 Hathaway Rd\, New Bedford\, MA\, United States
CATEGORIES:Bingo,Culture Calendar,Music
ATTACH;FMTTYPE=image/jpeg:https://newbedfordlight.org/wp-content/uploads/2026/01/ryans-music-bingo.jpg
END:VEVENT
BEGIN:VEVENT
DTSTART;TZID=America/New_York:20260722T180000
DTEND;TZID=America/New_York:20260722T200000
DTSTAMP:20260422T143123
CREATED:20260102T174205Z
LAST-MODIFIED:20260112T165453Z
UID:10152008-1784743200-1784750400@newbedfordlight.org
SUMMARY:Musical Bingo at Ryan's Sports Pub
DESCRIPTION:Ryan’s hosts Good Thomas musical bingo every Wednesday night from 6 to 8 p.m.
URL:https://newbedfordlight.org/event/musical-bingo-at-ryans-sports-pub/2026-07-22/
LOCATION:Ryan’s Sports Pub and Billiards\, 500 Hathaway Rd\, New Bedford\, MA\, United States
CATEGORIES:Bingo,Culture Calendar,Music
ATTACH;FMTTYPE=image/jpeg:https://newbedfordlight.org/wp-content/uploads/2026/01/ryans-music-bingo.jpg
END:VEVENT
BEGIN:VEVENT
DTSTART;TZID=America/New_York:20260729T180000
DTEND;TZID=America/New_York:20260729T200000
DTSTAMP:20260422T143123
CREATED:20260102T174205Z
LAST-MODIFIED:20260112T165453Z
UID:10152009-1785348000-1785355200@newbedfordlight.org
SUMMARY:Musical Bingo at Ryan's Sports Pub
DESCRIPTION:Ryan’s hosts Good Thomas musical bingo every Wednesday night from 6 to 8 p.m.
URL:https://newbedfordlight.org/event/musical-bingo-at-ryans-sports-pub/2026-07-29/
LOCATION:Ryan’s Sports Pub and Billiards\, 500 Hathaway Rd\, New Bedford\, MA\, United States
CATEGORIES:Bingo,Culture Calendar,Music
ATTACH;FMTTYPE=image/jpeg:https://newbedfordlight.org/wp-content/uploads/2026/01/ryans-music-bingo.jpg
END:VEVENT
BEGIN:VEVENT
DTSTART;TZID=America/New_York:20260805T180000
DTEND;TZID=America/New_York:20260805T200000
DTSTAMP:20260422T143123
CREATED:20260102T174205Z
LAST-MODIFIED:20260112T165453Z
UID:10152010-1785952800-1785960000@newbedfordlight.org
SUMMARY:Musical Bingo at Ryan's Sports Pub
DESCRIPTION:Ryan’s hosts Good Thomas musical bingo every Wednesday night from 6 to 8 p.m.
URL:https://newbedfordlight.org/event/musical-bingo-at-ryans-sports-pub/2026-08-05/
LOCATION:Ryan’s Sports Pub and Billiards\, 500 Hathaway Rd\, New Bedford\, MA\, United States
CATEGORIES:Bingo,Culture Calendar,Music
ATTACH;FMTTYPE=image/jpeg:https://newbedfordlight.org/wp-content/uploads/2026/01/ryans-music-bingo.jpg
END:VEVENT
BEGIN:VEVENT
DTSTART;TZID=America/New_York:20260812T180000
DTEND;TZID=America/New_York:20260812T200000
DTSTAMP:20260422T143123
CREATED:20260102T174205Z
LAST-MODIFIED:20260112T165453Z
UID:10152011-1786557600-1786564800@newbedfordlight.org
SUMMARY:Musical Bingo at Ryan's Sports Pub
DESCRIPTION:Ryan’s hosts Good Thomas musical bingo every Wednesday night from 6 to 8 p.m.
URL:https://newbedfordlight.org/event/musical-bingo-at-ryans-sports-pub/2026-08-12/
LOCATION:Ryan’s Sports Pub and Billiards\, 500 Hathaway Rd\, New Bedford\, MA\, United States
CATEGORIES:Bingo,Culture Calendar,Music
ATTACH;FMTTYPE=image/jpeg:https://newbedfordlight.org/wp-content/uploads/2026/01/ryans-music-bingo.jpg
END:VEVENT
BEGIN:VEVENT
DTSTART;TZID=America/New_York:20260819T180000
DTEND;TZID=America/New_York:20260819T200000
DTSTAMP:20260422T143123
CREATED:20260102T174205Z
LAST-MODIFIED:20260112T165453Z
UID:10152012-1787162400-1787169600@newbedfordlight.org
SUMMARY:Musical Bingo at Ryan's Sports Pub
DESCRIPTION:Ryan’s hosts Good Thomas musical bingo every Wednesday night from 6 to 8 p.m.
URL:https://newbedfordlight.org/event/musical-bingo-at-ryans-sports-pub/2026-08-19/
LOCATION:Ryan’s Sports Pub and Billiards\, 500 Hathaway Rd\, New Bedford\, MA\, United States
CATEGORIES:Bingo,Culture Calendar,Music
ATTACH;FMTTYPE=image/jpeg:https://newbedfordlight.org/wp-content/uploads/2026/01/ryans-music-bingo.jpg
END:VEVENT
BEGIN:VEVENT
DTSTART;TZID=America/New_York:20260826T180000
DTEND;TZID=America/New_York:20260826T200000
DTSTAMP:20260422T143123
CREATED:20260102T174205Z
LAST-MODIFIED:20260112T165453Z
UID:10152013-1787767200-1787774400@newbedfordlight.org
SUMMARY:Musical Bingo at Ryan's Sports Pub
DESCRIPTION:Ryan’s hosts Good Thomas musical bingo every Wednesday night from 6 to 8 p.m.
URL:https://newbedfordlight.org/event/musical-bingo-at-ryans-sports-pub/2026-08-26/
LOCATION:Ryan’s Sports Pub and Billiards\, 500 Hathaway Rd\, New Bedford\, MA\, United States
CATEGORIES:Bingo,Culture Calendar,Music
ATTACH;FMTTYPE=image/jpeg:https://newbedfordlight.org/wp-content/uploads/2026/01/ryans-music-bingo.jpg
END:VEVENT
BEGIN:VEVENT
DTSTART;TZID=America/New_York:20260902T180000
DTEND;TZID=America/New_York:20260902T200000
DTSTAMP:20260422T143123
CREATED:20260102T174205Z
LAST-MODIFIED:20260112T165453Z
UID:10152014-1788372000-1788379200@newbedfordlight.org
SUMMARY:Musical Bingo at Ryan's Sports Pub
DESCRIPTION:Ryan’s hosts Good Thomas musical bingo every Wednesday night from 6 to 8 p.m.
URL:https://newbedfordlight.org/event/musical-bingo-at-ryans-sports-pub/2026-09-02/
LOCATION:Ryan’s Sports Pub and Billiards\, 500 Hathaway Rd\, New Bedford\, MA\, United States
CATEGORIES:Bingo,Culture Calendar,Music
ATTACH;FMTTYPE=image/jpeg:https://newbedfordlight.org/wp-content/uploads/2026/01/ryans-music-bingo.jpg
END:VEVENT
BEGIN:VEVENT
DTSTART;TZID=America/New_York:20260909T180000
DTEND;TZID=America/New_York:20260909T200000
DTSTAMP:20260422T143123
CREATED:20260102T174205Z
LAST-MODIFIED:20260112T165453Z
UID:10152015-1788976800-1788984000@newbedfordlight.org
SUMMARY:Musical Bingo at Ryan's Sports Pub
DESCRIPTION:Ryan’s hosts Good Thomas musical bingo every Wednesday night from 6 to 8 p.m.
URL:https://newbedfordlight.org/event/musical-bingo-at-ryans-sports-pub/2026-09-09/
LOCATION:Ryan’s Sports Pub and Billiards\, 500 Hathaway Rd\, New Bedford\, MA\, United States
CATEGORIES:Bingo,Culture Calendar,Music
ATTACH;FMTTYPE=image/jpeg:https://newbedfordlight.org/wp-content/uploads/2026/01/ryans-music-bingo.jpg
END:VEVENT
BEGIN:VEVENT
DTSTART;TZID=America/New_York:20260916T180000
DTEND;TZID=America/New_York:20260916T200000
DTSTAMP:20260422T143123
CREATED:20260102T174205Z
LAST-MODIFIED:20260112T165453Z
UID:10152016-1789581600-1789588800@newbedfordlight.org
SUMMARY:Musical Bingo at Ryan's Sports Pub
DESCRIPTION:Ryan’s hosts Good Thomas musical bingo every Wednesday night from 6 to 8 p.m.
URL:https://newbedfordlight.org/event/musical-bingo-at-ryans-sports-pub/2026-09-16/
LOCATION:Ryan’s Sports Pub and Billiards\, 500 Hathaway Rd\, New Bedford\, MA\, United States
CATEGORIES:Bingo,Culture Calendar,Music
ATTACH;FMTTYPE=image/jpeg:https://newbedfordlight.org/wp-content/uploads/2026/01/ryans-music-bingo.jpg
END:VEVENT
BEGIN:VEVENT
DTSTART;TZID=America/New_York:20260923T180000
DTEND;TZID=America/New_York:20260923T200000
DTSTAMP:20260422T143123
CREATED:20260102T174205Z
LAST-MODIFIED:20260112T165453Z
UID:10152017-1790186400-1790193600@newbedfordlight.org
SUMMARY:Musical Bingo at Ryan's Sports Pub
DESCRIPTION:Ryan’s hosts Good Thomas musical bingo every Wednesday night from 6 to 8 p.m.
URL:https://newbedfordlight.org/event/musical-bingo-at-ryans-sports-pub/2026-09-23/
LOCATION:Ryan’s Sports Pub and Billiards\, 500 Hathaway Rd\, New Bedford\, MA\, United States
CATEGORIES:Bingo,Culture Calendar,Music
ATTACH;FMTTYPE=image/jpeg:https://newbedfordlight.org/wp-content/uploads/2026/01/ryans-music-bingo.jpg
END:VEVENT
BEGIN:VEVENT
DTSTART;TZID=America/New_York:20260930T180000
DTEND;TZID=America/New_York:20260930T200000
DTSTAMP:20260422T143123
CREATED:20260102T174205Z
LAST-MODIFIED:20260112T165453Z
UID:10152018-1790791200-1790798400@newbedfordlight.org
SUMMARY:Musical Bingo at Ryan's Sports Pub
DESCRIPTION:Ryan’s hosts Good Thomas musical bingo every Wednesday night from 6 to 8 p.m.
URL:https://newbedfordlight.org/event/musical-bingo-at-ryans-sports-pub/2026-09-30/
LOCATION:Ryan’s Sports Pub and Billiards\, 500 Hathaway Rd\, New Bedford\, MA\, United States
CATEGORIES:Bingo,Culture Calendar,Music
ATTACH;FMTTYPE=image/jpeg:https://newbedfordlight.org/wp-content/uploads/2026/01/ryans-music-bingo.jpg
END:VEVENT
BEGIN:VEVENT
DTSTART;TZID=America/New_York:20261007T180000
DTEND;TZID=America/New_York:20261007T200000
DTSTAMP:20260422T143123
CREATED:20260102T174205Z
LAST-MODIFIED:20260112T165453Z
UID:10152019-1791396000-1791403200@newbedfordlight.org
SUMMARY:Musical Bingo at Ryan's Sports Pub
DESCRIPTION:Ryan’s hosts Good Thomas musical bingo every Wednesday night from 6 to 8 p.m.
URL:https://newbedfordlight.org/event/musical-bingo-at-ryans-sports-pub/2026-10-07/
LOCATION:Ryan’s Sports Pub and Billiards\, 500 Hathaway Rd\, New Bedford\, MA\, United States
CATEGORIES:Bingo,Culture Calendar,Music
ATTACH;FMTTYPE=image/jpeg:https://newbedfordlight.org/wp-content/uploads/2026/01/ryans-music-bingo.jpg
END:VEVENT
BEGIN:VEVENT
DTSTART;TZID=America/New_York:20261014T180000
DTEND;TZID=America/New_York:20261014T200000
DTSTAMP:20260422T143123
CREATED:20260102T174205Z
LAST-MODIFIED:20260112T165453Z
UID:10152020-1792000800-1792008000@newbedfordlight.org
SUMMARY:Musical Bingo at Ryan's Sports Pub
DESCRIPTION:Ryan’s hosts Good Thomas musical bingo every Wednesday night from 6 to 8 p.m.
URL:https://newbedfordlight.org/event/musical-bingo-at-ryans-sports-pub/2026-10-14/
LOCATION:Ryan’s Sports Pub and Billiards\, 500 Hathaway Rd\, New Bedford\, MA\, United States
CATEGORIES:Bingo,Culture Calendar,Music
ATTACH;FMTTYPE=image/jpeg:https://newbedfordlight.org/wp-content/uploads/2026/01/ryans-music-bingo.jpg
END:VEVENT
BEGIN:VEVENT
DTSTART;TZID=America/New_York:20261021T180000
DTEND;TZID=America/New_York:20261021T200000
DTSTAMP:20260422T143123
CREATED:20260102T174205Z
LAST-MODIFIED:20260112T165453Z
UID:10152021-1792605600-1792612800@newbedfordlight.org
SUMMARY:Musical Bingo at Ryan's Sports Pub
DESCRIPTION:Ryan’s hosts Good Thomas musical bingo every Wednesday night from 6 to 8 p.m.
URL:https://newbedfordlight.org/event/musical-bingo-at-ryans-sports-pub/2026-10-21/
LOCATION:Ryan’s Sports Pub and Billiards\, 500 Hathaway Rd\, New Bedford\, MA\, United States
CATEGORIES:Bingo,Culture Calendar,Music
ATTACH;FMTTYPE=image/jpeg:https://newbedfordlight.org/wp-content/uploads/2026/01/ryans-music-bingo.jpg
END:VEVENT
BEGIN:VEVENT
DTSTART;TZID=America/New_York:20261028T180000
DTEND;TZID=America/New_York:20261028T200000
DTSTAMP:20260422T143123
CREATED:20260102T174205Z
LAST-MODIFIED:20260112T165453Z
UID:10152022-1793210400-1793217600@newbedfordlight.org
SUMMARY:Musical Bingo at Ryan's Sports Pub
DESCRIPTION:Ryan’s hosts Good Thomas musical bingo every Wednesday night from 6 to 8 p.m.
URL:https://newbedfordlight.org/event/musical-bingo-at-ryans-sports-pub/2026-10-28/
LOCATION:Ryan’s Sports Pub and Billiards\, 500 Hathaway Rd\, New Bedford\, MA\, United States
CATEGORIES:Bingo,Culture Calendar,Music
ATTACH;FMTTYPE=image/jpeg:https://newbedfordlight.org/wp-content/uploads/2026/01/ryans-music-bingo.jpg
END:VEVENT
BEGIN:VEVENT
DTSTART;TZID=America/New_York:20261104T180000
DTEND;TZID=America/New_York:20261104T200000
DTSTAMP:20260422T143123
CREATED:20260102T174205Z
LAST-MODIFIED:20260112T165453Z
UID:10152023-1793815200-1793822400@newbedfordlight.org
SUMMARY:Musical Bingo at Ryan's Sports Pub
DESCRIPTION:Ryan’s hosts Good Thomas musical bingo every Wednesday night from 6 to 8 p.m.
URL:https://newbedfordlight.org/event/musical-bingo-at-ryans-sports-pub/2026-11-04/
LOCATION:Ryan’s Sports Pub and Billiards\, 500 Hathaway Rd\, New Bedford\, MA\, United States
CATEGORIES:Bingo,Culture Calendar,Music
ATTACH;FMTTYPE=image/jpeg:https://newbedfordlight.org/wp-content/uploads/2026/01/ryans-music-bingo.jpg
END:VEVENT
BEGIN:VEVENT
DTSTART;TZID=America/New_York:20261111T180000
DTEND;TZID=America/New_York:20261111T200000
DTSTAMP:20260422T143123
CREATED:20260102T174205Z
LAST-MODIFIED:20260112T165453Z
UID:10152024-1794420000-1794427200@newbedfordlight.org
SUMMARY:Musical Bingo at Ryan's Sports Pub
DESCRIPTION:Ryan’s hosts Good Thomas musical bingo every Wednesday night from 6 to 8 p.m.
URL:https://newbedfordlight.org/event/musical-bingo-at-ryans-sports-pub/2026-11-11/
LOCATION:Ryan’s Sports Pub and Billiards\, 500 Hathaway Rd\, New Bedford\, MA\, United States
CATEGORIES:Bingo,Culture Calendar,Music
ATTACH;FMTTYPE=image/jpeg:https://newbedfordlight.org/wp-content/uploads/2026/01/ryans-music-bingo.jpg
END:VEVENT
END:VCALENDAR