BEGIN:VCALENDAR
VERSION:2.0
PRODID:-//The New Bedford Light - ECPv6.15.20//NONSGML v1.0//EN
CALSCALE:GREGORIAN
METHOD:PUBLISH
X-ORIGINAL-URL:https://newbedfordlight.org
X-WR-CALDESC:Events for The New Bedford Light
REFRESH-INTERVAL;VALUE=DURATION:PT1H
X-Robots-Tag:noindex
X-PUBLISHED-TTL:PT1H
BEGIN:VTIMEZONE
TZID:America/New_York
BEGIN:DAYLIGHT
TZOFFSETFROM:-0500
TZOFFSETTO:-0400
TZNAME:EDT
DTSTART:20250309T070000
END:DAYLIGHT
BEGIN:STANDARD
TZOFFSETFROM:-0400
TZOFFSETTO:-0500
TZNAME:EST
DTSTART:20251102T060000
END:STANDARD
BEGIN:DAYLIGHT
TZOFFSETFROM:-0500
TZOFFSETTO:-0400
TZNAME:EDT
DTSTART:20260308T070000
END:DAYLIGHT
BEGIN:STANDARD
TZOFFSETFROM:-0400
TZOFFSETTO:-0500
TZNAME:EST
DTSTART:20261101T060000
END:STANDARD
BEGIN:DAYLIGHT
TZOFFSETFROM:-0500
TZOFFSETTO:-0400
TZNAME:EDT
DTSTART:20270314T070000
END:DAYLIGHT
BEGIN:STANDARD
TZOFFSETFROM:-0400
TZOFFSETTO:-0500
TZNAME:EST
DTSTART:20271107T060000
END:STANDARD
END:VTIMEZONE
BEGIN:VEVENT
DTSTART;TZID=America/New_York:20260423T190000
DTEND;TZID=America/New_York:20260423T190000
DTSTAMP:20260424T042106
CREATED:20251201T225001Z
LAST-MODIFIED:20251201T225001Z
UID:10147070-1776970800-1776970800@newbedfordlight.org
SUMMARY:Trivia Night at Ryan's Sports Pub
DESCRIPTION:Thursday is trivia night with The New England Trivia Company at 7 p.m. \nCome test your knowledge. Free to play and win prizes
URL:https://newbedfordlight.org/event/trivia-night-at-ryans-sports-pub/2026-04-23/
LOCATION:Ryan’s Sports Pub and Billiards\, 500 Hathaway Rd\, New Bedford\, MA\, United States
CATEGORIES:Culture Calendar,Trivia
ATTACH;FMTTYPE=image/jpeg:https://newbedfordlight.org/wp-content/uploads/2024/01/Play-Arcade-Trivia.jpg
END:VEVENT
BEGIN:VEVENT
DTSTART;TZID=America/New_York:20260422T190000
DTEND;TZID=America/New_York:20260422T210000
DTSTAMP:20260424T042106
CREATED:20251222T165938Z
LAST-MODIFIED:20251222T165938Z
UID:10138937-1776884400-1776891600@newbedfordlight.org
SUMMARY:Trivia at Play Arcade
DESCRIPTION:Play Arcade hosts trivia every Wednesday from 7–9 p.m.
URL:https://newbedfordlight.org/event/trivia-at-play-arcade-3/2026-04-22/
LOCATION:PLAY! Arcade\, 34 Union St.\, New Bedford\, MA\, United States
CATEGORIES:Culture Calendar,Trivia
ATTACH;FMTTYPE=image/jpeg:https://newbedfordlight.org/wp-content/uploads/2025/10/trivia-play.jpg
END:VEVENT
BEGIN:VEVENT
DTSTART;TZID=America/New_York:20260121T183000
DTEND;TZID=America/New_York:20260121T183000
DTSTAMP:20260424T042106
CREATED:20260105T210817Z
LAST-MODIFIED:20260105T210817Z
UID:10151122-1769020200-1769020200@newbedfordlight.org
SUMMARY:Member Night: Classic Rock Trivia
DESCRIPTION:Member Nights at The Z are designed to build community among Z members. This is a fun way to connect outside of performances. \nJust days before one of the year’s biggest concerts\, Get the Led Out\, members can put their classic rock knowledge to the test in the new Speakeasy.
URL:https://newbedfordlight.org/event/member-night-classic-rock-trivia/
LOCATION:Zeiterion\, 684 Purchase St.\, New Bedford\, MA\, United States
CATEGORIES:Culture Calendar,Trivia,Zeiterion
ATTACH;FMTTYPE=image/jpeg:https://newbedfordlight.org/wp-content/uploads/2026/01/zeiterion-members.jpg
END:VEVENT
END:VCALENDAR