BEGIN:VCALENDAR
VERSION:2.0
PRODID:-//The New Bedford Light - ECPv6.15.20//NONSGML v1.0//EN
CALSCALE:GREGORIAN
METHOD:PUBLISH
X-ORIGINAL-URL:https://newbedfordlight.org
X-WR-CALDESC:Events for The New Bedford Light
REFRESH-INTERVAL;VALUE=DURATION:PT1H
X-Robots-Tag:noindex
X-PUBLISHED-TTL:PT1H
BEGIN:VTIMEZONE
TZID:America/New_York
BEGIN:DAYLIGHT
TZOFFSETFROM:-0500
TZOFFSETTO:-0400
TZNAME:EDT
DTSTART:20250309T070000
END:DAYLIGHT
BEGIN:STANDARD
TZOFFSETFROM:-0400
TZOFFSETTO:-0500
TZNAME:EST
DTSTART:20251102T060000
END:STANDARD
BEGIN:DAYLIGHT
TZOFFSETFROM:-0500
TZOFFSETTO:-0400
TZNAME:EDT
DTSTART:20260308T070000
END:DAYLIGHT
BEGIN:STANDARD
TZOFFSETFROM:-0400
TZOFFSETTO:-0500
TZNAME:EST
DTSTART:20261101T060000
END:STANDARD
BEGIN:DAYLIGHT
TZOFFSETFROM:-0500
TZOFFSETTO:-0400
TZNAME:EDT
DTSTART:20270314T070000
END:DAYLIGHT
BEGIN:STANDARD
TZOFFSETFROM:-0400
TZOFFSETTO:-0500
TZNAME:EST
DTSTART:20271107T060000
END:STANDARD
END:VTIMEZONE
BEGIN:VEVENT
DTSTART;TZID=America/New_York:20260419T190000
DTEND;TZID=America/New_York:20260419T220000
DTSTAMP:20260420T042704
CREATED:20260310T160411Z
LAST-MODIFIED:20260310T160411Z
UID:10162120-1776625200-1776636000@newbedfordlight.org
SUMMARY:Justin Sampson at Bittersweet Farm
DESCRIPTION:Justin Sampson of CarSon Acoustic Duo\, brings a unique perspective to a diverse range of tunes.
URL:https://newbedfordlight.org/event/justin-sampson-at-bittersweet-farm/
LOCATION:Bittersweet Farm Tavern\, 438 Main Road\, Westport\, MA\, United States
CATEGORIES:Culture Calendar,Music
ATTACH;FMTTYPE=image/jpeg:https://newbedfordlight.org/wp-content/uploads/2022/01/CarSon.jpg
END:VEVENT
BEGIN:VEVENT
DTSTART;TZID=America/New_York:20260419T170000
DTEND;TZID=America/New_York:20260419T200000
DTSTAMP:20260420T042704
CREATED:20260402T141232Z
LAST-MODIFIED:20260402T141232Z
UID:10163466-1776618000-1776628800@newbedfordlight.org
SUMMARY:Les Sampou at Cork
DESCRIPTION:Les Sampou is a singer and songwriter from Boston. She is known for her blend of Americana\, blues\, folk\, and rock. \nSampou began performing in the 1990s and went on to appear at major festivals\, including Montreal Jazz Festival\, SXSW\, and Toronto Blues Festival. \nHer album Lonesomeville reached No. 2 on the U.S. and European Americana charts. Sampou continues to write\, teach\, and perform with both her Americana band and jazz quartet. \nHer New Bedford debut at Cork sold out quickly this past November\, prompting management to book her for a monthly Sunday residency.
URL:https://newbedfordlight.org/event/les-sampou-at-cork-3/2026-04-19/
LOCATION:Cork Wine and Tapas\, 90 Front St.\, New Bedford\, MA\, United States
CATEGORIES:Culture Calendar,Music
ATTACH;FMTTYPE=image/jpeg:https://newbedfordlight.org/wp-content/uploads/2025/11/Les-Sampou-2.jpg
END:VEVENT
BEGIN:VEVENT
DTSTART;TZID=America/New_York:20260419T160000
DTEND;TZID=America/New_York:20260419T180000
DTSTAMP:20260420T042704
CREATED:20260410T154709Z
LAST-MODIFIED:20260410T154709Z
UID:10163745-1776614400-1776621600@newbedfordlight.org
SUMMARY:Yoron Israel & High Standards at Acoustic Jazz Concert
DESCRIPTION:New Bedford JazzFest is back with its Acoustic Jazz Series on Sunday\, April 19\, from 4 to 6 p.m. at the Steeple Playhouse. Doors open at 3:30 p.m. Tickets are $30 for adults\, $25 for seniors\, students\, and military\, and $5 for Mass residents. Card to Culture. \nThe concert features Yoron Israel and High Standards in an informal setting with live acoustic jazz and space for conversation. The March 1 date was postponed due to the weather. \nIsrael is a drummer\, composer\, and Berklee College of Music professor. He has performed with Sonny Rollins\, Ahmad Jamal\, and others. He will be joined by Ian Buss\, Laszlo Gardony\, Greg Loughman\, and Nadia Washington.
URL:https://newbedfordlight.org/event/yoron-israel-high-standards-at-acoustic-jazz-concert/
LOCATION:The Steeple Playhouse\, 159 William Street\, New Bedford\, MA\, United States
CATEGORIES:Culture Calendar,Music
ATTACH;FMTTYPE=image/jpeg:https://newbedfordlight.org/wp-content/uploads/2026/02/Yoron-Israel-_-High-Standards.jpg
END:VEVENT
BEGIN:VEVENT
DTSTART;TZID=America/New_York:20260419T160000
DTEND;TZID=America/New_York:20260419T160000
DTSTAMP:20260420T042704
CREATED:20251221T212252Z
LAST-MODIFIED:20251221T212252Z
UID:10148321-1776614400-1776614400@newbedfordlight.org
SUMMARY:Pearly Baker at Pour Farm
DESCRIPTION:Pearly Baker is a popular local tribute band performing the music of the Grateful Dead since 1985.
URL:https://newbedfordlight.org/event/pearly-baker-at-pour-farm/2026-04-19/
LOCATION:Pour Farm Tavern\, 780 Purchase Street\, New Bedford\, MA\, 02740\, United States
CATEGORIES:Culture Calendar,Music
ATTACH;FMTTYPE=image/jpeg:https://newbedfordlight.org/wp-content/uploads/2025/12/Pearly-Baker.jpg
END:VEVENT
BEGIN:VEVENT
DTSTART;TZID=America/New_York:20260419T103000
DTEND;TZID=America/New_York:20260419T133000
DTSTAMP:20260420T042704
CREATED:20260408T175531Z
LAST-MODIFIED:20260408T175531Z
UID:10163688-1776594600-1776605400@newbedfordlight.org
SUMMARY:Sunday Brunch with Taylor Cormier at Cisco
DESCRIPTION:Taylor Cormier brings classic Sinatra favorites to Cisco a at 10:30 a.m. on Sunday\, April 19. \nSince 2014\, Cormier has brought new energy to jazz and pop standards by Sinatra\, Dean Martin\, and Tony Bennett.
URL:https://newbedfordlight.org/event/sunday-brunch-with-taylor-cormier-at-cisco/
LOCATION:Cisco Brewers Kitchen & Bar\, 1480 East Rodney French Blvd.\, New Bedford\, MA\, United States
CATEGORIES:Cisco Brewers,Culture Calendar,Music
ATTACH;FMTTYPE=image/jpeg:https://newbedfordlight.org/wp-content/uploads/2025/05/Taylor-Cormier.jpg
END:VEVENT
BEGIN:VEVENT
DTSTART;TZID=America/New_York:20260418T220000
DTEND;TZID=America/New_York:20260418T220000
DTSTAMP:20260420T042704
CREATED:20260413T200110Z
LAST-MODIFIED:20260413T200110Z
UID:10163776-1776549600-1776549600@newbedfordlight.org
SUMMARY:LIKK at Knuckle Heads
DESCRIPTION:LIKK is a high-energy cover band that plays a range of dance\, classic\, and rock music that will keep you dancing from start to finish.
URL:https://newbedfordlight.org/event/likk-at-knuckle-heads/
LOCATION:Knuckle Heads\, 85 MacArthur Dr.\, New Bedford\, MA\, United States
CATEGORIES:Culture Calendar,Knuckle Heads Bar & Grill,Music
ATTACH;FMTTYPE=image/jpeg:https://newbedfordlight.org/wp-content/uploads/2022/07/Likk-1.jpg
END:VEVENT
BEGIN:VEVENT
DTSTART;TZID=America/New_York:20260418T210000
DTEND;TZID=America/New_York:20260418T210000
DTSTAMP:20260420T042704
CREATED:20260408T164756Z
LAST-MODIFIED:20260408T165007Z
UID:10163542-1776546000-1776546000@newbedfordlight.org
SUMMARY:Craig DeMelo at Cork
DESCRIPTION:Craig DeMelo is a versatile singer/songwriter from Acushnet who can sing a ballad or blast out a rock song. Craig has opened for Howie Day\, Hootie and the Blowfish\, Matchbox 20\, the Mighty Mighty Bosstones\, Less than Jake\, Griffin House\, and Ed Kowalczyk during his career.
URL:https://newbedfordlight.org/event/craig-demelo-at-cork/
LOCATION:Cork Wine and Tapas\, 90 Front St.\, New Bedford\, MA\, United States
CATEGORIES:Culture Calendar,Music
ATTACH;FMTTYPE=image/jpeg:https://newbedfordlight.org/wp-content/uploads/2022/05/Craig-Demello.jpg
END:VEVENT
BEGIN:VEVENT
DTSTART;TZID=America/New_York:20260418T210000
DTEND;TZID=America/New_York:20260418T210000
DTSTAMP:20260420T042704
CREATED:20260322T190844Z
LAST-MODIFIED:20260322T190844Z
UID:10162521-1776546000-1776546000@newbedfordlight.org
SUMMARY:Time Warp at Oriental Pearl
DESCRIPTION:Time Warp is a cover band from Fairhaven that plays classic and modern rock.
URL:https://newbedfordlight.org/event/time-warp-at-oriental-pearl/
LOCATION:Oriental Pearl\, 576 State St.\,  Westport\, MA\, United States
CATEGORIES:Culture Calendar,Music,Oriental Pearl
ATTACH;FMTTYPE=image/jpeg:https://newbedfordlight.org/wp-content/uploads/2026/03/Time-Warp.jpg
END:VEVENT
BEGIN:VEVENT
DTSTART;TZID=America/New_York:20260418T200000
DTEND;TZID=America/New_York:20260418T230000
DTSTAMP:20260420T042704
CREATED:20251102T191642Z
LAST-MODIFIED:20251102T192125Z
UID:10140373-1776542400-1776553200@newbedfordlight.org
SUMMARY:Live Music at Bayside Lounge
DESCRIPTION:Bayside Lounge features live music every Friday 7–9 p.m.\, Saturday 8–11 p.m. and Sunday 5–8 p.m. Find up-to-date details on the Facebook page.
URL:https://newbedfordlight.org/event/live-music-at-bayside-lounge-2/2026-04-18/
LOCATION:The Bayside Lounge\, 125 Sconticut Neck Rd\, Fairhaven\, MA\, 02719\, United States
CATEGORIES:Culture Calendar,Music
ATTACH;FMTTYPE=image/jpeg:https://newbedfordlight.org/wp-content/uploads/2025/11/bayside-lounge-live-music.jpg
END:VEVENT
BEGIN:VEVENT
DTSTART;TZID=America/New_York:20260418T200000
DTEND;TZID=America/New_York:20260418T200000
DTSTAMP:20260420T042704
CREATED:20260402T183409Z
LAST-MODIFIED:20260402T183409Z
UID:10163484-1776542400-1776542400@newbedfordlight.org
SUMMARY:Ryan Montbleau Band at Narrows
DESCRIPTION:Ryan Montbleau Band comes to town Saturday\, April 18. Doors open at 7 p.m. The show begins at 8 p.m. Tickets are $52 in advance and $55 on the day of the show. Brooks Forsyth opens. \nLed by Ryan Montbleau\, the band blends soul\, folk\, and rock. The focus is on live performance. Montbleau has built a national following over nearly three decades. His work includes collaborations across genres and more than 150 million streams. \nForsyth is a North Carolina native. He draws from Appalachian and Americana traditions. His set features original songs and a mix of flatpicking and fingerpicking guitar styles. He has toured widely as a solo act and with ensembles.
URL:https://newbedfordlight.org/event/ryan-montbleau-band-at-narrows/
LOCATION:Narrows Center for the Arts\, 16 Anawan St.\, Fall River\, MA\, United States
CATEGORIES:Culture Calendar,Music,Narrows Center
ATTACH;FMTTYPE=image/jpeg:https://newbedfordlight.org/wp-content/uploads/2024/10/RyanMontbleau450.jpg
END:VEVENT
BEGIN:VEVENT
DTSTART;TZID=America/New_York:20260418T193000
DTEND;TZID=America/New_York:20260418T193000
DTSTAMP:20260420T042704
CREATED:20260321T211908Z
LAST-MODIFIED:20260321T211908Z
UID:10162487-1776540600-1776540600@newbedfordlight.org
SUMMARY:NBSO: The Human Element
DESCRIPTION:NBSO will perform “The Human Element” on Saturday\, April 18\, at 7:30 p.m. at the Zeiterion. Tickets range from $30 to $80\, plus fees. \nMusic Director Yaniv Dinur leads the program\, featuring pianist Michel Camilo. The concert explores concepts of transformation through sound and culture. \nThe program opens with Missy Mazzoli’s River Rouge Transfiguration\, inspired by Detroit’s industrial landscape. Johannes Brahms’ Symphony No. 3 follows\, featuring a mix of intensity and lyricism. \nCamilo closes the show with his Piano Concerto No. 1\, performing his own work. The piece blends classical form with jazz and Afro-Caribbean influences.
URL:https://newbedfordlight.org/event/nbso-the-human-element/
LOCATION:Zeiterion\, 684 Purchase St.\, New Bedford\, MA\, United States
CATEGORIES:Culture Calendar,Music,New Bedford Symphony Orchestra,Zeiterion
ATTACH;FMTTYPE=image/jpeg:https://newbedfordlight.org/wp-content/uploads/2026/03/April-The-Human-Element.jpg
END:VEVENT
BEGIN:VEVENT
DTSTART;TZID=America/New_York:20260418T190000
DTEND;TZID=America/New_York:20260418T220000
DTSTAMP:20260420T042704
CREATED:20260408T183024Z
LAST-MODIFIED:20260408T183024Z
UID:10163709-1776538800-1776549600@newbedfordlight.org
SUMMARY:Loose Screws at Ryan's Sports Pub
DESCRIPTION:Loose Screws is a high-energy party band consisting of three lifelong Dartmouth residents. The band plays a mix of ’70s through today’s tuneage.
URL:https://newbedfordlight.org/event/loose-screws-at-ryans-sports-pub/
LOCATION:Ryan’s Sports Pub and Billiards\, 500 Hathaway Rd\, New Bedford\, MA\, United States
CATEGORIES:Culture Calendar,Music
ATTACH;FMTTYPE=image/jpeg:https://newbedfordlight.org/wp-content/uploads/2021/06/Loose-Screws.jpg
END:VEVENT
BEGIN:VEVENT
DTSTART;TZID=America/New_York:20260418T190000
DTEND;TZID=America/New_York:20260418T190000
DTSTAMP:20260420T042704
CREATED:20260408T175251Z
LAST-MODIFIED:20260408T175251Z
UID:10163687-1776538800-1776538800@newbedfordlight.org
SUMMARY:Benjamin Quinn at Cisco
DESCRIPTION:Benjamin Quinn is a performer\, recording artist\, and producer who releases original music and appears at venues across New England. \nQuinn\, also known as Benny Midnight\, is based in Providence\, RI. He has built an international audience and a steady local following. New releases and live dates are planned.
URL:https://newbedfordlight.org/event/benjamin-quinn-at-cisco/
LOCATION:Cisco Brewers Kitchen & Bar\, 1480 East Rodney French Blvd.\, New Bedford\, MA\, United States
CATEGORIES:Cisco Brewers,Culture Calendar,Music
ATTACH;FMTTYPE=image/jpeg:https://newbedfordlight.org/wp-content/uploads/2025/11/benjamin-quinn.jpg
END:VEVENT
BEGIN:VEVENT
DTSTART;TZID=America/New_York:20260418T190000
DTEND;TZID=America/New_York:20260418T190000
DTSTAMP:20260420T042704
CREATED:20260406T181752Z
LAST-MODIFIED:20260406T181752Z
UID:10163518-1776538800-1776538800@newbedfordlight.org
SUMMARY:Improvisational jazz at The Shepherd Center
DESCRIPTION:Hum\, a new quartet\, will perform Saturday\, April 18\, at 7 p.m. at The Shepherd Center. Tickets are $20 online and $25 at the door. \nThe group features Nina Ott on organ and synthesizers\, Steve Fell on guitar\, John McKenna on saxophone and synthesizers\, and Chris Lopes on drums and percussion. \nTheir sound is rooted in jazz. Performances mix original pieces with improvisation\, including music by Thelonious Monk. \nElectronic and acoustic sounds blend throughout. McKenna also uses playable sculptures he has built\, adding a visual element. \nThe group recently performed on WGBH’s JazzNow before a live audience.
URL:https://newbedfordlight.org/event/improvisational-jazz-at-the-shepherd-center/
LOCATION:The Shepherd Center\, 34 Center Street (William Street Entrance)\, Fairhaven\, MA\, 02719\, United States
CATEGORIES:Culture Calendar,Music,The Shepherd Center
ATTACH;FMTTYPE=image/jpeg:https://newbedfordlight.org/wp-content/uploads/2026/04/Nina-Ott-Hum.jpg
END:VEVENT
BEGIN:VEVENT
DTSTART;TZID=America/New_York:20260418T190000
DTEND;TZID=America/New_York:20260418T190000
DTSTAMP:20260420T042704
CREATED:20260316T205728Z
LAST-MODIFIED:20260316T205728Z
UID:10162193-1776538800-1776538800@newbedfordlight.org
SUMMARY:Music to Change the World: Beverly & Lewis Music at the MAC
DESCRIPTION:Carl Beverly and Richard D. Lewis will perform Saturday\, April 18\, at 7 p.m. at the MAC. General admission tickets are $25 for members and $30 for nonmembers. Seating is first-come\, first-served.\n\nBoth singer-songwriters draw from folk and Americana traditions. Their original songs focus on personal stories\, social issues\, and themes of hope and community.\n\nBeverly\, of Warner\, New Hampshire\, is known for his rhythmic fingerpicking guitar style and reflective songwriting. His music has aired on New Hampshire Public Radio and Canada’s Radio One. His debut album\, “Ordinary Life\,” was released in 2018.\n\nLewis writes songs shaped by experiences in the 1960s protest movements and by ongoing work related to human rights and social justice. He splits his time between Marion and Dunedin\, Florida.
URL:https://newbedfordlight.org/event/music-to-change-the-world-beverly-lewis-music-at-the-mac/
LOCATION:Marion Art Center\, 80 Pleasant St.\, Marion\, MA\, 02738\, United States
CATEGORIES:Culture Calendar,Music
ATTACH;FMTTYPE=image/jpeg:https://newbedfordlight.org/wp-content/uploads/2026/03/Music-to-Change-the-World-Beverly-Lewis.jpg
END:VEVENT
BEGIN:VEVENT
DTSTART;TZID=America/New_York:20260418T180000
DTEND;TZID=America/New_York:20260418T210000
DTSTAMP:20260420T042704
CREATED:20260324T215500Z
LAST-MODIFIED:20260324T215500Z
UID:10162543-1776535200-1776546000@newbedfordlight.org
SUMMARY:Bill Santos at The Galley Grille
DESCRIPTION:Guitarist Bill Santos\, formerly of the acoustic band Wood n’ Wire\, will perform solo.
URL:https://newbedfordlight.org/event/bill-santos-at-the-galley-grille/2026-04-18/
LOCATION:White’s of Westport\, 66 State Rd\, Westport\, MA\, United States
CATEGORIES:Culture Calendar,Music
ATTACH;FMTTYPE=image/jpeg:https://newbedfordlight.org/wp-content/uploads/2023/09/Bill-Santos.jpeg
END:VEVENT
BEGIN:VEVENT
DTSTART;TZID=America/New_York:20260418T150000
DTEND;TZID=America/New_York:20260418T200000
DTSTAMP:20260420T042704
CREATED:20260201T192909Z
LAST-MODIFIED:20260201T192909Z
UID:10153896-1776524400-1776542400@newbedfordlight.org
SUMMARY:Kettle Kitchen Concerts at Buzzards Bay Brewing
DESCRIPTION:Kettle Kitchen Concerts pair tacos\, tunes\, and cold beer on Saturday afternoons. The brewery is open from 3 to 8 p.m.\, with free live music each week at 5:30 p.m. South Coast artists bring the soundtrack. \nBBQ y MAS serves Birria tacos from the Kettle Kitchen at Buzzards Bay Brewing\, along with rotating weekly specials that fill the space with inviting aromas. The vibe is easygoing and local\, with good beer\, good food\, and live music every Saturday. \nThe February and March music lineup: \n\n\n\n\n\n\n\nFeb. 7: Ken Richards\nFeb. 14: Beau\nFeb. 21: Clay Pigeons\nFeb. 28: KT Lee\nMarch 7: Ric Allendorf\nMarch 14: The Shananagans\nMarch 21: TBA\nMarch 28: J. Kelley and John Fernandes
URL:https://newbedfordlight.org/event/kettle-kitchen-concerts-at-buzzards-bay-brewing/2026-04-18/
LOCATION:Buzzards Bay Brewing\, 98 Horseneck Rd\, Westport\, MA\, United States
CATEGORIES:Culture Calendar,Food,Music
ATTACH;FMTTYPE=image/jpeg:https://newbedfordlight.org/wp-content/uploads/2025/12/Kettle-Kitchen-Concerts-FB-Event-768x402-1.jpg
END:VEVENT
BEGIN:VEVENT
DTSTART;TZID=America/New_York:20260418T140000
DTEND;TZID=America/New_York:20260418T160000
DTSTAMP:20260420T042705
CREATED:20260408T174938Z
LAST-MODIFIED:20260408T174938Z
UID:10163686-1776520800-1776528000@newbedfordlight.org
SUMMARY:Dean Petrella at Cisco
DESCRIPTION:Dean Petrella is a critically acclaimed singer-songwriter based out of Providence RI & Nashville TN\, and the lead singer of the band The Complaints.
URL:https://newbedfordlight.org/event/dean-petrella-at-cisco/
LOCATION:Cisco Brewers Kitchen & Bar\, 1480 East Rodney French Blvd.\, New Bedford\, MA\, United States
CATEGORIES:Cisco Brewers,Culture Calendar,Music
ATTACH;FMTTYPE=image/jpeg:https://newbedfordlight.org/wp-content/uploads/2025/04/Dean-Petrella.jpg
END:VEVENT
BEGIN:VEVENT
DTSTART;TZID=America/New_York:20260417T220000
DTEND;TZID=America/New_York:20260417T220000
DTSTAMP:20260420T042705
CREATED:20260413T195147Z
LAST-MODIFIED:20260413T195147Z
UID:10163775-1776463200-1776463200@newbedfordlight.org
SUMMARY:That 80s Band at Knuckle Heads
DESCRIPTION:That 80’s Band is a five-piece group delivers high-energy dance hits from the 1980s\, playing familiar songs.
URL:https://newbedfordlight.org/event/that-80s-band-at-knuckle-heads/
LOCATION:Knuckle Heads\, 85 MacArthur Dr.\, New Bedford\, MA\, United States
CATEGORIES:Culture Calendar,Knuckle Heads Bar & Grill,Music
ATTACH;FMTTYPE=image/jpeg:https://newbedfordlight.org/wp-content/uploads/2022/04/That-80s-Band.jpg
END:VEVENT
BEGIN:VEVENT
DTSTART;TZID=America/New_York:20260417T210000
DTEND;TZID=America/New_York:20260417T210000
DTSTAMP:20260420T042705
CREATED:20260408T164413Z
LAST-MODIFIED:20260408T164413Z
UID:10163540-1776459600-1776459600@newbedfordlight.org
SUMMARY:Mitch Cardoza at Cork
DESCRIPTION:Mitch Cardoza is a singer\, guitarist\, and artist with rock and reggae vibes.
URL:https://newbedfordlight.org/event/mitch-cardoza-at-cork/2026-04-17/
LOCATION:Cork Wine and Tapas\, 90 Front St.\, New Bedford\, MA\, United States
CATEGORIES:Culture Calendar,Music
ATTACH;FMTTYPE=image/jpeg:https://newbedfordlight.org/wp-content/uploads/2022/01/Mitch-Cardoza.jpg
END:VEVENT
BEGIN:VEVENT
DTSTART;TZID=America/New_York:20260417T210000
DTEND;TZID=America/New_York:20260417T210000
DTSTAMP:20260420T042705
CREATED:20260322T185935Z
LAST-MODIFIED:20260322T190011Z
UID:10162520-1776459600-1776459600@newbedfordlight.org
SUMMARY:Makeshift at Oriental Pearl
DESCRIPTION:Makeshift is a Rhode Island-based rock roll cover band that plays favorite hits of the ’80s\, ’90s\, and 2000s. The group performs everything from Journey to Blink 182.
URL:https://newbedfordlight.org/event/makeshift-at-oriental-pearl/
LOCATION:Oriental Pearl\, 576 State St.\,  Westport\, MA\, United States
CATEGORIES:Culture Calendar,Music,Oriental Pearl
ATTACH;FMTTYPE=image/jpeg:https://newbedfordlight.org/wp-content/uploads/2024/02/Makeshift.jpg
END:VEVENT
BEGIN:VEVENT
DTSTART;TZID=America/New_York:20260417T200000
DTEND;TZID=America/New_York:20260417T200000
DTSTAMP:20260420T042705
CREATED:20260403T162240Z
LAST-MODIFIED:20260403T162240Z
UID:10163494-1776456000-1776456000@newbedfordlight.org
SUMMARY:Guitar Monsters at The Vault
DESCRIPTION:Guitar Monsters brings a night of blues\, rock\, and R&B to The Vault on Friday\, April 17. \nJon Butcher\, Johnny A.\, and Willie J Laws lead the show\, mixing classic rock and blues with R&B. The show will include songs tied to artists such as the Allman Brothers Band\, Jimi Hendrix\, and the Yardbirds\, along with original material and deep cuts. \nButcher is a Grammy nominee and a New England Music Hall of Fame inductee. He is an acclaimed guitarist known for his national tours working with major acts. \nJohnny A.\, a Boston Music Awards winner\, is recognized for his career as a solo artist and collaborator. Willie Laws is an experienced performer\, bringing Texas soul influenced by years of touring\, blending blues\, R&B\, and funk. \nDoors open at 6:30 or 7:30 p.m. (ticket dependent). Music starts at 8 p.m. All seating is reserved. \nTickets: $35 general admission\, $55 early admission\, $65 reserved soundboard seating.
URL:https://newbedfordlight.org/event/guitar-monsters-at-the-vault/
LOCATION:The Vault Music Hall and Pub\, 791 Purchase St.\, New Bedford\, MA\, 02740\, United States
CATEGORIES:Culture Calendar,Music,The Vault Music Hall
ATTACH;FMTTYPE=image/jpeg:https://newbedfordlight.org/wp-content/uploads/2026/04/Guitar-Monsters.jpg
END:VEVENT
BEGIN:VEVENT
DTSTART;TZID=America/New_York:20260417T190000
DTEND;TZID=America/New_York:20260417T220000
DTSTAMP:20260420T042705
CREATED:20260331T193032Z
LAST-MODIFIED:20260331T193032Z
UID:10163441-1776452400-1776463200@newbedfordlight.org
SUMMARY:Marky Mark and Rockin Ron'
DESCRIPTION:Musicians Mark Gagne and Ron Farias will perform together.
URL:https://newbedfordlight.org/event/marky-mark-and-rockin-ron/
LOCATION:Bittersweet Farm Tavern\, 438 Main Road\, Westport\, MA\, United States
CATEGORIES:Culture Calendar,Music
ATTACH;FMTTYPE=image/jpeg:https://newbedfordlight.org/wp-content/uploads/2025/01/Marky-Mark-and-Rockin-Ron.jpg
END:VEVENT
BEGIN:VEVENT
DTSTART;TZID=America/New_York:20260417T190000
DTEND;TZID=America/New_York:20260417T210000
DTSTAMP:20260420T042705
CREATED:20251102T191506Z
LAST-MODIFIED:20251102T191912Z
UID:10140111-1776452400-1776459600@newbedfordlight.org
SUMMARY:Live Music at Bayside Lounge
DESCRIPTION:Bayside Lounge features live music every Friday 7–9 p.m.\, Saturday 8–11 p.m. and Sunday 5–8 p.m. Find up-to-date details on the Facebook page.
URL:https://newbedfordlight.org/event/live-music-at-bayside-lounge/2026-04-17/
LOCATION:The Bayside Lounge\, 125 Sconticut Neck Rd\, Fairhaven\, MA\, 02719\, United States
CATEGORIES:Culture Calendar,Music
ATTACH;FMTTYPE=image/jpeg:https://newbedfordlight.org/wp-content/uploads/2025/11/bayside-lounge-live-music.jpg
END:VEVENT
BEGIN:VEVENT
DTSTART;TZID=America/New_York:20260417T190000
DTEND;TZID=America/New_York:20260417T190000
DTSTAMP:20260420T042705
CREATED:20260408T174755Z
LAST-MODIFIED:20260408T174755Z
UID:10163685-1776452400-1776452400@newbedfordlight.org
SUMMARY:Truue Duo at Cisco
DESCRIPTION:Truue is a talented group changing from a duet to a trio to a band. The musicians play rock music with a shot of country.
URL:https://newbedfordlight.org/event/truue-duo-at-cisco/
LOCATION:Cisco Brewers Kitchen & Bar\, 1480 East Rodney French Blvd.\, New Bedford\, MA\, United States
CATEGORIES:Cisco Brewers,Culture Calendar,Music
ATTACH;FMTTYPE=image/jpeg:https://newbedfordlight.org/wp-content/uploads/2023/08/Truue-Trio.jpeg
END:VEVENT
BEGIN:VEVENT
DTSTART;TZID=America/New_York:20260417T180000
DTEND;TZID=America/New_York:20260417T210000
DTSTAMP:20260420T042705
CREATED:20260408T182635Z
LAST-MODIFIED:20260408T182635Z
UID:10163707-1776448800-1776459600@newbedfordlight.org
SUMMARY:The Buzzard Blue Band at Ryan's Sports Pub
DESCRIPTION:The Buzzard Blue Band blends traditional Delta blues with Chicago swing\, Southern rock and soul to create a high-energy rhythm and blues sound. Known for its mix of classic rock and blues influences\, the band delivers a set rooted in what it describes as “house-rockin’” music.
URL:https://newbedfordlight.org/event/the-buzzard-blue-band-at-ryans-sports-pub/
LOCATION:Ryan’s Sports Pub and Billiards\, 500 Hathaway Rd\, New Bedford\, MA\, United States
CATEGORIES:Culture Calendar,Music
ATTACH;FMTTYPE=image/jpeg:https://newbedfordlight.org/wp-content/uploads/2023/06/The-Buzzard-Blue-Band.jpg
END:VEVENT
BEGIN:VEVENT
DTSTART;TZID=America/New_York:20260417T180000
DTEND;TZID=America/New_York:20260417T210000
DTSTAMP:20260420T042705
CREATED:20260408T180152Z
LAST-MODIFIED:20260408T180231Z
UID:10163697-1776448800-1776459600@newbedfordlight.org
SUMMARY:Half Step Down at The Galley Grille
DESCRIPTION:Half Step Down will perform classic pop/rock at The Galley Grille.
URL:https://newbedfordlight.org/event/half-step-down-at-the-galley-grille/2026-04-17/
LOCATION:White’s of Westport\, 66 State Rd\, Westport\, MA\, United States
CATEGORIES:Culture Calendar,Music
ATTACH;FMTTYPE=image/jpeg:https://newbedfordlight.org/wp-content/uploads/2024/09/Half-Step-Down.jpg
END:VEVENT
BEGIN:VEVENT
DTSTART;TZID=America/New_York:20260416T190000
DTEND;TZID=America/New_York:20260416T220000
DTSTAMP:20260420T042705
CREATED:20260413T194934Z
LAST-MODIFIED:20260413T194934Z
UID:10163774-1776366000-1776376800@newbedfordlight.org
SUMMARY:2 Jerks at Knuckle Heads
DESCRIPTION:Two Jerks features Ron Farias and Glen Nunes\, an acoustic duo known for high-energy sets and an easygoing party feel. \nThe duo performs acoustic favorites with plenty of laughs and crowd interaction.
URL:https://newbedfordlight.org/event/2-jerks-at-knuckle-heads/
LOCATION:Knuckle Heads\, 85 MacArthur Dr.\, New Bedford\, MA\, United States
CATEGORIES:Culture Calendar,Knuckle Heads Bar & Grill,Music
ATTACH;FMTTYPE=image/jpeg:https://newbedfordlight.org/wp-content/uploads/2026/01/2-Jerks.jpg
END:VEVENT
BEGIN:VEVENT
DTSTART;TZID=America/New_York:20260416T190000
DTEND;TZID=America/New_York:20260416T220000
DTSTAMP:20260420T042705
CREATED:20260331T192744Z
LAST-MODIFIED:20260331T192744Z
UID:10163440-1776366000-1776376800@newbedfordlight.org
SUMMARY:Bill Santos at Bittersweet Farm
DESCRIPTION:Guitarist Bill Santos\, formerly of the acoustic band Wood n’ Wire\, will perform solo.
URL:https://newbedfordlight.org/event/bill-santos-at-bittersweet-farm/2026-04-16/
LOCATION:Bittersweet Farm Tavern\, 438 Main Road\, Westport\, MA\, United States
CATEGORIES:Culture Calendar,Music
ATTACH;FMTTYPE=image/jpeg:https://newbedfordlight.org/wp-content/uploads/2023/09/Bill-Santos.jpeg
END:VEVENT
BEGIN:VEVENT
DTSTART;TZID=America/New_York:20260416T190000
DTEND;TZID=America/New_York:20260416T210000
DTSTAMP:20260420T042705
CREATED:20260102T174733Z
LAST-MODIFIED:20260102T174733Z
UID:10150253-1776366000-1776373200@newbedfordlight.org
SUMMARY:Music Bingo at New Beige
DESCRIPTION:New Beige hosts Eddie’s Crazy Music Bingo every Thursday from 7 to 9 p.m. Save a table and test your knowledge.
URL:https://newbedfordlight.org/event/music-bingo-at-new-beige/2026-04-16/
LOCATION:New Beige\, 39 Union St.\, New Bedford\, MA\, 02740\, United States
CATEGORIES:Bingo,Culture Calendar,Music
ATTACH;FMTTYPE=image/jpeg:https://newbedfordlight.org/wp-content/uploads/2026/01/music-bingo-new-beige.jpg
END:VEVENT
END:VCALENDAR