BEGIN:VCALENDAR
VERSION:2.0
PRODID:-//The New Bedford Light - ECPv6.15.20//NONSGML v1.0//EN
CALSCALE:GREGORIAN
METHOD:PUBLISH
X-ORIGINAL-URL:https://newbedfordlight.org
X-WR-CALDESC:Events for The New Bedford Light
REFRESH-INTERVAL;VALUE=DURATION:PT1H
X-Robots-Tag:noindex
X-PUBLISHED-TTL:PT1H
BEGIN:VTIMEZONE
TZID:America/New_York
BEGIN:DAYLIGHT
TZOFFSETFROM:-0500
TZOFFSETTO:-0400
TZNAME:EDT
DTSTART:20250309T070000
END:DAYLIGHT
BEGIN:STANDARD
TZOFFSETFROM:-0400
TZOFFSETTO:-0500
TZNAME:EST
DTSTART:20251102T060000
END:STANDARD
BEGIN:DAYLIGHT
TZOFFSETFROM:-0500
TZOFFSETTO:-0400
TZNAME:EDT
DTSTART:20260308T070000
END:DAYLIGHT
BEGIN:STANDARD
TZOFFSETFROM:-0400
TZOFFSETTO:-0500
TZNAME:EST
DTSTART:20261101T060000
END:STANDARD
BEGIN:DAYLIGHT
TZOFFSETFROM:-0500
TZOFFSETTO:-0400
TZNAME:EDT
DTSTART:20270314T070000
END:DAYLIGHT
BEGIN:STANDARD
TZOFFSETFROM:-0400
TZOFFSETTO:-0500
TZNAME:EST
DTSTART:20271107T060000
END:STANDARD
END:VTIMEZONE
BEGIN:VEVENT
DTSTART;TZID=America/New_York:20260506T173000
DTEND;TZID=America/New_York:20260506T183000
DTSTAMP:20260422T184607
CREATED:20260421T193144Z
LAST-MODIFIED:20260421T193144Z
UID:10163864-1778088600-1778092200@newbedfordlight.org
SUMMARY:Fitness in the Park: Zumba
DESCRIPTION:Midweek Zumba begins Wednesday\, May 6 at Hathaway Park. Classes run from 5:30 to 6:30 p.m. Additional sessions are May 20 and June 3. \nRegistration is required. This is a fun workout for all levels. \nThe rain location is Freetown Council on Aging Fitness Room at 227 Chace Road. \nThis free program features a variety of outdoor fitness classes designed for all ages and experience levels\, including yoga\, Zumba\, strength training\, self-defense\, and pickleball.
URL:https://newbedfordlight.org/event/fitness-in-the-park-zumba/2026-05-06/
LOCATION:Hathaway Park\, 28 Water St.\, Assonet\, MA\, United States
CATEGORIES:Culture Calendar,Fishing,Free,Outdoors
ATTACH;FMTTYPE=image/jpeg:https://newbedfordlight.org/wp-content/uploads/2026/04/fitness-in-the-park-2026.jpg
END:VEVENT
END:VCALENDAR