BEGIN:VCALENDAR
VERSION:2.0
PRODID:-//The New Bedford Light - ECPv6.15.20//NONSGML v1.0//EN
CALSCALE:GREGORIAN
METHOD:PUBLISH
X-ORIGINAL-URL:https://newbedfordlight.org
X-WR-CALDESC:Events for The New Bedford Light
REFRESH-INTERVAL;VALUE=DURATION:PT1H
X-Robots-Tag:noindex
X-PUBLISHED-TTL:PT1H
BEGIN:VTIMEZONE
TZID:America/New_York
BEGIN:DAYLIGHT
TZOFFSETFROM:-0500
TZOFFSETTO:-0400
TZNAME:EDT
DTSTART:20240310T070000
END:DAYLIGHT
BEGIN:STANDARD
TZOFFSETFROM:-0400
TZOFFSETTO:-0500
TZNAME:EST
DTSTART:20241103T060000
END:STANDARD
BEGIN:DAYLIGHT
TZOFFSETFROM:-0500
TZOFFSETTO:-0400
TZNAME:EDT
DTSTART:20250309T070000
END:DAYLIGHT
BEGIN:STANDARD
TZOFFSETFROM:-0400
TZOFFSETTO:-0500
TZNAME:EST
DTSTART:20251102T060000
END:STANDARD
BEGIN:DAYLIGHT
TZOFFSETFROM:-0500
TZOFFSETTO:-0400
TZNAME:EDT
DTSTART:20260308T070000
END:DAYLIGHT
BEGIN:STANDARD
TZOFFSETFROM:-0400
TZOFFSETTO:-0500
TZNAME:EST
DTSTART:20261101T060000
END:STANDARD
BEGIN:DAYLIGHT
TZOFFSETFROM:-0500
TZOFFSETTO:-0400
TZNAME:EDT
DTSTART:20270314T070000
END:DAYLIGHT
BEGIN:STANDARD
TZOFFSETFROM:-0400
TZOFFSETTO:-0500
TZNAME:EST
DTSTART:20271107T060000
END:STANDARD
END:VTIMEZONE
BEGIN:VEVENT
DTSTART;TZID=America/New_York:20260424T063000
DTEND;TZID=America/New_York:20260424T073000
DTSTAMP:20260425T064219
CREATED:20260225T172212Z
LAST-MODIFIED:20260225T172212Z
UID:10157816-1777012200-1777015800@newbedfordlight.org
SUMMARY:Used Shoe Donations
DESCRIPTION:Mercy Meals & More is collecting gently used shoes for men and women. \nSneakers and boots are preferred. All sizes are accepted. Shoes must not be worn out. \nDonations can be dropped off at Mercy Meals & More Soup Kitchen at Pilgrim United Church
URL:https://newbedfordlight.org/event/used-shoe-donations/2026-04-24/
LOCATION:Pilgrim United Church of Christ\, 635 Purchase Street\, New Bedford\, MA\, 02740\, United States
CATEGORIES:Donations,Ongoing
ATTACH;FMTTYPE=image/jpeg:https://newbedfordlight.org/wp-content/uploads/2026/02/ShoeDonation.jpg
END:VEVENT
BEGIN:VEVENT
DTSTART;VALUE=DATE:20251219
DTEND;VALUE=DATE:20251226
DTSTAMP:20260425T064219
CREATED:20251219T201551Z
LAST-MODIFIED:20251219T201551Z
UID:10148035-1766102400-1766707199@newbedfordlight.org
SUMMARY:The Salvation Army: Call for donations
DESCRIPTION:With one week left until Christmas\, the Salvation Army Massachusetts Division is urging residents to support the Red Kettle Campaign. \nDonations are down about 24 percent from last year as inflation and housing costs continue to strain families. Demand for services has increased statewide. \nRed Kettle funds support Christmas meals and gifts\, emergency rent and utility assistance\, and shelter. All donations stay in the communities where they are collected. Volunteer bell ringers typically raise enough to provide nearly 250 meals in their towns. \nThe organization serves every ZIP code in Massachusetts and is seeking support across the state. \nThe Massachusetts Division aims to raise more than $2.3 million through the “Give With Joy” Red Kettle Campaign. Donations are accepted at Red Kettles and online at salvationarmyma.org/redkettle.
URL:https://newbedfordlight.org/event/the-salvation-army-call-for-donations/
LOCATION:Salvation Army\, 619 Purchase Street\, New Bedford\, MA\, 02740\, United States
CATEGORIES:Christmas,Civic Life,Donations
ATTACH;FMTTYPE=image/jpeg:https://newbedfordlight.org/wp-content/uploads/2025/12/the-salvation-army-logo-christmas-tree-presents.jpg
END:VEVENT
BEGIN:VEVENT
DTSTART;TZID=America/New_York:20251215T080000
DTEND;TZID=America/New_York:20251215T150000
DTSTAMP:20260425T064219
CREATED:20251209T173542Z
LAST-MODIFIED:20251209T173542Z
UID:10147939-1765785600-1765810800@newbedfordlight.org
SUMMARY:PACE Holiday Meal Drive
DESCRIPTION:The holidays are a season for togetherness and shared meals. For many families in Greater New Bedford\, putting a holiday meal on the table can be a challenge.\n\nPACE Community Food Center is collecting donations from Dec. 1 through Dec. 15 to support local families. Drop-offs are accepted Monday through Friday from 8 a.m. to 3 p.m. at 477 Park St. in New Bedford. \n\nNeeded items include turkeys\, hams\, or roasts\, grocery gift cards\, canned goods and vegetables\, boxed sides\, dessert mixes\, juice\, potatoes\, yams\, sweet potatoes\, and other holiday items. Ethnic foods are welcome. \n\nDonations support families in New Bedford\, Fairhaven\, Dartmouth\, Acushnet\, Marion\, Mattapoisett\, and Rochester.\nUnable to drop off items. Online donations help purchase exactly what families need at paceinfo.org/donate.\n\nNeed a pickup? Contact Jen Medeiros at 508-999-9920 ext. 333 or jmedeiros@paceinfo.org.
URL:https://newbedfordlight.org/event/pace-holiday-meal-drive/2025-12-15/
LOCATION:PACE Community Food Center\, 477 Park Street\, New Bedford\, MA\, 02740.\, United States
CATEGORIES:Civic Life,Donations,Food Drive
ATTACH;FMTTYPE=image/jpeg:https://newbedfordlight.org/wp-content/uploads/2025/12/pace-holiday-food-drive.jpg
END:VEVENT
BEGIN:VEVENT
DTSTART;VALUE=DATE:20251202
DTEND;VALUE=DATE:20260201
DTSTAMP:20260425T064219
CREATED:20251202T204408Z
LAST-MODIFIED:20251202T204408Z
UID:10147596-1764633600-1769903999@newbedfordlight.org
SUMMARY:Call for Donations and Volunteers
DESCRIPTION:UMass Dartmouth nursing students partnered with GiftsToGive through a service learning project to help meet local needs. Students organized a campus collection of hygiene and personal care items for children and families\, supporting GiftsToGive’s mission to address child poverty and promote well-being. \nThe charity relies on community support as shelves empty each season. Donations and volunteers help provide essential items to families in need. \nMost needed items include hygiene kits with toothpaste\, soap\, deodorant\, and shampoo. Children’s winter gear\, such as coats\, hats\, mittens\, and boots\, is also needed. Program items include art supplies\, toys\, books\, and games. \nTo donate or volunteer\, visit giftstogive.org or call 508-717-8715.
URL:https://newbedfordlight.org/event/call-for-donations-and-volunteers/
LOCATION:Gifts to Give\, 4 Slocum Street\, Acushnet\, MA\, 02743\, United States
CATEGORIES:Civic Life,Donations
ATTACH;FMTTYPE=image/jpeg:https://newbedfordlight.org/wp-content/uploads/2025/12/UMass-Dartmouth-Nursing-Students-GiftsToGive.jpg
END:VEVENT
BEGIN:VEVENT
DTSTART;VALUE=DATE:20251106
DTEND;VALUE=DATE:20251201
DTSTAMP:20260425T064219
CREATED:20251106T180210Z
LAST-MODIFIED:20251106T180210Z
UID:10142733-1762387200-1764547199@newbedfordlight.org
SUMMARY:Food Drive at Buzzards Bay Brewing
DESCRIPTION:Buzzards Bay Brewing is collecting nonperishable food for a drive supporting the Greater Fall River Community Food Pantry and PACE Community Food Center in New Bedford. The drive continues until support programs are restored. \nRequested items include soups\, pasta\, cereal\, rice\, canned proteins\, fruit\, vegetables\, tomato products\, beans\, nut butters\, and shelf-stable sauces or oils. \nDo not bring expired\, opened\, glass\, refrigerated\, frozen\, or prepared foods. Donations are accepted at the brewery during open hours.
URL:https://newbedfordlight.org/event/food-drive-at-buzzards-bay-brewing/
LOCATION:Buzzards Bay Brewing\, 98 Horseneck Rd\, Westport\, MA\, United States
CATEGORIES:Donations,Food Drive,Ongoing
ATTACH;FMTTYPE=image/jpeg:https://newbedfordlight.org/wp-content/uploads/2025/11/buzzards-bay-food-drive.jpg
END:VEVENT
BEGIN:VEVENT
DTSTART;TZID=America/New_York:20251028T090000
DTEND;TZID=America/New_York:20251028T170000
DTSTAMP:20260425T064219
CREATED:20251021T191313Z
LAST-MODIFIED:20251021T191313Z
UID:10135837-1761642000-1761670800@newbedfordlight.org
SUMMARY:Clothesline Project at YWCA
DESCRIPTION:The Clothesline Project will be displayed on Tuesday\, Oct. 28\, 2025\, from 9 a.m. to 5 p.m. at YWCA Southeastern Massachusetts. Admission is free. \nThe visual display raises awareness about violence against women. Visitors can view the shirts and find resources for support. They can also take part in the project. \nThose who can’t attend that day are welcome between 9 a.m. and 4 p.m. from Monday\, Oct. 27\, through Friday\, Oct. 31.
URL:https://newbedfordlight.org/event/clothesline-project-at-ywca/
LOCATION:YWCA Southeastern Mass\, 20 South 6th St.\, New Bedford\, MA\, 02740\, United States
CATEGORIES:Civic Life,Donations
ATTACH;FMTTYPE=image/jpeg:https://newbedfordlight.org/wp-content/uploads/2025/10/Clothesline-Project.jpg
END:VEVENT
BEGIN:VEVENT
DTSTART;VALUE=DATE:20251028
DTEND;VALUE=DATE:20251101
DTSTAMP:20260425T064219
CREATED:20251028T215635Z
LAST-MODIFIED:20251031T133703Z
UID:10137048-1761609600-1761955199@newbedfordlight.org
SUMMARY:Holiday Wishes Nominations Are Open
DESCRIPTION:Holiday Wishes nominations are open through Oct. 31. \n\n\n\n\n\n\n\nUnited Way of Greater New Bedford\, FUN 107 and 1420 WBSM are working together to help families in the region facing serious challenges. That may include job loss\, medical issues or sudden bills. The program focuses on people with real needs who do not often ask for help. \nNominations are open to residents of Acushnet\, Dartmouth\, Fairhaven\, Fall River\, Freetown\, Marion\, Mattapoisett\, New Bedford\, Rochester\, Wareham and Westport. Participants must be willing to share their story. Submit nominations on the United Way of Greater New Bedford website. \nFor questions\, contact Victoria at 508-994-9625 ext. 210 or vgrasela@unitedwayofgnb.org.
URL:https://newbedfordlight.org/event/holiday-wishes-nominations-are-open/
LOCATION:MA
CATEGORIES:Christmas,Civic Life,Donations
ATTACH;FMTTYPE=image/jpeg:https://newbedfordlight.org/wp-content/uploads/2025/10/Holiday-Wishes-2-1.jpg
END:VEVENT
END:VCALENDAR