BEGIN:VCALENDAR
VERSION:2.0
PRODID:-//The New Bedford Light - ECPv6.15.20//NONSGML v1.0//EN
CALSCALE:GREGORIAN
METHOD:PUBLISH
X-WR-CALNAME:The New Bedford Light
X-ORIGINAL-URL:https://newbedfordlight.org
X-WR-CALDESC:Events for The New Bedford Light
REFRESH-INTERVAL;VALUE=DURATION:PT1H
X-Robots-Tag:noindex
X-PUBLISHED-TTL:PT1H
BEGIN:VTIMEZONE
TZID:America/New_York
BEGIN:DAYLIGHT
TZOFFSETFROM:-0500
TZOFFSETTO:-0400
TZNAME:EDT
DTSTART:20250309T070000
END:DAYLIGHT
BEGIN:STANDARD
TZOFFSETFROM:-0400
TZOFFSETTO:-0500
TZNAME:EST
DTSTART:20251102T060000
END:STANDARD
BEGIN:DAYLIGHT
TZOFFSETFROM:-0500
TZOFFSETTO:-0400
TZNAME:EDT
DTSTART:20260308T070000
END:DAYLIGHT
BEGIN:STANDARD
TZOFFSETFROM:-0400
TZOFFSETTO:-0500
TZNAME:EST
DTSTART:20261101T060000
END:STANDARD
BEGIN:DAYLIGHT
TZOFFSETFROM:-0500
TZOFFSETTO:-0400
TZNAME:EDT
DTSTART:20270314T070000
END:DAYLIGHT
BEGIN:STANDARD
TZOFFSETFROM:-0400
TZOFFSETTO:-0500
TZNAME:EST
DTSTART:20271107T060000
END:STANDARD
END:VTIMEZONE
BEGIN:VEVENT
DTSTART;TZID=America/New_York:20260423T130000
DTEND;TZID=America/New_York:20260423T143000
DTSTAMP:20260422T072235
CREATED:20260409T211113Z
LAST-MODIFIED:20260409T211113Z
UID:10163727-1776949200-1776954600@newbedfordlight.org
SUMMARY:Gold Leafing: Gilded little Seashells and Wishbones workshop
DESCRIPTION:A gold leafing workshop introduces the time-honored technique of gilding\, first used by ancient Egyptians and later adopted by the Romans. Students will learn the basics of applying gold leaf to three-dimensional objects. \nTopics include surface preparation\, proper adhesives\, applying the gold leaf\, polishing\, and optional varnishing. \nWednesday\, April 23\, from 1 to 2:30 p.m. Class fee is $45.
URL:https://newbedfordlight.org/event/gold-leafing-gilded-little-seashells-and-wishbones-workshop/
LOCATION:New Bedford Arts and Cultural Emporium at Kilburn Mill\, 101 W. Rodney French Blvd. Studio 260\, New Bedford\, MA\, 02744\, United States
CATEGORIES:Art,Crafts,Culture Calendar,Kilburn Mill,Workshop
ATTACH;FMTTYPE=image/avif:https://newbedfordlight.org/wp-content/uploads/2026/04/gold-leafing.avif
END:VEVENT
BEGIN:VEVENT
DTSTART;TZID=America/New_York:20260425T100000
DTEND;TZID=America/New_York:20260425T123000
DTSTAMP:20260422T072235
CREATED:20260409T213217Z
LAST-MODIFIED:20260409T213217Z
UID:10163728-1777111200-1777120200@newbedfordlight.org
SUMMARY:Hand-Painted Gourd Birdhouse workshop
DESCRIPTION:A bottle gourd birdhouse workshop will be held Saturday\, April 25\, from 10 a.m. to 12:30 p.m. The cost is $55.\n\nBottle gourds are versatile natural forms used for instruments\, vessels\, and decorative pieces.\n\nStudents will create a birdhouse by cutting an opening\, sanding\, priming\, and painting.\n\nAll skill levels are welcome. Suitable for individuals or small groups.
URL:https://newbedfordlight.org/event/hand-painted-gourd-birdhouse-workshop/
LOCATION:New Bedford Arts and Cultural Emporium at Kilburn Mill\, 101 W. Rodney French Blvd. Studio 260\, New Bedford\, MA\, 02744\, United States
CATEGORIES:Art,Crafts,Culture Calendar,Kilburn Mill,Workshop
ATTACH;FMTTYPE=image/jpeg:https://newbedfordlight.org/wp-content/uploads/2026/04/bottle-gourds.jpg
END:VEVENT
BEGIN:VEVENT
DTSTART;TZID=America/New_York:20260428T173000
DTEND;TZID=America/New_York:20260428T203000
DTSTAMP:20260422T072235
CREATED:20260410T153735Z
LAST-MODIFIED:20260410T153735Z
UID:10163742-1777397400-1777408200@newbedfordlight.org
SUMMARY:Hand Building with Clay: Beyond the Wheel
DESCRIPTION:Hand Building with Clay: Beyond the Wheel is a four-week ceramics class. It runs Tuesdays\, April 21 through May 12\, from 5:30 to 8:30 p.m. Members: $210. Nonmembers: $235. \nThis class is a strong companion to wheel throwing. It also works as a standalone option. Hand building is slower\, more organic\, and highly expressive. Students work without the wheel and build new skills in form\, texture\, and surface design. \nStudents will make mugs\, plates\, and other functional items. They will also explore molds and hand-sculpted forms not possible on the wheel. The process allows for more detail\, decoration\, and experimental shapes. \nThis class is well-suited for beginners. It is also a good next step for wheel throwers. All materials are included.
URL:https://newbedfordlight.org/event/hand-building-with-clay-beyond-the-wheel/2026-04-28/
LOCATION:New Bedford Art Museum\, 608 Pleasant St.\, New Bedford\, MA\, United States
CATEGORIES:Art,Crafts,Culture Calendar,Workshop
ATTACH;FMTTYPE=image/jpeg:https://newbedfordlight.org/wp-content/uploads/2026/04/Hand-Building-.jpg
END:VEVENT
BEGIN:VEVENT
DTSTART;TZID=America/New_York:20260531T143000
DTEND;TZID=America/New_York:20260531T163000
DTSTAMP:20260422T072235
CREATED:20260414T173004Z
LAST-MODIFIED:20260414T173004Z
UID:10163787-1780237800-1780245000@newbedfordlight.org
SUMMARY:Inside the Hive: Honeybee Basics & Candle Making
DESCRIPTION:Inside the Hive: Honeybee Basics and Candle Making is Sunday\, May 31\, 2:30–4:30 p.m. This spring workshop introduces honeybees\, local beekeeping\, and beeswax crafts. \nThe session starts with a look at honeybee life and hive care across the South Coast seasons. Students learn about bee behavior\, pollination\, and honey production\, with time for questions and discussion. \nNext\, participants dive into candle making. They roll beeswax candles and craft simple projects such as bee wraps. A tasting of local honey is at the end of class. \nAll materials are included. No experience is needed.
URL:https://newbedfordlight.org/event/inside-the-hive-honeybee-basics-candle-making/
LOCATION:New Bedford Art Museum\, 608 Pleasant St.\, New Bedford\, MA\, United States
CATEGORIES:Class,Crafts,Culture Calendar
ATTACH;FMTTYPE=image/jpeg:https://newbedfordlight.org/wp-content/uploads/2026/04/Candle-Making.jpg
END:VEVENT
END:VCALENDAR