BEGIN:VCALENDAR
VERSION:2.0
PRODID:-//The New Bedford Light - ECPv6.15.20//NONSGML v1.0//EN
CALSCALE:GREGORIAN
METHOD:PUBLISH
X-WR-CALNAME:The New Bedford Light
X-ORIGINAL-URL:https://newbedfordlight.org
X-WR-CALDESC:Events for The New Bedford Light
REFRESH-INTERVAL;VALUE=DURATION:PT1H
X-Robots-Tag:noindex
X-PUBLISHED-TTL:PT1H
BEGIN:VTIMEZONE
TZID:America/New_York
BEGIN:DAYLIGHT
TZOFFSETFROM:-0500
TZOFFSETTO:-0400
TZNAME:EDT
DTSTART:20250309T070000
END:DAYLIGHT
BEGIN:STANDARD
TZOFFSETFROM:-0400
TZOFFSETTO:-0500
TZNAME:EST
DTSTART:20251102T060000
END:STANDARD
BEGIN:DAYLIGHT
TZOFFSETFROM:-0500
TZOFFSETTO:-0400
TZNAME:EDT
DTSTART:20260308T070000
END:DAYLIGHT
BEGIN:STANDARD
TZOFFSETFROM:-0400
TZOFFSETTO:-0500
TZNAME:EST
DTSTART:20261101T060000
END:STANDARD
BEGIN:DAYLIGHT
TZOFFSETFROM:-0500
TZOFFSETTO:-0400
TZNAME:EDT
DTSTART:20270314T070000
END:DAYLIGHT
BEGIN:STANDARD
TZOFFSETFROM:-0400
TZOFFSETTO:-0500
TZNAME:EST
DTSTART:20271107T060000
END:STANDARD
END:VTIMEZONE
BEGIN:VEVENT
DTSTART;TZID=America/New_York:20260430T200000
DTEND;TZID=America/New_York:20260430T200000
DTSTAMP:20260424T140138
CREATED:20260420T233748Z
LAST-MODIFIED:20260420T233748Z
UID:10163845-1777579200-1777579200@newbedfordlight.org
SUMMARY:Thursday Night Comedy ft. Davey Lozano\, Kindra Lansburg\, and Chris Tabb at The Vault
DESCRIPTION:Thursday Night Comedy brings a three-comic lineup to the stage on Thursday\, April 30. Doors open at 7 p.m. The show starts at 8 p.m. This is a 21+ event. Tickets are $15 in advance and $20 at the door. \nHeadliner Davey Lozano is known for quick pacing and sharp punchlines. His material often draws on everyday life\, with sarcasm and offbeat observations that keep his sets unpredictable. \nKindra Lansburg brings a relaxed style of comedy that relies on personal stories and relatable moments. \nChris Tabb rounds out the lineup with high-energy delivery and crowd interaction. His sets combine storytelling with bold humor and a strong stage presence.
URL:https://newbedfordlight.org/event/thursday-night-comedy-ft-davey-lozano-kindra-lansburg-and-chris-tabb-at-the-vault/
LOCATION:The Vault Music Hall and Pub\, 791 Purchase St.\, New Bedford\, MA\, 02740\, United States
CATEGORIES:Comedy,Culture Calendar
ATTACH;FMTTYPE=image/jpeg:https://newbedfordlight.org/wp-content/uploads/2026/04/Thursday-comedy-vault.jpg
END:VEVENT
END:VCALENDAR