BEGIN:VCALENDAR
VERSION:2.0
PRODID:-//The New Bedford Light - ECPv6.15.20//NONSGML v1.0//EN
CALSCALE:GREGORIAN
METHOD:PUBLISH
X-ORIGINAL-URL:https://newbedfordlight.org
X-WR-CALDESC:Events for The New Bedford Light
REFRESH-INTERVAL;VALUE=DURATION:PT1H
X-Robots-Tag:noindex
X-PUBLISHED-TTL:PT1H
BEGIN:VTIMEZONE
TZID:America/New_York
BEGIN:DAYLIGHT
TZOFFSETFROM:-0500
TZOFFSETTO:-0400
TZNAME:EDT
DTSTART:20240310T070000
END:DAYLIGHT
BEGIN:STANDARD
TZOFFSETFROM:-0400
TZOFFSETTO:-0500
TZNAME:EST
DTSTART:20241103T060000
END:STANDARD
BEGIN:DAYLIGHT
TZOFFSETFROM:-0500
TZOFFSETTO:-0400
TZNAME:EDT
DTSTART:20250309T070000
END:DAYLIGHT
BEGIN:STANDARD
TZOFFSETFROM:-0400
TZOFFSETTO:-0500
TZNAME:EST
DTSTART:20251102T060000
END:STANDARD
BEGIN:DAYLIGHT
TZOFFSETFROM:-0500
TZOFFSETTO:-0400
TZNAME:EDT
DTSTART:20260308T070000
END:DAYLIGHT
BEGIN:STANDARD
TZOFFSETFROM:-0400
TZOFFSETTO:-0500
TZNAME:EST
DTSTART:20261101T060000
END:STANDARD
BEGIN:DAYLIGHT
TZOFFSETFROM:-0500
TZOFFSETTO:-0400
TZNAME:EDT
DTSTART:20270314T070000
END:DAYLIGHT
BEGIN:STANDARD
TZOFFSETFROM:-0400
TZOFFSETTO:-0500
TZNAME:EST
DTSTART:20271107T060000
END:STANDARD
END:VTIMEZONE
BEGIN:VEVENT
DTSTART;VALUE=DATE:20260420
DTEND;VALUE=DATE:20260421
DTSTAMP:20260422T145153
CREATED:20250724T002433Z
LAST-MODIFIED:20250724T002457Z
UID:10130618-1776643200-1776729599@newbedfordlight.org
SUMMARY:PACE Food Center serves Greater New Bedford community
DESCRIPTION:NEW BEDFORD — The PACE Community Food Center is open five days a week\, serving free\, nutritious staples and essential items to residents of the Greater New Bedford community. \nThe schedule is: \nMonday\, 10 am – 2 pm \nTuesday\, 10 am – 2 pm \nWednesday\, 10 am – 2 pm \nThursday\, 2 pm – 7 pm \nFriday\, 10 am – 2 pm \nThe food bank serves residents of New Bedford\, Dartmouth\, Marion\, Rochester\, Mattapoisett\, Fairhaven and Acushnet. Last year\, it served over 10\,000 individuals.   In addition\, it offers emergency food assistance. \nTo sign up for the Food Center\, go to: https://toapply.org/PACE \nThe Food Center  at 477 Park St. is set up as a grocery store where our customers can browse and select their groceries instead of relying on pre-prepared bags. With plenty of shelving and storage space\, customers can choose from various food items when they visit. \nThe center receives donations from individuals\, farms\, and local businesses\, and the Greater Boston Food Bank distributes them to clients. The center provides about a week’s worth of food\, including shelf-stable\, fresh\, and frozen food items once per week. \nDonations and volunteers are sought.  To learn more\, go to:  https://paceinfo.org/programs/food-bank/ \n  \n 
URL:https://newbedfordlight.org/event/pace-food-center-serves-greater-new-bedford-community/2026-04-20/
LOCATION:PACE Community Food Center\, 477 Park Street\, New Bedford\, MA\, 02740.\, United States
CATEGORIES:Civic Life,volunteering
ATTACH;FMTTYPE=image/png:https://newbedfordlight.org/wp-content/uploads/2025/07/PACe-food-center.png
END:VEVENT
BEGIN:VEVENT
DTSTART;TZID=America/New_York:20260418T080000
DTEND;TZID=America/New_York:20260418T120000
DTSTAMP:20260422T145153
CREATED:20250623T003551Z
LAST-MODIFIED:20250623T003551Z
UID:10128597-1776499200-1776513600@newbedfordlight.org
SUMMARY:Damien's Food Pantry open Thursdays\, Saturdays
DESCRIPTION:WAREHAM — Damien’s Food Pantry provides food to residents of Bristol\, Plymouth and Barnstable counties on Thursdays and Saturdays from 8 a.m. to noon. \nIts mission is to help end hunger in the South Coast region of Massachusetts by providing food to individuals experiencing food insecurity\, promoting education and awareness about hunger in our community\, and providing information to our guests about other community resources. All are welcome. \nFirst-time visitors will need to provide information about their household. They are required to complete a short application\, show proof of residency\, and verify all occupants residing in the home. Verifications will be required annually. New applications are accepted Thursdays and Saturdays between 8-11:30 a.m. \nThe last shop of the day will start at 11:45 a.m.  Anyone arriving after 11:45 a.m. will receive a pre-packaged box of food. \nThe pantry will be closed Friday\, July 4- Monday\, July 7. \nThe organization makes food available to over 1\,200 households monthly.  If you or someone you know needs food\, please contact us.   The pantry is located at 242 Marion Road\, Wareham\, MA 02571.  Mailing Address: P.O. Box 730\, East Wareham\, MA 02538.  Phone: 508-295-3486 / Fax: 508-299-6582. \nVolunteers are often sought. If you are interested in becoming a volunteer\, please phone the pantry at: 508-295-3486 and leave your name and phone number or apply online here.  \nThe opportunities range from food distribution\, stocking shelves to data entry and translation services.  Volunteers who work the backroom should be able to lift 25 pounds. If you are unable to physically volunteer at the pantry\, but would still like to help\, we have opportunities for remote activities. \nHere is more information about volunteer opportunities.   \nThe pantry depends on financial support\, volunteers and food donations from individuals\, corporations\, agencies\, and foundations to help feed the hungry.  Donations are tax deductible.
URL:https://newbedfordlight.org/event/damiens-food-pantry-open-thursdays-saturdays/2026-04-18/
LOCATION:Damien’s Food Pantry\, 242 Marion Road\, Wareham\, MA\, 02571\, United States
CATEGORIES:Civic Life,Food,volunteering
ATTACH;FMTTYPE=image/webp:https://newbedfordlight.org/wp-content/uploads/2025/06/Damiens-Food-Pantry-Logo-1536x621-1.webp
END:VEVENT
BEGIN:VEVENT
DTSTART;TZID=America/New_York:20260416T080000
DTEND;TZID=America/New_York:20260416T120000
DTSTAMP:20260422T145153
CREATED:20250623T002855Z
LAST-MODIFIED:20250729T202245Z
UID:10128337-1776326400-1776340800@newbedfordlight.org
SUMMARY:Damien's Food Pantry open twice weekly
DESCRIPTION:WAREHAM — Damien’s Food Pantry provides food to residents of Bristol\, Plymouth and Barnstable counties on Thursdays and Saturdays from 8 a.m. to noon. \nIts mission is to help end hunger in the South Coast region of Massachusetts by providing food to individuals experiencing food insecurity\, promoting education and awareness about hunger in our community\, and providing information to our guests about other community resources. All are welcome. \nFirst-time visitors will need to provide information about their household. They are required to complete a short application\, show proof of residency\, and verify all occupants residing in the home. Verifications will be required annually. New applications are accepted Thursdays and Saturdays between 8-11:30 a.m. \nThe last shop of the day will start at 11:45 a.m.  Anyone arriving after 11:45 a.m. will receive a pre-packaged box of food. \nThe pantry will be closed Friday\, July 4- Monday\, July 7. \nThe organization makes food available to over 1\,200 households monthly.  If you or someone you know needs food\, please contact us.   The pantry is located at 242 Marion Road\, Wareham\, MA 02571.  Mailing Address: P.O. Box 730\, East Wareham\, MA 02538.  Phone: 508-295-3486 / Fax: 508-299-6582. \nVolunteers are often sought. If you are interested in becoming a volunteer\, please phone the pantry at: 508-295-3486 and leave your name and phone number or apply online here.  \nThe opportunities range from food distribution\, stocking shelves to data entry and translation services.  Volunteers who work the backroom should be able to lift 25 pounds. If you are unable to physically volunteer at the pantry\, but would still like to help\, we have opportunities for remote activities. \nHere is more information about volunteer opportunities.   \nThe pantry depends on financial support\, volunteers and food donations from individuals\, corporations\, agencies\, and foundations to help feed the hungry.  Donations are tax deductible.
URL:https://newbedfordlight.org/event/damiens-food-pantry-open-twice-weekly/2026-04-16/
LOCATION:Damien’s Food Pantry\, 242 Marion Road\, Wareham\, MA\, 02571\, United States
CATEGORIES:Civic Life,Food,volunteering
ATTACH;FMTTYPE=image/jpeg:https://newbedfordlight.org/wp-content/uploads/2025/06/damiens.jpg
END:VEVENT
BEGIN:VEVENT
DTSTART;TZID=America/New_York:20260414T150000
DTEND;TZID=America/New_York:20260414T170000
DTSTAMP:20260422T145153
CREATED:20260409T202746Z
LAST-MODIFIED:20260409T202746Z
UID:10163723-1776178800-1776186000@newbedfordlight.org
SUMMARY:Call for Volunteers: Tree Planting
DESCRIPTION:Groundwork Southcoast is seeking volunteers for a two-day tree planting event at its urban farm in New Bedford.\n\n \n\nThe effort will be on Monday\, April 13\, and Tuesday\, April 14\, at Riverside Park. Volunteers will help prepare the site and plant trees.\n\n \n\nTwo time slots are available each day: 10 a.m. to 2 p.m. and 3 to 5 p.m.\, with a break in between.\n\n \n\nAll are welcome to participate.\n\n \n\nFor information or to sign up\, email mfortes@groundworksouthcoast.org.
URL:https://newbedfordlight.org/event/call-for-volunteers-tree-planting/2026-04-14/2/
LOCATION:Riverside Park\, 297 Belleville Ave.\, New Bedford\, MA\, United States
CATEGORIES:Civic Life,Environment,volunteering
ATTACH;FMTTYPE=image/jpeg:https://newbedfordlight.org/wp-content/uploads/2026/04/tree-planting-2026.jpg
END:VEVENT
BEGIN:VEVENT
DTSTART;TZID=America/New_York:20260411T090000
DTEND;TZID=America/New_York:20260411T120000
DTSTAMP:20260422T145153
CREATED:20260316T195727Z
LAST-MODIFIED:20260316T195727Z
UID:10162189-1775898000-1775908800@newbedfordlight.org
SUMMARY:Annual Earth Day Clean Up in Freetown
DESCRIPTION:The Town of Freetown will hold its annual Earth Day Clean Up on Saturday\, April 11\, from 9 a.m. to noon. A rain date is set for April 12. Residents\, families\, civic groups\, and local businesses are encouraged to take part in the community effort. \nVolunteers should register in advance and choose a cleanup location. Participants will check in at assigned pickup points to receive cleanup kits and area maps before beginning work. \nA volunteer appreciation gathering will follow from noon to 1:30 p.m. at the Freetown Council on Aging\, 227 Chace Road in East Freetown. Lunch\, Earth Day T-shirts\, gift bags from the Freetown Public Library\, and a live turtle encounter program by Mass Audubon are planned. \nFor additional event details and cleanup area information visit:\nhttps://www.freetownma.gov/1700/Annual-Earth-Day-Clean-up \nTo register as a volunteer or team leader\, visit:\nhttps://forms.gle/6DVsVv11njRknaXcA
URL:https://newbedfordlight.org/event/annual-earth-day-clean-up-in-freetown/
LOCATION:MA
CATEGORIES:Civic Life,volunteering
ATTACH;FMTTYPE=image/jpeg:https://newbedfordlight.org/wp-content/uploads/2026/03/2026-Earth-Day-Sign-up-flyer-Master-copy.jpg
END:VEVENT
BEGIN:VEVENT
DTSTART;VALUE=DATE:20251101
DTEND;VALUE=DATE:20251231
DTSTAMP:20260422T145153
CREATED:20251008T174055Z
LAST-MODIFIED:20251008T174055Z
UID:10135603-1761955200-1767139199@newbedfordlight.org
SUMMARY:Damien’s Food Pantry is seeking volunteers
DESCRIPTION:Damien’s Food Pantry is seeking volunteers to help during its busiest months\, November and December. Those interested can sign up through SignUp Genius. \nThe pantry will be closed on November 27\, November 29\, December 25\, December 27\, and January 1\, 2026. \nStarting in January\, Damien’s Place will add Tuesday evening hours to make it easier for volunteers to participate after work or school. The pantry encourages community members to spread the word and join in its effort to serve local families.
URL:https://newbedfordlight.org/event/damiens-food-pantry-is-seeking-volunteers/
LOCATION:Damien’s Food Pantry\, 242 Marion Road\, Wareham\, MA\, 02571\, United States
CATEGORIES:Civic Life,volunteering
ATTACH;FMTTYPE=image/jpeg:https://newbedfordlight.org/wp-content/uploads/2025/10/damiens-food-pantry-volunteers.jpg
END:VEVENT
END:VCALENDAR