BEGIN:VCALENDAR
VERSION:2.0
PRODID:-//The New Bedford Light - ECPv6.15.20//NONSGML v1.0//EN
CALSCALE:GREGORIAN
METHOD:PUBLISH
X-ORIGINAL-URL:https://newbedfordlight.org
X-WR-CALDESC:Events for The New Bedford Light
REFRESH-INTERVAL;VALUE=DURATION:PT1H
X-Robots-Tag:noindex
X-PUBLISHED-TTL:PT1H
BEGIN:VTIMEZONE
TZID:America/New_York
BEGIN:DAYLIGHT
TZOFFSETFROM:-0500
TZOFFSETTO:-0400
TZNAME:EDT
DTSTART:20240310T070000
END:DAYLIGHT
BEGIN:STANDARD
TZOFFSETFROM:-0400
TZOFFSETTO:-0500
TZNAME:EST
DTSTART:20241103T060000
END:STANDARD
BEGIN:DAYLIGHT
TZOFFSETFROM:-0500
TZOFFSETTO:-0400
TZNAME:EDT
DTSTART:20250309T070000
END:DAYLIGHT
BEGIN:STANDARD
TZOFFSETFROM:-0400
TZOFFSETTO:-0500
TZNAME:EST
DTSTART:20251102T060000
END:STANDARD
BEGIN:DAYLIGHT
TZOFFSETFROM:-0500
TZOFFSETTO:-0400
TZNAME:EDT
DTSTART:20260308T070000
END:DAYLIGHT
BEGIN:STANDARD
TZOFFSETFROM:-0400
TZOFFSETTO:-0500
TZNAME:EST
DTSTART:20261101T060000
END:STANDARD
BEGIN:DAYLIGHT
TZOFFSETFROM:-0500
TZOFFSETTO:-0400
TZNAME:EDT
DTSTART:20270314T070000
END:DAYLIGHT
BEGIN:STANDARD
TZOFFSETFROM:-0400
TZOFFSETTO:-0500
TZNAME:EST
DTSTART:20271107T060000
END:STANDARD
END:VTIMEZONE
BEGIN:VEVENT
DTSTART;TZID=America/New_York:20260413T190000
DTEND;TZID=America/New_York:20260413T190000
DTSTAMP:20260424T153107
CREATED:20260407T172028Z
LAST-MODIFIED:20260407T172028Z
UID:10163531-1776106800-1776106800@newbedfordlight.org
SUMMARY:City Council Finance Committee meeting
DESCRIPTION:The City Council Finance Committee will meet on Monday\, April 13\, at 7 p.m. in the City Council Chamber\, Room 214. \nMembers will review several financial items\, including school funding and updates on city projects. \nAgenda highlights: \n\n Zeiterion Theatre finances and operations update\nProposal to extend benefits for city employees on military leave\nTransfer of over $1.3 million in state aid to the School Department\nEasement agreement with MassDOT for the Route 18 pedestrian bridge\n\nCity officials\, school leaders\, and Zeiterion representatives are expected to attend. The meeting will be live-streamed and recorded.
URL:https://newbedfordlight.org/event/city-council-finance-committee-meeting/
LOCATION:New Bedford City Hall\, 133 William St.\, New Bedford\, MA\, United States
CATEGORIES:City Council,Civic Life,Government,Town Hall
ATTACH;FMTTYPE=image/png:https://newbedfordlight.org/wp-content/uploads/2021/12/nb-city-seal-600w-1-e1761084051305.png
END:VEVENT
BEGIN:VEVENT
DTSTART;TZID=America/New_York:20260408T190000
DTEND;TZID=America/New_York:20260408T190000
DTSTAMP:20260424T153107
CREATED:20260331T155416Z
LAST-MODIFIED:20260331T155416Z
UID:10163431-1775674800-1775674800@newbedfordlight.org
SUMMARY:City Ordinance Committee meeting
DESCRIPTION:The Ordinance Committee meets on Wednesday\, April 8\, 2026\, at 7 p.m. in City Council Chambers at City Hall. \nAgenda Items include : \nA proposal to limit fireworks after 10 p.m. with fines for violations\, and continued discussion of a recall process for elected officials. \nMembers will also review a draft parental leave policy for city employees\, consider zoning changes that could allow some large Residence A properties to be converted into condominiums\, and look at a request for a citywide list of vacant residential lots and ways to address nonconforming parcels. \nThe meeting will be live-streamed and recorded\, and can be found on the City of New Bedford homepage
URL:https://newbedfordlight.org/event/city-ordinance-committee-meeting-3/
LOCATION:New Bedford City Hall\, 133 William St.\, New Bedford\, MA\, United States
CATEGORIES:City Council,Civic Life,Town Hall
ATTACH;FMTTYPE=image/png:https://newbedfordlight.org/wp-content/uploads/2021/12/nb-city-seal-600w-1-e1761084051305.png
END:VEVENT
BEGIN:VEVENT
DTSTART;TZID=America/New_York:20251029T173000
DTEND;TZID=America/New_York:20251029T190000
DTSTAMP:20260424T153107
CREATED:20251027T215310Z
LAST-MODIFIED:20251027T215310Z
UID:10137023-1761759000-1761764400@newbedfordlight.org
SUMMARY:Mayor Mitchell to Hold Office Hours
DESCRIPTION:Mayor Jon Mitchell will hold office hours on Wednesday\, Oct. 29\, from 5:30-7 p.m. at David’s Restaurant\, 70 Church St. \nCity residents are invited to attend and meet with Mayor Mitchell directly and share their concerns and ideas\, as well as a bite to eat. The session is open to all New Bedford residents\, no advance appointments are required\, and meeting with Mayor Mitchell will be done on a first-come\, first-served basis. \n 
URL:https://newbedfordlight.org/event/mayor-mitchell-to-hold-office-hours/
LOCATION:David’s Restaurant\, 70 Church St.\, New Bedford\, MA\, United States
CATEGORIES:Civic Life,Politics,Town Hall
ATTACH;FMTTYPE=image/png:https://newbedfordlight.org/wp-content/uploads/2021/12/nb-city-seal-600w-1-e1761084051305.png
END:VEVENT
END:VCALENDAR