BEGIN:VCALENDAR
VERSION:2.0
PRODID:-//The New Bedford Light - ECPv6.15.20//NONSGML v1.0//EN
CALSCALE:GREGORIAN
METHOD:PUBLISH
X-ORIGINAL-URL:https://newbedfordlight.org
X-WR-CALDESC:Events for The New Bedford Light
REFRESH-INTERVAL;VALUE=DURATION:PT1H
X-Robots-Tag:noindex
X-PUBLISHED-TTL:PT1H
BEGIN:VTIMEZONE
TZID:America/New_York
BEGIN:DAYLIGHT
TZOFFSETFROM:-0500
TZOFFSETTO:-0400
TZNAME:EDT
DTSTART:20250309T070000
END:DAYLIGHT
BEGIN:STANDARD
TZOFFSETFROM:-0400
TZOFFSETTO:-0500
TZNAME:EST
DTSTART:20251102T060000
END:STANDARD
BEGIN:DAYLIGHT
TZOFFSETFROM:-0500
TZOFFSETTO:-0400
TZNAME:EDT
DTSTART:20260308T070000
END:DAYLIGHT
BEGIN:STANDARD
TZOFFSETFROM:-0400
TZOFFSETTO:-0500
TZNAME:EST
DTSTART:20261101T060000
END:STANDARD
BEGIN:DAYLIGHT
TZOFFSETFROM:-0500
TZOFFSETTO:-0400
TZNAME:EDT
DTSTART:20270314T070000
END:DAYLIGHT
BEGIN:STANDARD
TZOFFSETFROM:-0400
TZOFFSETTO:-0500
TZNAME:EST
DTSTART:20271107T060000
END:STANDARD
END:VTIMEZONE
BEGIN:VEVENT
DTSTART;TZID=America/New_York:20260425T100000
DTEND;TZID=America/New_York:20260425T140000
DTSTAMP:20260424T103645
CREATED:20260409T204214Z
LAST-MODIFIED:20260409T204214Z
UID:10163726-1777111200-1777125600@newbedfordlight.org
SUMMARY:Earth Day Volunteer Day at Frogfoot Farm 2026
DESCRIPTION:Earth Day Volunteer Day at Frogfoot Farm is set for Saturday\, April 25\, from 10 a.m. to 2 p.m.\n\nThe program focuses on caring for native plant hedgerows. This work supports pollinators\, improves habitat\, and strengthens the farm’s ecosystem.\n\nVolunteers of all ages are welcome to work with staff. No experience is necessary.\n\nBring weather-appropriate clothing\, closed-toe shoes\, water\, and snacks.\n\nThis year’s event falls during National Volunteer Week and the United Nations International Year of Volunteers. It also marks the International Year of the Woman Farmer.\n\nRegistration is available online. The event is hosted by Marion Institute.
URL:https://newbedfordlight.org/event/earth-day-volunteer-day-at-frogfoot-farm-2026/
LOCATION:Frogfoot Farm\, 146 Tihonet Road\, Wareham\, MA\, United States
CATEGORIES:Civic Life,Earth Day,Environment,volunteering
ATTACH;FMTTYPE=image/jpeg:https://newbedfordlight.org/wp-content/uploads/2026/04/Earth-Day-2026-frogfort.jpg
END:VEVENT
BEGIN:VEVENT
DTSTART;TZID=America/New_York:20260427T173000
DTEND;TZID=America/New_York:20260427T173000
DTSTAMP:20260424T103645
CREATED:20260422T232424Z
LAST-MODIFIED:20260422T232552Z
UID:10163901-1777311000-1777311000@newbedfordlight.org
SUMMARY:Earth Day in Your Home: How Mass Save Can Help
DESCRIPTION:The City of New Bedford and HomeWorks Energy present an information session on how Mass Save incentives can improve home energy efficiency. The program focuses on 2026 offerings that reduce energy use with little to no cost. \nNew Bedford residents may qualify for several no-cost incentives\, including insulation and air sealing. A question-and-answer period is scheduled\, and light refreshments will be served. \n 
URL:https://newbedfordlight.org/event/earth-day-in-your-home-how-mass-save-can-help/
LOCATION:New Bedford Public Library\, 613 Pleasant St\,\, New Bedford\, MA\, United States
CATEGORIES:Civic Life,Earth Day
ATTACH;FMTTYPE=image/jpeg:https://newbedfordlight.org/wp-content/uploads/2026/04/Earth-Day-in-Your-Home-How-Mass-Save-can-Help.jpg
END:VEVENT
END:VCALENDAR