BEGIN:VCALENDAR
VERSION:2.0
PRODID:-//The New Bedford Light - ECPv6.15.20//NONSGML v1.0//EN
CALSCALE:GREGORIAN
METHOD:PUBLISH
X-ORIGINAL-URL:https://newbedfordlight.org
X-WR-CALDESC:Events for The New Bedford Light
REFRESH-INTERVAL;VALUE=DURATION:PT1H
X-Robots-Tag:noindex
X-PUBLISHED-TTL:PT1H
BEGIN:VTIMEZONE
TZID:America/New_York
BEGIN:DAYLIGHT
TZOFFSETFROM:-0500
TZOFFSETTO:-0400
TZNAME:EDT
DTSTART:20250309T070000
END:DAYLIGHT
BEGIN:STANDARD
TZOFFSETFROM:-0400
TZOFFSETTO:-0500
TZNAME:EST
DTSTART:20251102T060000
END:STANDARD
BEGIN:DAYLIGHT
TZOFFSETFROM:-0500
TZOFFSETTO:-0400
TZNAME:EDT
DTSTART:20260308T070000
END:DAYLIGHT
BEGIN:STANDARD
TZOFFSETFROM:-0400
TZOFFSETTO:-0500
TZNAME:EST
DTSTART:20261101T060000
END:STANDARD
BEGIN:DAYLIGHT
TZOFFSETFROM:-0500
TZOFFSETTO:-0400
TZNAME:EDT
DTSTART:20270314T070000
END:DAYLIGHT
BEGIN:STANDARD
TZOFFSETFROM:-0400
TZOFFSETTO:-0500
TZNAME:EST
DTSTART:20271107T060000
END:STANDARD
END:VTIMEZONE
BEGIN:VEVENT
DTSTART;TZID=America/New_York:20260430T120000
DTEND;TZID=America/New_York:20260430T130000
DTSTAMP:20260424T130807
CREATED:20260410T175332Z
LAST-MODIFIED:20260410T175332Z
UID:10163754-1777550400-1777554000@newbedfordlight.org
SUMMARY:Author Book Talk: Dr. Marla R. Miller
DESCRIPTION:A free virtual program with historian Marla R. Miller takes place Thursday\, April 30\, from noon to 1 p.m. Registration is required. \nMiller is a distinguished professor of history at the University of Massachusetts Amherst. Her work focuses on women’s labor before industrialization. The Needle’s Eye won a national award. “Betsy Ross and the Making of America” was a Cundill Prize finalist and named a Washington Post Best Book. \nThe talk centers on Entangled Lives. The book follows women’s work in late 18th-century Hadley\, Massachusetts. It looks at daily life across race and class\, from domestic service to skilled trades. Stories show both limits and opportunities\, and connect local lives to broader economic change.
URL:https://newbedfordlight.org/event/author-book-talk-dr-marla-r-miller/
LOCATION:New Bedford Whaling Museum\, 18 Johnny Cake Hill\, New Bedford\, MA\, United States
CATEGORIES:Book Talk,Culture Calendar,Whaling Museum
ATTACH;FMTTYPE=image/jpeg:https://newbedfordlight.org/wp-content/uploads/2026/04/marla-miller.jpg
END:VEVENT
BEGIN:VEVENT
DTSTART;TZID=America/New_York:20260519T183000
DTEND;TZID=America/New_York:20260519T193000
DTSTAMP:20260424T130807
CREATED:20260415T012242Z
LAST-MODIFIED:20260415T012242Z
UID:10163795-1779215400-1779219000@newbedfordlight.org
SUMMARY:Social Justice Book Club
DESCRIPTION:A discussion on Yellowface by R. F. Kuang is scheduled for Tuesday\, May 19\, from 6:30 to 7:30 p.m. The program is open to adults 18 and older. \nThe novel follows a writer who claims another author’s work as her own. It explores identity\, racism\, cultural appropriation\, and the pressures of social media. \nCopies are available at the New Bedford Free Public Library downtown circulation desk\, with no wait. A one-month loan period is offered for book club readers. Call 508-991-6278 for information.
URL:https://newbedfordlight.org/event/social-justice-book-club-3/
LOCATION:New Bedford Free Library\, 613 Pleasant Street\, New Bedford\, MA\, 02740\, United States
CATEGORIES:Book Talk,Books,Culture Calendar,Free
ATTACH;FMTTYPE=image/jpeg:https://newbedfordlight.org/wp-content/uploads/2026/04/May-2026-BOOK-CLUB-FLYER.jpg
END:VEVENT
BEGIN:VEVENT
DTSTART;TZID=America/New_York:20260527T130000
DTEND;TZID=America/New_York:20260527T130000
DTSTAMP:20260424T130807
CREATED:20260423T145313Z
LAST-MODIFIED:20260423T145313Z
UID:10163906-1779886800-1779886800@newbedfordlight.org
SUMMARY:The Noisy Puddle: Storytime & Nature Exploration with Linda Booth Sweeney
DESCRIPTION:Elizabeth Taber Library welcomes  author Linda Booth Sweeney\, writer of “The Noisy Puddle\,” a Massachusetts Book Awards winner. The program is designed for young children and caregivers. \nThe program begins with a read-aloud and an author talk. Families then head upstairs to the Marion Natural History Museum to explore vernal pools and their ecosystems. \nSupport comes from the Mass Book Awards Speakers Bureau and the Massachusetts Center for the Book. \nSweeney’s work blends story\, art\, and science. Other titles include “Monument Maker” and “Apart\, Together. Do Bees Pee?” is due out in June 2026.
URL:https://newbedfordlight.org/event/the-noisy-puddle-storytime-nature-exploration-with-linda-booth-sweeney/
LOCATION:Elizabeth Taber Library\, 8 Spring St.\, Marion\, MA\, 02738\, United States
CATEGORIES:Book Talk,Books,Culture Calendar
ATTACH;FMTTYPE=image/jpeg:https://newbedfordlight.org/wp-content/uploads/2026/04/Linda-Booth-Sweeney.jpg
END:VEVENT
BEGIN:VEVENT
DTSTART;TZID=America/New_York:20260611T180000
DTEND;TZID=America/New_York:20260611T180000
DTSTAMP:20260424T130807
CREATED:20260410T161346Z
LAST-MODIFIED:20260410T161346Z
UID:10163747-1781200800-1781200800@newbedfordlight.org
SUMMARY:Bestselling Author Ruta Sepetys to Speak in Mattapoisett
DESCRIPTION:The Mattapoisett Free Public Library hosts internationally bestselling author Ruta Sepetys on June 11 at 6 p.m. at the Mattapoisett Congregational Church.\n\nThe first 100 registered attendees will receive a free copy of her new novel\, “A Fortune of Sand.”
URL:https://newbedfordlight.org/event/bestselling-author-ruta-sepetys-to-speak-in-mattapoisett/
LOCATION:Mattapoisett Library\, 7 Barstow Street\, Mattapoisett\, MA\, 02739\, United States
CATEGORIES:Book Talk,Books,Culture Calendar,Free,Talk
ATTACH;FMTTYPE=image/jpeg:https://newbedfordlight.org/wp-content/uploads/2026/04/Ruta-Sepetys.jpg
END:VEVENT
BEGIN:VEVENT
DTSTART;TZID=America/New_York:20260624T180000
DTEND;TZID=America/New_York:20260624T203000
DTSTAMP:20260424T130807
CREATED:20260410T181817Z
LAST-MODIFIED:20260410T181817Z
UID:10163757-1782324000-1782333000@newbedfordlight.org
SUMMARY:Author Talk with Carl Hoffman
DESCRIPTION:Spinner Publications marks 45 years with an Author Talk featuring bestselling author Carl Hoffman. Wednesday\, June 24\, from 6 to 8:30 p.m. at the Wamsutta Club in New Bedford. \nHoffman will discuss “Savage Harvest\,” his investigation into the 1961 disappearance of Michael Rockefeller. The talk includes slides\, video\, and a Q&A. A meet-and-greet will follow\, with light fare and a cash bar. Books will be available for purchase and signing. \nTickets are $35. Reservations are available online or by phone.
URL:https://newbedfordlight.org/event/author-talk-with-carl-hoffman/
LOCATION:Wamsutta Club\, 427 County St.\, New Bedford\, MA\, United States
CATEGORIES:Book Talk,Culture Calendar,Wamsutta Club
ATTACH;FMTTYPE=image/jpeg:https://newbedfordlight.org/wp-content/uploads/2026/04/Hoffman_by_Richard_Kerris-1.jpg
END:VEVENT
END:VCALENDAR