BEGIN:VCALENDAR
VERSION:2.0
PRODID:-//The New Bedford Light - ECPv6.15.20//NONSGML v1.0//EN
CALSCALE:GREGORIAN
METHOD:PUBLISH
X-ORIGINAL-URL:https://newbedfordlight.org
X-WR-CALDESC:Events for The New Bedford Light
REFRESH-INTERVAL;VALUE=DURATION:PT1H
X-Robots-Tag:noindex
X-PUBLISHED-TTL:PT1H
BEGIN:VTIMEZONE
TZID:America/New_York
BEGIN:DAYLIGHT
TZOFFSETFROM:-0500
TZOFFSETTO:-0400
TZNAME:EDT
DTSTART:20240310T070000
END:DAYLIGHT
BEGIN:STANDARD
TZOFFSETFROM:-0400
TZOFFSETTO:-0500
TZNAME:EST
DTSTART:20241103T060000
END:STANDARD
BEGIN:DAYLIGHT
TZOFFSETFROM:-0500
TZOFFSETTO:-0400
TZNAME:EDT
DTSTART:20250309T070000
END:DAYLIGHT
BEGIN:STANDARD
TZOFFSETFROM:-0400
TZOFFSETTO:-0500
TZNAME:EST
DTSTART:20251102T060000
END:STANDARD
BEGIN:DAYLIGHT
TZOFFSETFROM:-0500
TZOFFSETTO:-0400
TZNAME:EDT
DTSTART:20260308T070000
END:DAYLIGHT
BEGIN:STANDARD
TZOFFSETFROM:-0400
TZOFFSETTO:-0500
TZNAME:EST
DTSTART:20261101T060000
END:STANDARD
BEGIN:DAYLIGHT
TZOFFSETFROM:-0500
TZOFFSETTO:-0400
TZNAME:EDT
DTSTART:20270314T070000
END:DAYLIGHT
BEGIN:STANDARD
TZOFFSETFROM:-0400
TZOFFSETTO:-0500
TZNAME:EST
DTSTART:20271107T060000
END:STANDARD
END:VTIMEZONE
BEGIN:VEVENT
DTSTART;TZID=America/New_York:20260421T183000
DTEND;TZID=America/New_York:20260421T203000
DTSTAMP:20260424T152320
CREATED:20260406T182105Z
LAST-MODIFIED:20260406T182105Z
UID:10163519-1776796200-1776803400@newbedfordlight.org
SUMMARY:BYOBook Club at the RJD
DESCRIPTION:BYOBook Club is a pop-up reading community in New Bedford. Participants bring a book\, magazine\, or other reading material.\n\nThe first hour is for silent reading\, followed by group discussion. The final half hour features a guest author.\n\nThe meeting is on Tuesday\, March 24\, from 6:30 to 8:30 p.m. It is free\, but registration is required.
URL:https://newbedfordlight.org/event/byobook-club-at-the-rjd/
LOCATION:Rotch-Jones-Duff House and Garden Museum\, 396 County St.\, New Bedford\, MA\, 02740\, United States
CATEGORIES:Book Talk,Books,Culture Calendar,Rotch-Jones-Duff House
ATTACH;FMTTYPE=image/jpeg:https://newbedfordlight.org/wp-content/uploads/2026/01/byobook-club-300x300-1.jpg
END:VEVENT
BEGIN:VEVENT
DTSTART;TZID=America/New_York:20260419T160000
DTEND;TZID=America/New_York:20260419T173000
DTSTAMP:20260424T152320
CREATED:20260410T173312Z
LAST-MODIFIED:20260410T173312Z
UID:10163752-1776614400-1776619800@newbedfordlight.org
SUMMARY:Author Forum: "Abolishing War" with Dr. Winston Langley
DESCRIPTION:Author Forum: “Abolishing War” with Dr. Winston Langley debates whether war can be eliminated in today’s global climate. Langley argues that peace and international security are achievable. Sunday\, April 19\, 4 to 5:30 p.m.\, at the Unitarian Universalist Society of Fairhaven. Admission is free.\n\nLangley will discuss the book\, followed by a conversation with Dr. Deborah Winslow Nutter and a Q&A.\n\nA professor emeritus of political science and international relations at the University of Massachusetts Boston\, Langley brings decades of experience. Nutter is a former senior associate dean and professor at Tufts University’s Fletcher School of Law and Diplomacy.\n\nCo-sponsored by Friends of Kalangarai and the Unitarian Universalist Society of Fairhaven.
URL:https://newbedfordlight.org/event/author-forum-abolishing-war-with-dr-winston-langley/
LOCATION:Unitarian Universalist Society of Fairhaven\, 102 Green Street\, Fairhaven\, MA\, 02719\, United States
CATEGORIES:Book Talk,Books,Civic Life,Free
ATTACH;FMTTYPE=image/jpeg:https://newbedfordlight.org/wp-content/uploads/2026/04/abolishing-war.jpg
END:VEVENT
BEGIN:VEVENT
DTSTART;TZID=America/New_York:20260417T120000
DTEND;TZID=America/New_York:20260417T130000
DTSTAMP:20260424T152320
CREATED:20260406T174638Z
LAST-MODIFIED:20260406T174638Z
UID:10163512-1776427200-1776430800@newbedfordlight.org
SUMMARY:Author Book Talk: Erin Pauwels at the Whaling Museum
DESCRIPTION:This free virtual program is on Friday\, April 17\, from noon to 1 p.m.\, at the New Bedford Whaling Museum. Prior registration is required. \nArt historian Erin Pauwels will talk about her new book\, “Napoleon Sarony’s Living Pictures: The Celebrity Photograph in Gilded Age New York.” \nPauwels teaches at Tyler School of Art at Temple University. Her work looks at photography\, visual culture\, and how images shape public life. \nThe book tells the story of Napoleon Sarony\, a star portrait photographer in Gilded Age New York. His studio attracted well-known figures such as Oscar Wilde\, Sarah Bernhardt\, and Mark Twain. \nPauwels explores how celebrity culture and mass media helped photography gain status as art\, and how Sarony helped shape that shift.
URL:https://newbedfordlight.org/event/author-book-talk-erin-pauwels-at-the-whaling-museum/
LOCATION:New Bedford Whaling Museum\, 18 Johnny Cake Hill\, New Bedford\, MA\, United States
CATEGORIES:Book Talk,Books,Culture Calendar,Photography,Talk,Whaling Museum
ATTACH;FMTTYPE=image/jpeg:https://newbedfordlight.org/wp-content/uploads/2026/04/Erin-Pauwels.jpg
END:VEVENT
BEGIN:VEVENT
DTSTART;TZID=America/New_York:20260330T180000
DTEND;TZID=America/New_York:20260330T200000
DTSTAMP:20260424T152320
CREATED:20260201T202558Z
LAST-MODIFIED:20260201T202558Z
UID:10154149-1774893600-1774900800@newbedfordlight.org
SUMMARY:ArtREADS: Art & Literature Book Club — You Dreamed of Empires
DESCRIPTION:ArtReads\, the Art Museum’s book club\, meets Monday\, March 30\, from 6 to 8 p.m. Conversation centers on “You Dreamed of Empires” by Álvaro Enrigue*. Readers are encouraged to finish the book in advance. \nDesigned as a relaxed\, discussion-based gathering\, ArtReads connects literature and art. Shared ideas guide the conversation. Time is set aside for listening and reflection in a museum setting. \nSet in 1519\, the novel follows Hernán Cortés as he enters Tenochtitlan. Perspectives shift as two worlds meet. Power\, belief\, and uncertainty drive the tension. History and imagination mingle in a vivid retelling of conquest and what might have been.
URL:https://newbedfordlight.org/event/artreads-art-literature-book-club-you-dreamed-of-empires/
LOCATION:New Bedford Art Museum\, 608 Pleasant St.\, New Bedford\, MA\, United States
CATEGORIES:Art,Art Museum,Book Talk,Books,Culture Calendar
ATTACH;FMTTYPE=image/jpeg:https://newbedfordlight.org/wp-content/uploads/2026/02/ArtREADS-March.jpg
END:VEVENT
BEGIN:VEVENT
DTSTART;TZID=America/New_York:20260317T183000
DTEND;TZID=America/New_York:20260317T193000
DTSTAMP:20260424T152320
CREATED:20260212T181612Z
LAST-MODIFIED:20260212T181612Z
UID:10155085-1773772200-1773775800@newbedfordlight.org
SUMMARY:Social Justice Book Club: We Should All Be Feminists
DESCRIPTION:Social Justice Book Club will discuss We Should All Be Feminists by Chimamanda Ngozi Adichie on March 17 from 6:30 to 7:30 p.m. \nInspired by Adichie’s well-known TEDx talk\, the essay offers a modern definition of feminism and reflects on gender\, culture\, and personal experience. Through clear\, direct storytelling\, Adichie examines what it means to be a woman today and calls for a more inclusive understanding of equality. \nAdults 18 and older are welcome. Copies are available at the New Bedford Downtown Library Circulation Desk with no wait list. Book club participants receive a one-month loan period. \nCall 508-991-6278 for more information.
URL:https://newbedfordlight.org/event/social-justice-book-club-we-should-all-be-feminists/
LOCATION:New Bedford Public Library\, 613 Pleasant St\,\, New Bedford\, MA\, United States
CATEGORIES:Book Talk,Books,Culture Calendar,Free
ATTACH;FMTTYPE=image/jpeg:https://newbedfordlight.org/wp-content/uploads/2026/02/MARCH-2026-BOOK-CLUB-FLYER-1.jpg
END:VEVENT
BEGIN:VEVENT
DTSTART;TZID=America/New_York:20260312T180000
DTEND;TZID=America/New_York:20260312T180000
DTSTAMP:20260424T152320
CREATED:20260217T170146Z
LAST-MODIFIED:20260217T170146Z
UID:10155150-1773338400-1773338400@newbedfordlight.org
SUMMARY:Book Discussion by Author Ieva Jusionyte
DESCRIPTION:Boston-based author Ieva Jusionyte will visit First Unitarian Church on Thursday\, March 12\, at 6 p.m.\, as part of New Bedford’s AHA! Night. \nJusionyte will discuss her book\, “Exit Wounds: How America’s Guns Fuel Violence Across the Border\,” a Massachusetts Book Awards Nonfiction Honors title. She will talk about how firearms purchased in the U.S. make their way into Mexico and the toll that trade takes on communities. Audience Q&A and book signing will follow. \nResearch draws on interviews with federal agents\, arms traffickers\, and people directly affected by border violence. Narrative blends reporting with personal stories. \nThe program is sponsored by the Mass Book Awards Speakers Bureau\, in collaboration with the Massachusetts Center for the Book. \nJusionyte is a legal anthropologist and MacArthur Fellow. She serves as Watson Family University Professor of International Security and Anthropology and directs the Center for Human Rights and Humanitarian Studies at Brown University.
URL:https://newbedfordlight.org/event/book-discussion-by-author-ieva-jusionyte/
LOCATION:First Unitarian Church in New Bedford\, 71 8th St.\, New Bedford\, MA\, United States
CATEGORIES:AHA!,Book Talk,Books,Culture Calendar,Discussion
ATTACH;FMTTYPE=image/jpeg:https://newbedfordlight.org/wp-content/uploads/2026/02/Ieva-Jusionyte.jpg
END:VEVENT
BEGIN:VEVENT
DTSTART;TZID=America/New_York:20260226T130000
DTEND;TZID=America/New_York:20260226T140000
DTSTAMP:20260424T152320
CREATED:20260218T204351Z
LAST-MODIFIED:20260218T204351Z
UID:10155185-1772110800-1772114400@newbedfordlight.org
SUMMARY:Book Discussion: Author Jeffrey C. Fuhrer
DESCRIPTION:Author Jeffrey C. Fuhrer will discuss his book “The Myth That Made Us: How False Beliefs about Racism and Meritocracy Broke Our Economy and How to Fix It” on Thursday\, Feb. 26\, from 1 to 2 p.m. The virtual program is free with registration.\n\nFührer is a nonresident senior fellow in Governance Studies at the Brookings Institution and a foundation fellow with the Eastern Bank Foundation. He previously served as director of research and executive vice president at the Federal Reserve Bank of Boston and has held roles with the Federal Reserve System and the Harvard Kennedy School.\n\nThe book examines how narratives about race\, meritocracy\, and limited government shaped the U.S. economy and contributed to wealth gaps. The Führer argues that policy changes\, community investment\, and expanded opportunity can help address disparities.
URL:https://newbedfordlight.org/event/book-discussion-author-jeffrey-c-fuhrer/
LOCATION:New Bedford Whaling Museum\, 18 Johnny Cake Hill\, New Bedford\, MA\, United States
CATEGORIES:Book Talk,Books,Culture Calendar,Discussion,Whaling Museum
ATTACH;FMTTYPE=image/jpeg:https://newbedfordlight.org/wp-content/uploads/2026/02/jeff-fuhrer.jpg
END:VEVENT
BEGIN:VEVENT
DTSTART;TZID=America/New_York:20260131T130000
DTEND;TZID=America/New_York:20260131T130000
DTSTAMP:20260424T152320
CREATED:20260127T181745Z
LAST-MODIFIED:20260127T181745Z
UID:10153538-1769864400-1769864400@newbedfordlight.org
SUMMARY:Story Time With Local Author Stefanie Foster Brown
DESCRIPTION:Local author Stefanie Foster Brown will lead a family-friendly story time featuring her new book\, My Heart Speaks Kriolu\, at 1 p.m. Saturday\, Jan. 31\, in Youth Services at the New Bedford Free Public Library.\n\nThe reading highlights language\, culture\, and identity in a way that’s welcoming for young listeners and their caregivers.\n\nTime is also set aside to talk about the story and its inspiration.
URL:https://newbedfordlight.org/event/story-time-with-local-author-stefanie-foster-brown/
LOCATION:New Bedford Free Library\, 613 Pleasant Street\, New Bedford\, MA\, 02740\, United States
CATEGORIES:Book Talk,Books,Culture Calendar
ATTACH;FMTTYPE=image/jpeg:https://newbedfordlight.org/wp-content/uploads/2026/01/my-heart-speaks-kriolu.jpg
END:VEVENT
BEGIN:VEVENT
DTSTART;TZID=America/New_York:20260120T183000
DTEND;TZID=America/New_York:20260120T193000
DTSTAMP:20260424T152320
CREATED:20251218T171659Z
LAST-MODIFIED:20251218T171659Z
UID:10148026-1768933800-1768937400@newbedfordlight.org
SUMMARY:Social Justice Book Club
DESCRIPTION:The Social Justice Book Club is back for 2026. The discussion is on Tuesday\, Jan. 20\, from 6:30 to 7:30 p.m. at the New Bedford Main Library. \nThe group will discuss Sula by Toni Morrison. Copies are available at the Downtown Library circulation desk. A one-month rental period is provided for adult book club participants. \nQuestions may be directed to 508-991-6278.
URL:https://newbedfordlight.org/event/social-justice-book-club-2/
LOCATION:New Bedford Public Library\, 613 Pleasant St\,\, New Bedford\, MA\, United States
CATEGORIES:Book Talk,Books,Civic Life
ATTACH;FMTTYPE=image/jpeg:https://newbedfordlight.org/wp-content/uploads/2025/12/social-justice-book-club-2026.jpg
END:VEVENT
BEGIN:VEVENT
DTSTART;TZID=America/New_York:20251206T130000
DTEND;TZID=America/New_York:20251206T130000
DTSTAMP:20260424T152320
CREATED:20251120T185824Z
LAST-MODIFIED:20251120T185824Z
UID:10146162-1765026000-1765026000@newbedfordlight.org
SUMMARY:SHIPWRECK! Horseneck Point Lifesaving Station & South Coast Rescuers
DESCRIPTION:Spinner Publications and Gay Gillespie will hold a talk and book signing on Saturday\, Dec. 6\, at 1 p.m. at the Acushnet Public Library. The program features “Shipwreck! Horseneck Point Lifesaving Station and South Coast Rescuers.” The book examines the history of local lifesavers who braved rough waters and worked to rescue stranded sailors. \nResearch for the project began with Gillespie’s husband\, Chip\, and family friend Howie Gifford. Both helped lead the restoration of Horseneck Point Station No. 69. Gillespie later gathered their work and approached Spinner Publications. She then invited Chip McGrath to write the book. \nThe event is free and open to the public. \nSupport for “Shipwreck!” came from the Westport Cultural Council Community Grants\, the Helen E. Ellis Charitable Trust\, Bank of America\, the Westport Community Gift Fund\, and the Buzzards Bay Coalition.
URL:https://newbedfordlight.org/event/shipwreck-horseneck-point-lifesaving-station-south-coast-rescuers/
LOCATION:Acushnet Public Library\, 232 Middle Road\, Acushnet\, MA\, 02743\, United States
CATEGORIES:Book Talk,Culture Calendar,Talk
ATTACH;FMTTYPE=image/jpeg:https://newbedfordlight.org/wp-content/uploads/2025/11/shipwreck.jpg
END:VEVENT
BEGIN:VEVENT
DTSTART;TZID=America/New_York:20251125T183000
DTEND;TZID=America/New_York:20251125T193000
DTSTAMP:20260424T152320
CREATED:20251027T223855Z
LAST-MODIFIED:20251027T223855Z
UID:10137026-1764095400-1764099000@newbedfordlight.org
SUMMARY:Social Justice Book Club
DESCRIPTION:A discussion of James Baldwin’s “If Beale Street Could Talk” will take place at the New Bedford Downtown Library on Tuesday\, Nov. 25\, 2025\, from 6:30 to 7:30 p.m. It is open to adults 18 and older. \nThe novel follows 19-year-old Tish and her love\, Fonny\, a young sculptor falsely accused of a crime. It explores love\, injustice\, and hope through their families’ fight to prove his innocence. \nCopies of the book are available at the library circulation desk for participants to rent for one month. Call 508-991-6278 with questions.
URL:https://newbedfordlight.org/event/social-justice-book-club/
LOCATION:New Bedford Free Library\, 613 Pleasant Street\, New Bedford\, MA\, 02740\, United States
CATEGORIES:Book Talk,Books,Civic Life,Free,Social Justice
ATTACH;FMTTYPE=image/jpeg:https://newbedfordlight.org/wp-content/uploads/2025/10/NOV-2025-BOOK-CLUB-FLYER.jpg
END:VEVENT
BEGIN:VEVENT
DTSTART;TZID=America/New_York:20251106T180000
DTEND;TZID=America/New_York:20251106T180000
DTSTAMP:20260424T152320
CREATED:20251102T201856Z
LAST-MODIFIED:20251102T201856Z
UID:10140877-1762452000-1762452000@newbedfordlight.org
SUMMARY:The Captains' Coup: Activist Journalism on the Portuguese Revolution
DESCRIPTION:Professors Daniela Melo and Timothy Walker will present highlights from their new scholarly edition. The illustrated talk explores the role of activist journalism in documenting the downfall of Europe’s longest-standing dictatorship\, and the grassroots mobilization that made it possible. \nDoor open at 5 p.m.\, tickets are $10.
URL:https://newbedfordlight.org/event/the-captains-coup-activist-journalism-on-the-portuguese-revolution/
LOCATION:New Bedford Whaling Museum\, 18 Johnny Cake Hill\, New Bedford\, MA\, United States
CATEGORIES:Book Talk,Culture Calendar,Whaling Museum
ATTACH;FMTTYPE=image/jpeg:https://newbedfordlight.org/wp-content/uploads/2025/11/captains-coup.jpg
END:VEVENT
END:VCALENDAR