BEGIN:VCALENDAR
VERSION:2.0
PRODID:-//The New Bedford Light - ECPv6.15.20//NONSGML v1.0//EN
CALSCALE:GREGORIAN
METHOD:PUBLISH
X-WR-CALNAME:The New Bedford Light
X-ORIGINAL-URL:https://newbedfordlight.org
X-WR-CALDESC:Events for The New Bedford Light
REFRESH-INTERVAL;VALUE=DURATION:PT1H
X-Robots-Tag:noindex
X-PUBLISHED-TTL:PT1H
BEGIN:VTIMEZONE
TZID:America/New_York
BEGIN:DAYLIGHT
TZOFFSETFROM:-0500
TZOFFSETTO:-0400
TZNAME:EDT
DTSTART:20250309T070000
END:DAYLIGHT
BEGIN:STANDARD
TZOFFSETFROM:-0400
TZOFFSETTO:-0500
TZNAME:EST
DTSTART:20251102T060000
END:STANDARD
BEGIN:DAYLIGHT
TZOFFSETFROM:-0500
TZOFFSETTO:-0400
TZNAME:EDT
DTSTART:20260308T070000
END:DAYLIGHT
BEGIN:STANDARD
TZOFFSETFROM:-0400
TZOFFSETTO:-0500
TZNAME:EST
DTSTART:20261101T060000
END:STANDARD
BEGIN:DAYLIGHT
TZOFFSETFROM:-0500
TZOFFSETTO:-0400
TZNAME:EDT
DTSTART:20270314T070000
END:DAYLIGHT
BEGIN:STANDARD
TZOFFSETFROM:-0400
TZOFFSETTO:-0500
TZNAME:EST
DTSTART:20271107T060000
END:STANDARD
END:VTIMEZONE
BEGIN:VEVENT
DTSTART;TZID=America/New_York:20260423T130000
DTEND;TZID=America/New_York:20260423T160000
DTSTAMP:20260419T113251
CREATED:20260418T000607Z
LAST-MODIFIED:20260418T000607Z
UID:10163819-1776949200-1776960000@newbedfordlight.org
SUMMARY:Westport Art Group's Spring Show
DESCRIPTION:Embark on a creative adventure at Westport Art Group’s spring show\, “Journeys\,” launching April 23 from 1 to 4 p.m. at its gallery\, 1740 Main Road\, Westport Point. The exhibit runs through May 10\, Thursdays through Sundays. Artists interpret the theme in a range of media.\n\nAdmission is free and open to the public. Visitors can meet participating artists. Refreshments will be served.\n\nThis judged show features awards from David Barnes\, visual art professor at Bristol Community College and UMass Dartmouth\, whose work centers on landscapes and spaces in transition. Additional sponsor prizes come from Jeffrey of Westport and Manchester Interiors.\n\nThe exhibit is part of ArtWeek SouthCoast.
URL:https://newbedfordlight.org/event/westport-art-groups-spring-show/
LOCATION:Westport Art Group\, 1740 Main Road\, Westport\, MA\, United States
CATEGORIES:Art,ArtWeek Southcoast,Culture Calendar,Exhibition,Open House
ATTACH;FMTTYPE=image/jpeg:https://newbedfordlight.org/wp-content/uploads/2026/04/2026-04-journeysshow-monteiro-nelson.jpg
END:VEVENT
END:VCALENDAR